BEGIN:VCALENDAR
VERSION:2.0
PRODID:-//TV 1881 Altdorf e.V. - ECPv6.15.20//NONSGML v1.0//EN
CALSCALE:GREGORIAN
METHOD:PUBLISH
X-WR-CALNAME:TV 1881 Altdorf e.V.
X-ORIGINAL-URL:https://tv1881altdorf.de
X-WR-CALDESC:Veranstaltungen für TV 1881 Altdorf e.V.
REFRESH-INTERVAL;VALUE=DURATION:PT1H
X-Robots-Tag:noindex
X-PUBLISHED-TTL:PT1H
BEGIN:VTIMEZONE
TZID:Europe/Berlin
BEGIN:DAYLIGHT
TZOFFSETFROM:+0100
TZOFFSETTO:+0200
TZNAME:CEST
DTSTART:20210328T010000
END:DAYLIGHT
BEGIN:STANDARD
TZOFFSETFROM:+0200
TZOFFSETTO:+0100
TZNAME:CET
DTSTART:20211031T010000
END:STANDARD
BEGIN:DAYLIGHT
TZOFFSETFROM:+0100
TZOFFSETTO:+0200
TZNAME:CEST
DTSTART:20220327T010000
END:DAYLIGHT
BEGIN:STANDARD
TZOFFSETFROM:+0200
TZOFFSETTO:+0100
TZNAME:CET
DTSTART:20221030T010000
END:STANDARD
BEGIN:DAYLIGHT
TZOFFSETFROM:+0100
TZOFFSETTO:+0200
TZNAME:CEST
DTSTART:20230326T010000
END:DAYLIGHT
BEGIN:STANDARD
TZOFFSETFROM:+0200
TZOFFSETTO:+0100
TZNAME:CET
DTSTART:20231029T010000
END:STANDARD
END:VTIMEZONE
BEGIN:VEVENT
DTSTART;VALUE=DATE:20220507
DTEND;VALUE=DATE:20220508
DTSTAMP:20260425T124728
CREATED:20220319T090933Z
LAST-MODIFIED:20220319T091719Z
UID:5819-1651881600-1651967999@tv1881altdorf.de
SUMMARY:Radtour
DESCRIPTION:Wir starten in Alt­dorf und machen eine Tages­tour mit dem Fahrrad. Mit­tags Einkehr in einem Gasthaus.
URL:https://tv1881altdorf.de/event/radtour-2022
CATEGORIES:Leichtathletik
END:VEVENT
BEGIN:VEVENT
DTSTART;TZID=Europe/Berlin:20220507T190000
DTEND;TZID=Europe/Berlin:20220507T203000
DTSTAMP:20260425T124728
CREATED:20220501T132751Z
LAST-MODIFIED:20220501T132751Z
UID:6064-1651950000-1651955400@tv1881altdorf.de
SUMMARY:Handball Nabburg/Schwarzenfeld gegen Herren 1
DESCRIPTION:
URL:https://tv1881altdorf.de/event/handball-nabburg-schwarzenfeld-gegen-herren-1
CATEGORIES:Handball,Herren I
END:VEVENT
END:VCALENDAR