BEGIN:VCALENDAR
VERSION:2.0
PRODID:-//TV 1881 Altdorf e.V. - ECPv6.15.20//NONSGML v1.0//EN
CALSCALE:GREGORIAN
METHOD:PUBLISH
X-ORIGINAL-URL:https://tv1881altdorf.de
X-WR-CALDESC:Veranstaltungen für TV 1881 Altdorf e.V.
REFRESH-INTERVAL;VALUE=DURATION:PT1H
X-Robots-Tag:noindex
X-PUBLISHED-TTL:PT1H
BEGIN:VTIMEZONE
TZID:Europe/Berlin
BEGIN:DAYLIGHT
TZOFFSETFROM:+0100
TZOFFSETTO:+0200
TZNAME:CEST
DTSTART:20210328T010000
END:DAYLIGHT
BEGIN:STANDARD
TZOFFSETFROM:+0200
TZOFFSETTO:+0100
TZNAME:CET
DTSTART:20211031T010000
END:STANDARD
BEGIN:DAYLIGHT
TZOFFSETFROM:+0100
TZOFFSETTO:+0200
TZNAME:CEST
DTSTART:20220327T010000
END:DAYLIGHT
BEGIN:STANDARD
TZOFFSETFROM:+0200
TZOFFSETTO:+0100
TZNAME:CET
DTSTART:20221030T010000
END:STANDARD
BEGIN:DAYLIGHT
TZOFFSETFROM:+0100
TZOFFSETTO:+0200
TZNAME:CEST
DTSTART:20230326T010000
END:DAYLIGHT
BEGIN:STANDARD
TZOFFSETFROM:+0200
TZOFFSETTO:+0100
TZNAME:CET
DTSTART:20231029T010000
END:STANDARD
END:VTIMEZONE
BEGIN:VEVENT
DTSTART;TZID=Europe/Berlin:20220514T160000
DTEND;TZID=Europe/Berlin:20220514T173000
DTSTAMP:20260425T124840
CREATED:20220501T132108Z
LAST-MODIFIED:20220501T132108Z
UID:6056-1652544000-1652549400@tv1881altdorf.de
SUMMARY:Handball Damen gegen SG Regensburg
DESCRIPTION:
URL:https://tv1881altdorf.de/event/handball-damen-gegen-sg-regensburg
LOCATION:Altdorf bei Nürnberg
CATEGORIES:Damen,Handball
END:VEVENT
BEGIN:VEVENT
DTSTART;TZID=Europe/Berlin:20220514T180000
DTEND;TZID=Europe/Berlin:20220514T180000
DTSTAMP:20260425T124840
CREATED:20220501T132949Z
LAST-MODIFIED:20220501T132949Z
UID:6066-1652551200-1652551200@tv1881altdorf.de
SUMMARY:Handball Herren 1 gegen Obertraubling
DESCRIPTION:
URL:https://tv1881altdorf.de/event/handball-herren-1-gegen-obertraubling
CATEGORIES:Handball,Herren I
END:VEVENT
END:VCALENDAR