BEGIN:VCALENDAR
VERSION:2.0
PRODID:-//TV 1881 Altdorf e.V. - ECPv6.15.20//NONSGML v1.0//EN
CALSCALE:GREGORIAN
METHOD:PUBLISH
X-ORIGINAL-URL:https://tv1881altdorf.de
X-WR-CALDESC:Veranstaltungen für TV 1881 Altdorf e.V.
REFRESH-INTERVAL;VALUE=DURATION:PT1H
X-Robots-Tag:noindex
X-PUBLISHED-TTL:PT1H
BEGIN:VTIMEZONE
TZID:Europe/Berlin
BEGIN:DAYLIGHT
TZOFFSETFROM:+0100
TZOFFSETTO:+0200
TZNAME:CEST
DTSTART:20210328T010000
END:DAYLIGHT
BEGIN:STANDARD
TZOFFSETFROM:+0200
TZOFFSETTO:+0100
TZNAME:CET
DTSTART:20211031T010000
END:STANDARD
BEGIN:DAYLIGHT
TZOFFSETFROM:+0100
TZOFFSETTO:+0200
TZNAME:CEST
DTSTART:20220327T010000
END:DAYLIGHT
BEGIN:STANDARD
TZOFFSETFROM:+0200
TZOFFSETTO:+0100
TZNAME:CET
DTSTART:20221030T010000
END:STANDARD
BEGIN:DAYLIGHT
TZOFFSETFROM:+0100
TZOFFSETTO:+0200
TZNAME:CEST
DTSTART:20230326T010000
END:DAYLIGHT
BEGIN:STANDARD
TZOFFSETFROM:+0200
TZOFFSETTO:+0100
TZNAME:CET
DTSTART:20231029T010000
END:STANDARD
END:VTIMEZONE
BEGIN:VEVENT
DTSTART;TZID=Europe/Berlin:20221029T160000
DTEND;TZID=Europe/Berlin:20221029T173000
DTSTAMP:20260425T051421
CREATED:20220831T163656Z
LAST-MODIFIED:20220831T163656Z
UID:6662-1667059200-1667064600@tv1881altdorf.de
SUMMARY:Handball Damen : HV Oberviechtach
DESCRIPTION:
URL:https://tv1881altdorf.de/event/handball-damen-hv-oberviechtach
LOCATION:Altdorf bei Nürnberg
CATEGORIES:Allgemein,Damen,Handball
ORGANIZER;CN="Die Handballer":MAILTO:abteilungsleiter@diehandballer.de
END:VEVENT
BEGIN:VEVENT
DTSTART;TZID=Europe/Berlin:20221029T180000
DTEND;TZID=Europe/Berlin:20221029T193000
DTSTAMP:20260425T051421
CREATED:20220831T181923Z
LAST-MODIFIED:20220831T183120Z
UID:6746-1667066400-1667071800@tv1881altdorf.de
SUMMARY:Handball Herren I : HV Oberviechtach
DESCRIPTION:
URL:https://tv1881altdorf.de/event/handball-herrn-i-hv-oberviechtach
LOCATION:Altdorf bei Nürnberg
CATEGORIES:Allgemein,Handball,Herren I
ORGANIZER;CN="Die Handballer":MAILTO:abteilungsleiter@diehandballer.de
END:VEVENT
BEGIN:VEVENT
DTSTART;TZID=Europe/Berlin:20221029T190000
DTEND;TZID=Europe/Berlin:20221029T210000
DTSTAMP:20260425T051421
CREATED:20221012T101821Z
LAST-MODIFIED:20221012T101821Z
UID:7057-1667070000-1667077200@tv1881altdorf.de
SUMMARY:Damen 1 (H) – TV Altdorf vs. TV Dingolfing
DESCRIPTION:
URL:https://tv1881altdorf.de/event/damen-1-h-tv-altdorf-vs-tv-dingolfing
LOCATION:Dreifachhalle der Mittelschule\, Schulstraße 6\, Altdorf\, 90518
CATEGORIES:Allgemein,Damen I,Heimspiel,Volleyball
END:VEVENT
END:VCALENDAR