BEGIN:VCALENDAR
VERSION:2.0
PRODID:-//TV 1881 Altdorf e.V. - ECPv6.15.20//NONSGML v1.0//EN
CALSCALE:GREGORIAN
METHOD:PUBLISH
X-WR-CALNAME:TV 1881 Altdorf e.V.
X-ORIGINAL-URL:https://tv1881altdorf.de
X-WR-CALDESC:Veranstaltungen für TV 1881 Altdorf e.V.
REFRESH-INTERVAL;VALUE=DURATION:PT1H
X-Robots-Tag:noindex
X-PUBLISHED-TTL:PT1H
BEGIN:VTIMEZONE
TZID:Europe/Berlin
BEGIN:DAYLIGHT
TZOFFSETFROM:+0100
TZOFFSETTO:+0200
TZNAME:CEST
DTSTART:20210328T010000
END:DAYLIGHT
BEGIN:STANDARD
TZOFFSETFROM:+0200
TZOFFSETTO:+0100
TZNAME:CET
DTSTART:20211031T010000
END:STANDARD
BEGIN:DAYLIGHT
TZOFFSETFROM:+0100
TZOFFSETTO:+0200
TZNAME:CEST
DTSTART:20220327T010000
END:DAYLIGHT
BEGIN:STANDARD
TZOFFSETFROM:+0200
TZOFFSETTO:+0100
TZNAME:CET
DTSTART:20221030T010000
END:STANDARD
BEGIN:DAYLIGHT
TZOFFSETFROM:+0100
TZOFFSETTO:+0200
TZNAME:CEST
DTSTART:20230326T010000
END:DAYLIGHT
BEGIN:STANDARD
TZOFFSETFROM:+0200
TZOFFSETTO:+0100
TZNAME:CET
DTSTART:20231029T010000
END:STANDARD
END:VTIMEZONE
BEGIN:VEVENT
DTSTART;TZID=Europe/Berlin:20221112T140000
DTEND;TZID=Europe/Berlin:20221112T180000
DTSTAMP:20260425T040631
CREATED:20221012T143203Z
LAST-MODIFIED:20221012T143203Z
UID:7099-1668261600-1668276000@tv1881altdorf.de
SUMMARY:Damen 3 (H) - TV Altdorf 3 vs. VSG TB Erlangen 3 / TSV Neunkirchen 3 & VSG Egloffstein/Gößweinstein
DESCRIPTION:
URL:https://tv1881altdorf.de/event/damen-3-h-tv-altdorf-3-vs-vsg-tb-erlangen-3-tsv-neunkirchen-3-vsg-egloffstein-goessweinstein
LOCATION:Dreifachhalle der Mittelschule\, Schulstraße 6\, Altdorf\, 90518
CATEGORIES:Allgemein,Damen III,Heimspiel,Volleyball
END:VEVENT
BEGIN:VEVENT
DTSTART;TZID=Europe/Berlin:20221112T140000
DTEND;TZID=Europe/Berlin:20221112T180000
DTSTAMP:20260425T040631
CREATED:20221012T143448Z
LAST-MODIFIED:20221012T143448Z
UID:7103-1668261600-1668276000@tv1881altdorf.de
SUMMARY:Damen 4 (H) - TV Altdorf 4 vs. TSV Feucht II & Post SV Nürnberg VI
DESCRIPTION:
URL:https://tv1881altdorf.de/event/damen-4-h-tv-altdorf-4-vs-tsv-feucht-ii-post-sv-nuernberg-vi
LOCATION:Dreifachhalle der Mittelschule\, Schulstraße 6\, Altdorf\, 90518
CATEGORIES:Allgemein,Damen VI,Heimspiel,Volleyball
END:VEVENT
BEGIN:VEVENT
DTSTART;TZID=Europe/Berlin:20221112T150000
DTEND;TZID=Europe/Berlin:20221112T170000
DTSTAMP:20260425T040631
CREATED:20221012T141221Z
LAST-MODIFIED:20221012T141221Z
UID:7079-1668265200-1668272400@tv1881altdorf.de
SUMMARY:Damen 2 (H) - TV Altdorf 2 vs. Talent-Team Bayern
DESCRIPTION:
URL:https://tv1881altdorf.de/event/damen-2-h-tv-altdorf-2-vs-talent-team-bayern
LOCATION:Dreifachhalle der Mittelschule\, Schulstraße 6\, Altdorf\, 90518
CATEGORIES:Allgemein,Damen II,Heimspiel,Volleyball
END:VEVENT
BEGIN:VEVENT
DTSTART;TZID=Europe/Berlin:20221112T180000
DTEND;TZID=Europe/Berlin:20221112T193000
DTSTAMP:20260425T040631
CREATED:20220831T184800Z
LAST-MODIFIED:20220831T184800Z
UID:6798-1668276000-1668281400@tv1881altdorf.de
SUMMARY:Handball SC Uttenreuth : Herren II
DESCRIPTION:
URL:https://tv1881altdorf.de/event/handball-sc-uttenreuth-herren-ii
LOCATION:Schallershoferstraße 20\, 91056 Erlangen
CATEGORIES:Allgemein,Handball,Herren II
ORGANIZER;CN="Die Handballer":MAILTO:abteilungsleiter@diehandballer.de
END:VEVENT
END:VCALENDAR