BEGIN:VCALENDAR
VERSION:2.0
PRODID:-//TV 1881 Altdorf e.V. - ECPv6.15.20//NONSGML v1.0//EN
CALSCALE:GREGORIAN
METHOD:PUBLISH
X-WR-CALNAME:TV 1881 Altdorf e.V.
X-ORIGINAL-URL:https://tv1881altdorf.de
X-WR-CALDESC:Veranstaltungen für TV 1881 Altdorf e.V.
REFRESH-INTERVAL;VALUE=DURATION:PT1H
X-Robots-Tag:noindex
X-PUBLISHED-TTL:PT1H
BEGIN:VTIMEZONE
TZID:Europe/Berlin
BEGIN:DAYLIGHT
TZOFFSETFROM:+0100
TZOFFSETTO:+0200
TZNAME:CEST
DTSTART:20210328T010000
END:DAYLIGHT
BEGIN:STANDARD
TZOFFSETFROM:+0200
TZOFFSETTO:+0100
TZNAME:CET
DTSTART:20211031T010000
END:STANDARD
BEGIN:DAYLIGHT
TZOFFSETFROM:+0100
TZOFFSETTO:+0200
TZNAME:CEST
DTSTART:20220327T010000
END:DAYLIGHT
BEGIN:STANDARD
TZOFFSETFROM:+0200
TZOFFSETTO:+0100
TZNAME:CET
DTSTART:20221030T010000
END:STANDARD
BEGIN:DAYLIGHT
TZOFFSETFROM:+0100
TZOFFSETTO:+0200
TZNAME:CEST
DTSTART:20230326T010000
END:DAYLIGHT
BEGIN:STANDARD
TZOFFSETFROM:+0200
TZOFFSETTO:+0100
TZNAME:CET
DTSTART:20231029T010000
END:STANDARD
END:VTIMEZONE
BEGIN:VEVENT
DTSTART;TZID=Europe/Berlin:20221120T120000
DTEND;TZID=Europe/Berlin:20221120T140000
DTSTAMP:20260425T040608
CREATED:20221012T141834Z
LAST-MODIFIED:20221012T141834Z
UID:7081-1668945600-1668952800@tv1881altdorf.de
SUMMARY:Damen 2 (H) - TV Altdorf 2 vs. N.H.Young Volleys
DESCRIPTION:
URL:https://tv1881altdorf.de/event/damen-2-h-tv-altdorf-2-vs-n-h-young-volleys
LOCATION:Dreifachhalle der Mittelschule\, Schulstraße 6\, Altdorf\, 90518
CATEGORIES:Allgemein,Damen II,Heimspiel,Volleyball
END:VEVENT
BEGIN:VEVENT
DTSTART;TZID=Europe/Berlin:20221120T130000
DTEND;TZID=Europe/Berlin:20221120T143000
DTSTAMP:20260425T040608
CREATED:20220831T183745Z
LAST-MODIFIED:20220831T185354Z
UID:6775-1668949200-1668954600@tv1881altdorf.de
SUMMARY:Handball Herren II : HC Forchheim III
DESCRIPTION:
URL:https://tv1881altdorf.de/event/handball-herren-ii-hc-forchheim-ii
LOCATION:Altdorf bei Nürnberg
CATEGORIES:Allgemein,Handball,Herren II
END:VEVENT
BEGIN:VEVENT
DTSTART;TZID=Europe/Berlin:20221120T150000
DTEND;TZID=Europe/Berlin:20221120T163000
DTSTAMP:20260425T040608
CREATED:20220831T182206Z
LAST-MODIFIED:20220831T182206Z
UID:6754-1668956400-1668961800@tv1881altdorf.de
SUMMARY:Handball Herren I : SG Auerbach/Pegnitz
DESCRIPTION:
URL:https://tv1881altdorf.de/event/handball-herren-i-sg-auerbach-pegnitz
LOCATION:Altdorf bei Nürnberg
CATEGORIES:Allgemein,Handball,Herren I
ORGANIZER;CN="Die Handballer":MAILTO:abteilungsleiter@diehandballer.de
END:VEVENT
BEGIN:VEVENT
DTSTART;TZID=Europe/Berlin:20221120T160000
DTEND;TZID=Europe/Berlin:20221120T180000
DTSTAMP:20260425T040608
CREATED:20221012T102011Z
LAST-MODIFIED:20221012T102011Z
UID:7059-1668960000-1668967200@tv1881altdorf.de
SUMMARY:Damen 1 (H) – TV Altdorf vs. VC Wiesbaden II
DESCRIPTION:
URL:https://tv1881altdorf.de/event/damen-1-h-tv-altdorf-vs-vc-wiesbaden-ii
LOCATION:Dreifachhalle der Mittelschule\, Schulstraße 6\, Altdorf\, 90518
CATEGORIES:Allgemein,Damen I,Heimspiel,Volleyball
END:VEVENT
BEGIN:VEVENT
DTSTART;TZID=Europe/Berlin:20221120T170000
DTEND;TZID=Europe/Berlin:20221120T183000
DTSTAMP:20260425T040608
CREATED:20220831T163907Z
LAST-MODIFIED:20220831T163907Z
UID:6666-1668963600-1668969000@tv1881altdorf.de
SUMMARY:Handball Damen : ASV 1863 Cham
DESCRIPTION:
URL:https://tv1881altdorf.de/event/handball-damen-asv-1863-cham
LOCATION:Altdorf bei Nürnberg
CATEGORIES:Allgemein,Damen,Handball
ORGANIZER;CN="Die Handballer":MAILTO:abteilungsleiter@diehandballer.de
END:VEVENT
END:VCALENDAR