BEGIN:VCALENDAR
VERSION:2.0
PRODID:-//TV 1881 Altdorf e.V. - ECPv6.15.20//NONSGML v1.0//EN
CALSCALE:GREGORIAN
METHOD:PUBLISH
X-WR-CALNAME:TV 1881 Altdorf e.V.
X-ORIGINAL-URL:https://tv1881altdorf.de
X-WR-CALDESC:Veranstaltungen für TV 1881 Altdorf e.V.
REFRESH-INTERVAL;VALUE=DURATION:PT1H
X-Robots-Tag:noindex
X-PUBLISHED-TTL:PT1H
BEGIN:VTIMEZONE
TZID:Europe/Berlin
BEGIN:DAYLIGHT
TZOFFSETFROM:+0100
TZOFFSETTO:+0200
TZNAME:CEST
DTSTART:20210328T010000
END:DAYLIGHT
BEGIN:STANDARD
TZOFFSETFROM:+0200
TZOFFSETTO:+0100
TZNAME:CET
DTSTART:20211031T010000
END:STANDARD
BEGIN:DAYLIGHT
TZOFFSETFROM:+0100
TZOFFSETTO:+0200
TZNAME:CEST
DTSTART:20220327T010000
END:DAYLIGHT
BEGIN:STANDARD
TZOFFSETFROM:+0200
TZOFFSETTO:+0100
TZNAME:CET
DTSTART:20221030T010000
END:STANDARD
BEGIN:DAYLIGHT
TZOFFSETFROM:+0100
TZOFFSETTO:+0200
TZNAME:CEST
DTSTART:20230326T010000
END:DAYLIGHT
BEGIN:STANDARD
TZOFFSETFROM:+0200
TZOFFSETTO:+0100
TZNAME:CET
DTSTART:20231029T010000
END:STANDARD
END:VTIMEZONE
BEGIN:VEVENT
DTSTART;TZID=Europe/Berlin:20221217T120000
DTEND;TZID=Europe/Berlin:20221217T140000
DTSTAMP:20260425T025047
CREATED:20221012T142233Z
LAST-MODIFIED:20221012T142233Z
UID:7089-1671278400-1671285600@tv1881altdorf.de
SUMMARY:Damen 2 (H) - TV Altdorf 2 vs. TSV Neutraubling
DESCRIPTION:
URL:https://tv1881altdorf.de/event/damen-2-h-tv-altdorf-2-vs-tsv-neutraubling
LOCATION:Dreifachhalle der Mittelschule\, Schulstraße 6\, Altdorf\, 90518
CATEGORIES:Allgemein,Damen II,Heimspiel,Volleyball
END:VEVENT
BEGIN:VEVENT
DTSTART;TZID=Europe/Berlin:20221217T160000
DTEND;TZID=Europe/Berlin:20221217T180000
DTSTAMP:20260425T025047
CREATED:20221012T102159Z
LAST-MODIFIED:20221012T102159Z
UID:7063-1671292800-1671300000@tv1881altdorf.de
SUMMARY:Damen 1 (H) – TV Altdorf vs. Rote Raben Vilsbiburg II
DESCRIPTION:
URL:https://tv1881altdorf.de/event/damen-1-h-tv-altdorf-vs-rote-raben-vilsbiburg-ii
LOCATION:Dreifachhalle der Mittelschule\, Schulstraße 6\, Altdorf\, 90518
CATEGORIES:Allgemein,Damen I,Heimspiel,Volleyball
END:VEVENT
END:VCALENDAR