BEGIN:VCALENDAR
VERSION:2.0
PRODID:-//TV 1881 Altdorf e.V. - ECPv6.15.20//NONSGML v1.0//EN
CALSCALE:GREGORIAN
METHOD:PUBLISH
X-ORIGINAL-URL:https://tv1881altdorf.de
X-WR-CALDESC:Veranstaltungen für TV 1881 Altdorf e.V.
REFRESH-INTERVAL;VALUE=DURATION:PT1H
X-Robots-Tag:noindex
X-PUBLISHED-TTL:PT1H
BEGIN:VTIMEZONE
TZID:Europe/Berlin
BEGIN:DAYLIGHT
TZOFFSETFROM:+0100
TZOFFSETTO:+0200
TZNAME:CEST
DTSTART:20220327T010000
END:DAYLIGHT
BEGIN:STANDARD
TZOFFSETFROM:+0200
TZOFFSETTO:+0100
TZNAME:CET
DTSTART:20221030T010000
END:STANDARD
BEGIN:DAYLIGHT
TZOFFSETFROM:+0100
TZOFFSETTO:+0200
TZNAME:CEST
DTSTART:20230326T010000
END:DAYLIGHT
BEGIN:STANDARD
TZOFFSETFROM:+0200
TZOFFSETTO:+0100
TZNAME:CET
DTSTART:20231029T010000
END:STANDARD
BEGIN:DAYLIGHT
TZOFFSETFROM:+0100
TZOFFSETTO:+0200
TZNAME:CEST
DTSTART:20240331T010000
END:DAYLIGHT
BEGIN:STANDARD
TZOFFSETFROM:+0200
TZOFFSETTO:+0100
TZNAME:CET
DTSTART:20241027T010000
END:STANDARD
END:VTIMEZONE
BEGIN:VEVENT
DTSTART;TZID=Europe/Berlin:20230204T120000
DTEND;TZID=Europe/Berlin:20230204T140000
DTSTAMP:20260425T002803
CREATED:20221012T142503Z
LAST-MODIFIED:20221012T142503Z
UID:7093-1675512000-1675519200@tv1881altdorf.de
SUMMARY:Damen 2 (H) - TV Altdorf 2 vs. VG Bamberg
DESCRIPTION:
URL:https://tv1881altdorf.de/event/damen-2-h-tv-altdorf-2-vs-vg-bamberg
LOCATION:Dreifachhalle der Mittelschule\, Schulstraße 6\, Altdorf\, 90518
CATEGORIES:Allgemein,Damen II,Heimspiel,Volleyball
END:VEVENT
BEGIN:VEVENT
DTSTART;TZID=Europe/Berlin:20230204T160000
DTEND;TZID=Europe/Berlin:20230204T173000
DTSTAMP:20260425T002803
CREATED:20220831T165511Z
LAST-MODIFIED:20220831T165511Z
UID:6683-1675526400-1675531800@tv1881altdorf.de
SUMMARY:Handball HV Oberviechtach : Damen
DESCRIPTION:
URL:https://tv1881altdorf.de/event/handball-hv-oberviechtach-damen
LOCATION:Wolfgrubenweg 1 92526 Oberviechtach
CATEGORIES:Allgemein,Damen,Handball
ORGANIZER;CN="Die Handballer":MAILTO:abteilungsleiter@diehandballer.de
END:VEVENT
BEGIN:VEVENT
DTSTART;TZID=Europe/Berlin:20230204T160000
DTEND;TZID=Europe/Berlin:20230204T180000
DTSTAMP:20260425T002803
CREATED:20221012T102358Z
LAST-MODIFIED:20221012T102358Z
UID:7067-1675526400-1675533600@tv1881altdorf.de
SUMMARY:Damen 1 (H) – TV Altdorf vs. SSC Freisen
DESCRIPTION:
URL:https://tv1881altdorf.de/event/damen-1-h-tv-altdorf-vs-ssc-freisen
LOCATION:Dreifachhalle der Mittelschule\, Schulstraße 6\, Altdorf\, 90518
CATEGORIES:Allgemein,Damen I,Heimspiel,Volleyball
END:VEVENT
BEGIN:VEVENT
DTSTART;TZID=Europe/Berlin:20230204T180000
DTEND;TZID=Europe/Berlin:20230204T193000
DTSTAMP:20260425T002803
CREATED:20220831T180221Z
LAST-MODIFIED:20220831T180221Z
UID:6731-1675533600-1675539000@tv1881altdorf.de
SUMMARY:Handball HV Oberviechtach : Herren I
DESCRIPTION:
URL:https://tv1881altdorf.de/event/handball-hv-oberviechtach-herren-i
LOCATION:Wolfgrubenweg 1 92526 Oberviechtach
CATEGORIES:Allgemein,Handball,Herren I
ORGANIZER;CN="Die Handballer":MAILTO:abteilungsleiter@diehandballer.de
END:VEVENT
END:VCALENDAR