BEGIN:VCALENDAR
VERSION:2.0
PRODID:-//TV 1881 Altdorf e.V. - ECPv6.15.20//NONSGML v1.0//EN
CALSCALE:GREGORIAN
METHOD:PUBLISH
X-WR-CALNAME:TV 1881 Altdorf e.V.
X-ORIGINAL-URL:https://tv1881altdorf.de
X-WR-CALDESC:Veranstaltungen für TV 1881 Altdorf e.V.
REFRESH-INTERVAL;VALUE=DURATION:PT1H
X-Robots-Tag:noindex
X-PUBLISHED-TTL:PT1H
BEGIN:VTIMEZONE
TZID:Europe/Berlin
BEGIN:DAYLIGHT
TZOFFSETFROM:+0100
TZOFFSETTO:+0200
TZNAME:CEST
DTSTART:20220327T010000
END:DAYLIGHT
BEGIN:STANDARD
TZOFFSETFROM:+0200
TZOFFSETTO:+0100
TZNAME:CET
DTSTART:20221030T010000
END:STANDARD
BEGIN:DAYLIGHT
TZOFFSETFROM:+0100
TZOFFSETTO:+0200
TZNAME:CEST
DTSTART:20230326T010000
END:DAYLIGHT
BEGIN:STANDARD
TZOFFSETFROM:+0200
TZOFFSETTO:+0100
TZNAME:CET
DTSTART:20231029T010000
END:STANDARD
BEGIN:DAYLIGHT
TZOFFSETFROM:+0100
TZOFFSETTO:+0200
TZNAME:CEST
DTSTART:20240331T010000
END:DAYLIGHT
BEGIN:STANDARD
TZOFFSETFROM:+0200
TZOFFSETTO:+0100
TZNAME:CET
DTSTART:20241027T010000
END:STANDARD
END:VTIMEZONE
BEGIN:VEVENT
DTSTART;VALUE=DATE:20230429
DTEND;VALUE=DATE:20230430
DTSTAMP:20260424T214400
CREATED:20230224T105208Z
LAST-MODIFIED:20230323T065840Z
UID:8618-1682726400-1682812799@tv1881altdorf.de
SUMMARY:Deutsche Meisterschaft Sprint-OL
DESCRIPTION:
URL:https://tv1881altdorf.de/event/deutsche-meisterschaft-sprint-ol-in-zittau
LOCATION:Zittau
CATEGORIES:Orientierungslauf
END:VEVENT
BEGIN:VEVENT
DTSTART;TZID=Europe/Berlin:20230429T160000
DTEND;TZID=Europe/Berlin:20230429T173000
DTSTAMP:20260424T214400
CREATED:20220831T170750Z
LAST-MODIFIED:20220831T171003Z
UID:6706-1682784000-1682789400@tv1881altdorf.de
SUMMARY:Handball Damen : SG Regensburg
DESCRIPTION:
URL:https://tv1881altdorf.de/event/handball-damen-sg-regensburg
LOCATION:Altdorf bei Nürnberg
CATEGORIES:Allgemein,Damen,Handball
ORGANIZER;CN="Die Handballer":MAILTO:abteilungsleiter@diehandballer.de
END:VEVENT
BEGIN:VEVENT
DTSTART;TZID=Europe/Berlin:20230429T180000
DTEND;TZID=Europe/Berlin:20230429T193000
DTSTAMP:20260424T214400
CREATED:20220831T181958Z
LAST-MODIFIED:20220831T182259Z
UID:6747-1682791200-1682796600@tv1881altdorf.de
SUMMARY:Handball Herren I : TB 03 Roding
DESCRIPTION:
URL:https://tv1881altdorf.de/event/handball-herren-i-tb-03-roding
LOCATION:Altdorf bei Nürnberg
CATEGORIES:Allgemein,Handball,Herren I
END:VEVENT
END:VCALENDAR