BEGIN:VCALENDAR
VERSION:2.0
PRODID:-//TV 1881 Altdorf e.V. - ECPv6.15.20//NONSGML v1.0//EN
CALSCALE:GREGORIAN
METHOD:PUBLISH
X-ORIGINAL-URL:https://tv1881altdorf.de
X-WR-CALDESC:Veranstaltungen für TV 1881 Altdorf e.V.
REFRESH-INTERVAL;VALUE=DURATION:PT1H
X-Robots-Tag:noindex
X-PUBLISHED-TTL:PT1H
BEGIN:VTIMEZONE
TZID:Europe/Berlin
BEGIN:DAYLIGHT
TZOFFSETFROM:+0100
TZOFFSETTO:+0200
TZNAME:CEST
DTSTART:20220327T010000
END:DAYLIGHT
BEGIN:STANDARD
TZOFFSETFROM:+0200
TZOFFSETTO:+0100
TZNAME:CET
DTSTART:20221030T010000
END:STANDARD
BEGIN:DAYLIGHT
TZOFFSETFROM:+0100
TZOFFSETTO:+0200
TZNAME:CEST
DTSTART:20230326T010000
END:DAYLIGHT
BEGIN:STANDARD
TZOFFSETFROM:+0200
TZOFFSETTO:+0100
TZNAME:CET
DTSTART:20231029T010000
END:STANDARD
BEGIN:DAYLIGHT
TZOFFSETFROM:+0100
TZOFFSETTO:+0200
TZNAME:CEST
DTSTART:20240331T010000
END:DAYLIGHT
BEGIN:STANDARD
TZOFFSETFROM:+0200
TZOFFSETTO:+0100
TZNAME:CET
DTSTART:20241027T010000
END:STANDARD
END:VTIMEZONE
BEGIN:VEVENT
DTSTART;TZID=Europe/Berlin:20230514T090000
DTEND;TZID=Europe/Berlin:20230514T140000
DTSTAMP:20260424T202745
CREATED:20230501T202739Z
LAST-MODIFIED:20230509T135805Z
UID:9512-1684054800-1684072800@tv1881altdorf.de
SUMMARY:Tennis Damen1 Nordliga 2 gg 1. FC Nürnberg II-auswärts
DESCRIPTION:
URL:https://tv1881altdorf.de/event/tennis-damen1-nordliga-3-gg-tsv-nuernberg-buch-copy-2-copy
LOCATION:Tennisplätze FCN
CATEGORIES:Damen,Tennis
END:VEVENT
BEGIN:VEVENT
DTSTART;TZID=Europe/Berlin:20230514T090000
DTEND;TZID=Europe/Berlin:20230514T140000
DTSTAMP:20260424T202745
CREATED:20230501T203915Z
LAST-MODIFIED:20230509T135345Z
UID:9530-1684054800-1684072800@tv1881altdorf.de
SUMMARY:Tennis Damen2 Nordliga 4 gg FC Ezelsdorf - Heimspiel
DESCRIPTION:
URL:https://tv1881altdorf.de/event/tennis-damen1-nordliga-3-gg-tsv-nuernberg-buch-copy-3-copy
LOCATION:Tennisplätze SC Worzeldorf
CATEGORIES:Damen,Tennis
END:VEVENT
BEGIN:VEVENT
DTSTART;TZID=Europe/Berlin:20230514T100000
DTEND;TZID=Europe/Berlin:20230514T170000
DTSTAMP:20260424T202745
CREATED:20230501T204033Z
LAST-MODIFIED:20230501T204137Z
UID:9532-1684058400-1684083600@tv1881altdorf.de
SUMMARY:Tennis Damen 40 Landesliga2 gg TC Regnitzhembach - Heimspiel
DESCRIPTION:
URL:https://tv1881altdorf.de/event/tennis-damen1-nordliga-3-gg-tsv-nuernberg-buch-copy-5-copy
LOCATION:Tennisplätze TV Altdorf\, Heumannstrasse 5a\, Altdorf\, 90518
CATEGORIES:Damen 40,Tennis
END:VEVENT
END:VCALENDAR