BEGIN:VCALENDAR
VERSION:2.0
PRODID:-//TV 1881 Altdorf e.V. - ECPv6.15.20//NONSGML v1.0//EN
CALSCALE:GREGORIAN
METHOD:PUBLISH
X-ORIGINAL-URL:https://tv1881altdorf.de
X-WR-CALDESC:Veranstaltungen für TV 1881 Altdorf e.V.
REFRESH-INTERVAL;VALUE=DURATION:PT1H
X-Robots-Tag:noindex
X-PUBLISHED-TTL:PT1H
BEGIN:VTIMEZONE
TZID:Europe/Berlin
BEGIN:DAYLIGHT
TZOFFSETFROM:+0100
TZOFFSETTO:+0200
TZNAME:CEST
DTSTART:20220327T010000
END:DAYLIGHT
BEGIN:STANDARD
TZOFFSETFROM:+0200
TZOFFSETTO:+0100
TZNAME:CET
DTSTART:20221030T010000
END:STANDARD
BEGIN:DAYLIGHT
TZOFFSETFROM:+0100
TZOFFSETTO:+0200
TZNAME:CEST
DTSTART:20230326T010000
END:DAYLIGHT
BEGIN:STANDARD
TZOFFSETFROM:+0200
TZOFFSETTO:+0100
TZNAME:CET
DTSTART:20231029T010000
END:STANDARD
BEGIN:DAYLIGHT
TZOFFSETFROM:+0100
TZOFFSETTO:+0200
TZNAME:CEST
DTSTART:20240331T010000
END:DAYLIGHT
BEGIN:STANDARD
TZOFFSETFROM:+0200
TZOFFSETTO:+0100
TZNAME:CET
DTSTART:20241027T010000
END:STANDARD
END:VTIMEZONE
BEGIN:VEVENT
DTSTART;VALUE=DATE:20230617
DTEND;VALUE=DATE:20230618
DTSTAMP:20260424T191216
CREATED:20221231T102510Z
LAST-MODIFIED:20230323T074216Z
UID:8168-1686960000-1687046399@tv1881altdorf.de
SUMMARY:Mittelfränkische Meisterschaften (U14\,U16)
DESCRIPTION:
URL:https://tv1881altdorf.de/event/mittelfraenkische-meisterschaften-u14u16
CATEGORIES:Leichtathletik
END:VEVENT
BEGIN:VEVENT
DTSTART;VALUE=DATE:20230617
DTEND;VALUE=DATE:20230618
DTSTAMP:20260424T191216
CREATED:20230323T073958Z
LAST-MODIFIED:20230323T074117Z
UID:8936-1686960000-1687046399@tv1881altdorf.de
SUMMARY:Zirndorfer KiLa-Sportfest
DESCRIPTION:Ort: Zirndorf \nAlter­sklassen: ab U8-U12 (bis 11 Jahre; 2012 Jahrgang) \nAuss­chrei­bung: fol­gt noch \nZeit­plan: fol­gt noch
URL:https://tv1881altdorf.de/event/zirndorf-kila-2023
CATEGORIES:Leichtathletik
END:VEVENT
BEGIN:VEVENT
DTSTART;TZID=Europe/Berlin:20230617T090000
DTEND;TZID=Europe/Berlin:20230617T140000
DTSTAMP:20260424T191216
CREATED:20230520T101241Z
LAST-MODIFIED:20230520T101653Z
UID:9753-1686992400-1687010400@tv1881altdorf.de
SUMMARY:Tennis Juniorinnen18 Nordliga 3 gg  TSV Ansbach Heimspiel
DESCRIPTION:
URL:https://tv1881altdorf.de/event/tennis-juniorinnen18_n3-gg-tsv-ansbach
LOCATION:Tennisplätze TV Altdorf\, Heumannstrasse 5a\, Altdorf\, 90518
CATEGORIES:Damen,Tennis
END:VEVENT
BEGIN:VEVENT
DTSTART;TZID=Europe/Berlin:20230617T140000
DTEND;TZID=Europe/Berlin:20230617T210000
DTSTAMP:20260424T191216
CREATED:20230520T103414Z
LAST-MODIFIED:20230520T103755Z
UID:9763-1687010400-1687035600@tv1881altdorf.de
SUMMARY:Tennis Herren 40 Nordliga 1 gg TSV Gaimersheim Heimspiel
DESCRIPTION:
URL:https://tv1881altdorf.de/event/tennis-herren40-n1-gg-tsv-gaimersheim
LOCATION:Tennisplätze TV Altdorf\, Heumannstrasse 5a\, Altdorf\, 90518
CATEGORIES:Herren 40,Tennis
END:VEVENT
END:VCALENDAR