BEGIN:VCALENDAR
VERSION:2.0
PRODID:-//TV 1881 Altdorf e.V. - ECPv6.15.20//NONSGML v1.0//EN
CALSCALE:GREGORIAN
METHOD:PUBLISH
X-WR-CALNAME:TV 1881 Altdorf e.V.
X-ORIGINAL-URL:https://tv1881altdorf.de
X-WR-CALDESC:Veranstaltungen für TV 1881 Altdorf e.V.
REFRESH-INTERVAL;VALUE=DURATION:PT1H
X-Robots-Tag:noindex
X-PUBLISHED-TTL:PT1H
BEGIN:VTIMEZONE
TZID:Europe/Berlin
BEGIN:DAYLIGHT
TZOFFSETFROM:+0100
TZOFFSETTO:+0200
TZNAME:CEST
DTSTART:20220327T010000
END:DAYLIGHT
BEGIN:STANDARD
TZOFFSETFROM:+0200
TZOFFSETTO:+0100
TZNAME:CET
DTSTART:20221030T010000
END:STANDARD
BEGIN:DAYLIGHT
TZOFFSETFROM:+0100
TZOFFSETTO:+0200
TZNAME:CEST
DTSTART:20230326T010000
END:DAYLIGHT
BEGIN:STANDARD
TZOFFSETFROM:+0200
TZOFFSETTO:+0100
TZNAME:CET
DTSTART:20231029T010000
END:STANDARD
BEGIN:DAYLIGHT
TZOFFSETFROM:+0100
TZOFFSETTO:+0200
TZNAME:CEST
DTSTART:20240331T010000
END:DAYLIGHT
BEGIN:STANDARD
TZOFFSETFROM:+0200
TZOFFSETTO:+0100
TZNAME:CET
DTSTART:20241027T010000
END:STANDARD
END:VTIMEZONE
BEGIN:VEVENT
DTSTART;TZID=Europe/Berlin:20230624T090000
DTEND;TZID=Europe/Berlin:20230624T090000
DTSTAMP:20260424T191104
CREATED:20230520T101721Z
LAST-MODIFIED:20230520T102014Z
UID:9757-1687597200-1687597200@tv1881altdorf.de
SUMMARY:Tennis Juniorinnen18 Nordliga 3 gg SC Großschwarzenlohe auswärts
DESCRIPTION:
URL:https://tv1881altdorf.de/event/tennis-juniorinnen18_n3-gg-sc-grossschwarzenlohe
LOCATION:Tennisplätze SC Großscharzenlohe
CATEGORIES:Damen,Tennis
END:VEVENT
BEGIN:VEVENT
DTSTART;TZID=Europe/Berlin:20230624T090000
DTEND;TZID=Europe/Berlin:20230624T140000
DTSTAMP:20260424T191104
CREATED:20230520T110323Z
LAST-MODIFIED:20230520T110527Z
UID:9773-1687597200-1687615200@tv1881altdorf.de
SUMMARY:Tennis Junioren 18 Nordliga 3 gg  BSC Woffenbach Heimspiel
DESCRIPTION:
URL:https://tv1881altdorf.de/event/tennis-junior18-n3-gg-bsc-woffenbach
LOCATION:Tennisplätze TV Altdorf\, Heumannstrasse 5a\, Altdorf\, 90518
CATEGORIES:Herren,Tennis
END:VEVENT
BEGIN:VEVENT
DTSTART;TZID=Europe/Berlin:20230624T100000
DTEND;TZID=Europe/Berlin:20230624T140000
DTSTAMP:20260424T191104
CREATED:20230614T090244Z
LAST-MODIFIED:20230614T090256Z
UID:10149-1687600800-1687615200@tv1881altdorf.de
SUMMARY:Tag der Rücksicht
DESCRIPTION:
URL:https://tv1881altdorf.de/event/tag-der-ruecksicht
CATEGORIES:Allgemein,Öffentlich
END:VEVENT
BEGIN:VEVENT
DTSTART;TZID=Europe/Berlin:20230624T140000
DTEND;TZID=Europe/Berlin:20230624T200000
DTSTAMP:20260424T191104
CREATED:20230520T110619Z
LAST-MODIFIED:20230520T111052Z
UID:9776-1687615200-1687636800@tv1881altdorf.de
SUMMARY:Tennis Damen 40 Landesliga2 gg TSV Wolkersdorf Auswärts
DESCRIPTION:
URL:https://tv1881altdorf.de/event/tennis-damen40-ll2-gg-tsv-wolkersdorf
LOCATION:Tennisplätze TSV Wolkersdorf\, Lehmgrube\, Schwabach\, 91126
CATEGORIES:Damen 40,Tennis
END:VEVENT
BEGIN:VEVENT
DTSTART;TZID=Europe/Berlin:20230624T140000
DTEND;TZID=Europe/Berlin:20230624T210000
DTSTAMP:20260424T191104
CREATED:20230520T111144Z
LAST-MODIFIED:20230520T111350Z
UID:9780-1687615200-1687640400@tv1881altdorf.de
SUMMARY:Tennis Herren 50 Landesliga2 gg TC Kümmersbrück - Heimspiel
DESCRIPTION:
URL:https://tv1881altdorf.de/event/tennis-h50-landesliga2-gg-tc-kuemmersbrueck
LOCATION:Tennisplätze TV Altdorf\, Heumannstrasse 5a\, Altdorf\, 90518
CATEGORIES:Herren 50,Tennis
END:VEVENT
END:VCALENDAR