BEGIN:VCALENDAR
VERSION:2.0
PRODID:-//TV 1881 Altdorf e.V. - ECPv6.15.20//NONSGML v1.0//EN
CALSCALE:GREGORIAN
METHOD:PUBLISH
X-WR-CALNAME:TV 1881 Altdorf e.V.
X-ORIGINAL-URL:https://tv1881altdorf.de
X-WR-CALDESC:Veranstaltungen für TV 1881 Altdorf e.V.
REFRESH-INTERVAL;VALUE=DURATION:PT1H
X-Robots-Tag:noindex
X-PUBLISHED-TTL:PT1H
BEGIN:VTIMEZONE
TZID:Europe/Berlin
BEGIN:DAYLIGHT
TZOFFSETFROM:+0100
TZOFFSETTO:+0200
TZNAME:CEST
DTSTART:20220327T010000
END:DAYLIGHT
BEGIN:STANDARD
TZOFFSETFROM:+0200
TZOFFSETTO:+0100
TZNAME:CET
DTSTART:20221030T010000
END:STANDARD
BEGIN:DAYLIGHT
TZOFFSETFROM:+0100
TZOFFSETTO:+0200
TZNAME:CEST
DTSTART:20230326T010000
END:DAYLIGHT
BEGIN:STANDARD
TZOFFSETFROM:+0200
TZOFFSETTO:+0100
TZNAME:CET
DTSTART:20231029T010000
END:STANDARD
BEGIN:DAYLIGHT
TZOFFSETFROM:+0100
TZOFFSETTO:+0200
TZNAME:CEST
DTSTART:20240331T010000
END:DAYLIGHT
BEGIN:STANDARD
TZOFFSETFROM:+0200
TZOFFSETTO:+0100
TZNAME:CET
DTSTART:20241027T010000
END:STANDARD
END:VTIMEZONE
BEGIN:VEVENT
DTSTART;VALUE=DATE:20230701
DTEND;VALUE=DATE:20230702
DTSTAMP:20260424T174859
CREATED:20230323T071804Z
LAST-MODIFIED:20230323T071918Z
UID:8910-1688169600-1688255999@tv1881altdorf.de
SUMMARY:3. Lauf zur ROLT
DESCRIPTION:Weit­ere Infor­ma­tio­nen fol­gen noch.
URL:https://tv1881altdorf.de/event/3-lauf-rolt-2023
LOCATION:Eilsbrunn
CATEGORIES:Orientierungslauf
END:VEVENT
BEGIN:VEVENT
DTSTART;VALUE=DATE:20230701
DTEND;VALUE=DATE:20230702
DTSTAMP:20260424T174859
CREATED:20230623T145454Z
LAST-MODIFIED:20230701T185005Z
UID:10224-1688169600-1688255999@tv1881altdorf.de
SUMMARY:Altstadtfest - Cocktailstand
DESCRIPTION:
URL:https://tv1881altdorf.de/event/altstadtfest-cocktailstand
CATEGORIES:Handball
END:VEVENT
BEGIN:VEVENT
DTSTART;TZID=Europe/Berlin:20230701T090000
DTEND;TZID=Europe/Berlin:20230701T140000
DTSTAMP:20260424T174859
CREATED:20230520T111712Z
LAST-MODIFIED:20230520T112135Z
UID:9786-1688202000-1688220000@tv1881altdorf.de
SUMMARY:Tennis Junioren 18 Nordliga 3 gg SV Höhenberg -Auswärts
DESCRIPTION:
URL:https://tv1881altdorf.de/event/tennis-junior18-n3-gg-sv-hoehenberg
LOCATION:Tennisplätze SV Höhenberg\, Voggenthalerstrasse\, Neumarkt\, 92318
CATEGORIES:Herren,Tennis
END:VEVENT
BEGIN:VEVENT
DTSTART;TZID=Europe/Berlin:20230701T140000
DTEND;TZID=Europe/Berlin:20230701T200000
DTSTAMP:20260424T174859
CREATED:20230520T112411Z
LAST-MODIFIED:20230520T112817Z
UID:9792-1688220000-1688241600@tv1881altdorf.de
SUMMARY:Tennis Damen 40 Landesliga2 gg Marktbreiter HC Auswärts
DESCRIPTION:
URL:https://tv1881altdorf.de/event/tennis-damen40-ll2-gg-marktbreiter-hc
LOCATION:Tennisplätze Marktbreit HC\, an der Struth\, Marktbreit\, 97340
CATEGORIES:Damen 40,Tennis
END:VEVENT
BEGIN:VEVENT
DTSTART;TZID=Europe/Berlin:20230701T140000
DTEND;TZID=Europe/Berlin:20230701T210000
DTSTAMP:20260424T174859
CREATED:20230520T112218Z
LAST-MODIFIED:20230520T112324Z
UID:9790-1688220000-1688245200@tv1881altdorf.de
SUMMARY:Tennis Herren 40 Nordliga 1 gg TSV Ochenbrück Heimspiel
DESCRIPTION:
URL:https://tv1881altdorf.de/event/tennis-herren40-n1-gg-tsv-ochenbrueck
LOCATION:Tennisplätze TV Altdorf\, Heumannstrasse 5a\, Altdorf\, 90518
CATEGORIES:Herren 40,Tennis
END:VEVENT
BEGIN:VEVENT
DTSTART;TZID=Europe/Berlin:20230701T160000
DTEND;TZID=Europe/Berlin:20230702T020000
DTSTAMP:20260424T174859
CREATED:20230523T095059Z
LAST-MODIFIED:20230523T095059Z
UID:9889-1688227200-1688263200@tv1881altdorf.de
SUMMARY:Cocktailbar am Altstadtfest
DESCRIPTION:
URL:https://tv1881altdorf.de/event/cocktailbar-am-altstadtfest
LOCATION:Altdorf bei Nürnberg
CATEGORIES:Allgemein,Handball
ATTACH;FMTTYPE=image/png:https://tv1881altdorf.de/wp-content/uploads/2023/05/Unbenannt.png
ORGANIZER;CN="Die Handballer":MAILTO:abteilungsleiter@diehandballer.de
END:VEVENT
END:VCALENDAR