BEGIN:VCALENDAR
VERSION:2.0
PRODID:-//TV 1881 Altdorf e.V. - ECPv6.15.20//NONSGML v1.0//EN
CALSCALE:GREGORIAN
METHOD:PUBLISH
X-WR-CALNAME:TV 1881 Altdorf e.V.
X-ORIGINAL-URL:https://tv1881altdorf.de
X-WR-CALDESC:Veranstaltungen für TV 1881 Altdorf e.V.
REFRESH-INTERVAL;VALUE=DURATION:PT1H
X-Robots-Tag:noindex
X-PUBLISHED-TTL:PT1H
BEGIN:VTIMEZONE
TZID:Europe/Berlin
BEGIN:DAYLIGHT
TZOFFSETFROM:+0100
TZOFFSETTO:+0200
TZNAME:CEST
DTSTART:20220327T010000
END:DAYLIGHT
BEGIN:STANDARD
TZOFFSETFROM:+0200
TZOFFSETTO:+0100
TZNAME:CET
DTSTART:20221030T010000
END:STANDARD
BEGIN:DAYLIGHT
TZOFFSETFROM:+0100
TZOFFSETTO:+0200
TZNAME:CEST
DTSTART:20230326T010000
END:DAYLIGHT
BEGIN:STANDARD
TZOFFSETFROM:+0200
TZOFFSETTO:+0100
TZNAME:CET
DTSTART:20231029T010000
END:STANDARD
BEGIN:DAYLIGHT
TZOFFSETFROM:+0100
TZOFFSETTO:+0200
TZNAME:CEST
DTSTART:20240331T010000
END:DAYLIGHT
BEGIN:STANDARD
TZOFFSETFROM:+0200
TZOFFSETTO:+0100
TZNAME:CET
DTSTART:20241027T010000
END:STANDARD
END:VTIMEZONE
BEGIN:VEVENT
DTSTART;TZID=Europe/Berlin:20230701T160000
DTEND;TZID=Europe/Berlin:20230702T020000
DTSTAMP:20260424T174900
CREATED:20230523T095059Z
LAST-MODIFIED:20230523T095059Z
UID:9889-1688227200-1688263200@tv1881altdorf.de
SUMMARY:Cocktailbar am Altstadtfest
DESCRIPTION:
URL:https://tv1881altdorf.de/event/cocktailbar-am-altstadtfest
LOCATION:Altdorf bei Nürnberg
CATEGORIES:Allgemein,Handball
ATTACH;FMTTYPE=image/png:https://tv1881altdorf.de/wp-content/uploads/2023/05/Unbenannt.png
ORGANIZER;CN="Die Handballer":MAILTO:abteilungsleiter@diehandballer.de
END:VEVENT
BEGIN:VEVENT
DTSTART;VALUE=DATE:20230702
DTEND;VALUE=DATE:20230703
DTSTAMP:20260424T174900
CREATED:20230101T134744Z
LAST-MODIFIED:20230323T075510Z
UID:8178-1688256000-1688342399@tv1881altdorf.de
SUMMARY:Wallensteiner Halbmarathon
DESCRIPTION:Ort: Altdorf \nWeit­ere Infor­ma­tio­nen: hier
URL:https://tv1881altdorf.de/event/wallensteiner-halbmarathon
CATEGORIES:Leichtathletik
END:VEVENT
BEGIN:VEVENT
DTSTART;TZID=Europe/Berlin:20230702T090000
DTEND;TZID=Europe/Berlin:20230702T140000
DTSTAMP:20260424T174900
CREATED:20230520T112928Z
LAST-MODIFIED:20230520T113107Z
UID:9797-1688288400-1688306400@tv1881altdorf.de
SUMMARY:Tennis Damen1 Nordliga 2 gg TC Allersberg Heimspiel
DESCRIPTION:
URL:https://tv1881altdorf.de/event/tennis-damen1-n3-gg-tc-allersberg
LOCATION:Tennisplätze TV Altdorf\, Heumannstrasse 5a\, Altdorf\, 90518
CATEGORIES:Damen,Tennis
END:VEVENT
BEGIN:VEVENT
DTSTART;TZID=Europe/Berlin:20230702T113000
DTEND;TZID=Europe/Berlin:20230702T130000
DTSTAMP:20260424T174900
CREATED:20230627T174511Z
LAST-MODIFIED:20230701T185005Z
UID:10345-1688297400-1688302800@tv1881altdorf.de
SUMMARY:Fischerstechen - Ankerweiher
DESCRIPTION:
URL:https://tv1881altdorf.de/event/fischerstechen-ankerweiher
CATEGORIES:Handball
END:VEVENT
END:VCALENDAR