BEGIN:VCALENDAR
VERSION:2.0
PRODID:-//TV 1881 Altdorf e.V. - ECPv6.15.20//NONSGML v1.0//EN
CALSCALE:GREGORIAN
METHOD:PUBLISH
X-ORIGINAL-URL:https://tv1881altdorf.de
X-WR-CALDESC:Veranstaltungen für TV 1881 Altdorf e.V.
REFRESH-INTERVAL;VALUE=DURATION:PT1H
X-Robots-Tag:noindex
X-PUBLISHED-TTL:PT1H
BEGIN:VTIMEZONE
TZID:Europe/Berlin
BEGIN:DAYLIGHT
TZOFFSETFROM:+0100
TZOFFSETTO:+0200
TZNAME:CEST
DTSTART:20220327T010000
END:DAYLIGHT
BEGIN:STANDARD
TZOFFSETFROM:+0200
TZOFFSETTO:+0100
TZNAME:CET
DTSTART:20221030T010000
END:STANDARD
BEGIN:DAYLIGHT
TZOFFSETFROM:+0100
TZOFFSETTO:+0200
TZNAME:CEST
DTSTART:20230326T010000
END:DAYLIGHT
BEGIN:STANDARD
TZOFFSETFROM:+0200
TZOFFSETTO:+0100
TZNAME:CET
DTSTART:20231029T010000
END:STANDARD
BEGIN:DAYLIGHT
TZOFFSETFROM:+0100
TZOFFSETTO:+0200
TZNAME:CEST
DTSTART:20240331T010000
END:DAYLIGHT
BEGIN:STANDARD
TZOFFSETFROM:+0200
TZOFFSETTO:+0100
TZNAME:CET
DTSTART:20241027T010000
END:STANDARD
END:VTIMEZONE
BEGIN:VEVENT
DTSTART;VALUE=DATE:20230708
DTEND;VALUE=DATE:20230709
DTSTAMP:20260424T175018
CREATED:20230509T092805Z
LAST-MODIFIED:20230509T092805Z
UID:9614-1688774400-1688860799@tv1881altdorf.de
SUMMARY:Jedermann-Rasenturnier
DESCRIPTION:Die Hand­baller laden ein zum Jed­er­mann-Hand­ball­turnier im Sportpark.
URL:https://tv1881altdorf.de/event/jedermann-rasenturnier
LOCATION:Sportpark Altdorf
CATEGORIES:Allgemein,Handball,Öffentlich
ATTACH;FMTTYPE=image/jpeg:https://tv1881altdorf.de/wp-content/uploads/2023/05/WhatsApp-Image-2023-05-09-at-11.27.30.jpeg
ORGANIZER;CN="Die Handballer":MAILTO:abteilungsleiter@diehandballer.de
END:VEVENT
BEGIN:VEVENT
DTSTART;VALUE=DATE:20230708
DTEND;VALUE=DATE:20230709
DTSTAMP:20260424T175018
CREATED:20230623T145455Z
LAST-MODIFIED:20230708T203505Z
UID:10226-1688774400-1688860799@tv1881altdorf.de
SUMMARY:Jedermannturnier
DESCRIPTION:
URL:https://tv1881altdorf.de/event/jedermannturnier
CATEGORIES:Handball
END:VEVENT
BEGIN:VEVENT
DTSTART;VALUE=DATE:20230708
DTEND;VALUE=DATE:20230710
DTSTAMP:20260424T175018
CREATED:20230623T145454Z
LAST-MODIFIED:20230709T205005Z
UID:10225-1688774400-1688947199@tv1881altdorf.de
SUMMARY:Zeltlager Sportpiraten
DESCRIPTION:
URL:https://tv1881altdorf.de/event/zeltlager-sportpiraten
CATEGORIES:Handball
END:VEVENT
BEGIN:VEVENT
DTSTART;TZID=Europe/Berlin:20230708T090000
DTEND;TZID=Europe/Berlin:20230708T140000
DTSTAMP:20260424T175018
CREATED:20230520T113152Z
LAST-MODIFIED:20230520T113507Z
UID:9800-1688806800-1688824800@tv1881altdorf.de
SUMMARY:Tennis Junioren 18 Nordliga 3 gg 1.FC Deining-Auswärts
DESCRIPTION:
URL:https://tv1881altdorf.de/event/tennis-junior18-n3-gg-1fc-deining
LOCATION:Tennisplätze 1.FC Deining\, Velburgerstrasse\, Deining\, 92364
CATEGORIES:Herren,Tennis
END:VEVENT
BEGIN:VEVENT
DTSTART;TZID=Europe/Berlin:20230708T090000
DTEND;TZID=Europe/Berlin:20230708T140000
DTSTAMP:20260424T175018
CREATED:20230520T113536Z
LAST-MODIFIED:20230520T113738Z
UID:9804-1688806800-1688824800@tv1881altdorf.de
SUMMARY:Tennis Juniorinnen18 Nordliga 3 gg TC Roth bei Nürnberg - Heimspiel
DESCRIPTION:
URL:https://tv1881altdorf.de/event/tennis-juniorinnen18_n3-gg-tc-roth
LOCATION:Tennisplätze TV Altdorf\, Heumannstrasse 5a\, Altdorf\, 90518
CATEGORIES:Damen,Tennis
END:VEVENT
BEGIN:VEVENT
DTSTART;TZID=Europe/Berlin:20230708T140000
DTEND;TZID=Europe/Berlin:20230708T210000
DTSTAMP:20260424T175018
CREATED:20230520T113845Z
LAST-MODIFIED:20230520T114454Z
UID:9807-1688824800-1688850000@tv1881altdorf.de
SUMMARY:Tennis Herren 40 Nordliga 1 gg FC Gerolfing - Auswärts
DESCRIPTION:
URL:https://tv1881altdorf.de/event/tennis-herren40-n1-gg-fc-gerolfing
LOCATION:Tennisplätze FC Gerolfing\, Wolfsgartenstrasse 6\, Ingolstadt\, 85049
CATEGORIES:Herren 40,Tennis
END:VEVENT
BEGIN:VEVENT
DTSTART;TZID=Europe/Berlin:20230708T140000
DTEND;TZID=Europe/Berlin:20230708T210000
DTSTAMP:20260424T175018
CREATED:20230520T114525Z
LAST-MODIFIED:20230520T115003Z
UID:9811-1688824800-1688850000@tv1881altdorf.de
SUMMARY:Tennis Herren 50 Landesliga2 gg TC Rot-Blau Regensburg - Heimspiel
DESCRIPTION:
URL:https://tv1881altdorf.de/event/tennis-h50-landesliga2-gg-tc-regensburg
LOCATION:Tennisplätze TV Altdorf\, Heumannstrasse 5a\, Altdorf\, 90518
CATEGORIES:Herren 50,Tennis
END:VEVENT
END:VCALENDAR