BEGIN:VCALENDAR
VERSION:2.0
PRODID:-//TV 1881 Altdorf e.V. - ECPv6.15.20//NONSGML v1.0//EN
CALSCALE:GREGORIAN
METHOD:PUBLISH
X-ORIGINAL-URL:https://tv1881altdorf.de
X-WR-CALDESC:Veranstaltungen für TV 1881 Altdorf e.V.
REFRESH-INTERVAL;VALUE=DURATION:PT1H
X-Robots-Tag:noindex
X-PUBLISHED-TTL:PT1H
BEGIN:VTIMEZONE
TZID:Europe/Berlin
BEGIN:DAYLIGHT
TZOFFSETFROM:+0100
TZOFFSETTO:+0200
TZNAME:CEST
DTSTART:20220327T010000
END:DAYLIGHT
BEGIN:STANDARD
TZOFFSETFROM:+0200
TZOFFSETTO:+0100
TZNAME:CET
DTSTART:20221030T010000
END:STANDARD
BEGIN:DAYLIGHT
TZOFFSETFROM:+0100
TZOFFSETTO:+0200
TZNAME:CEST
DTSTART:20230326T010000
END:DAYLIGHT
BEGIN:STANDARD
TZOFFSETFROM:+0200
TZOFFSETTO:+0100
TZNAME:CET
DTSTART:20231029T010000
END:STANDARD
BEGIN:DAYLIGHT
TZOFFSETFROM:+0100
TZOFFSETTO:+0200
TZNAME:CEST
DTSTART:20240331T010000
END:DAYLIGHT
BEGIN:STANDARD
TZOFFSETFROM:+0200
TZOFFSETTO:+0100
TZNAME:CET
DTSTART:20241027T010000
END:STANDARD
END:VTIMEZONE
BEGIN:VEVENT
DTSTART;TZID=Europe/Berlin:20230930T143000
DTEND;TZID=Europe/Berlin:20230930T163000
DTSTAMP:20260424T135455
CREATED:20230919T112049Z
LAST-MODIFIED:20230920T121403Z
UID:11734-1696084200-1696091400@tv1881altdorf.de
SUMMARY:Volleyball (H) - TV Altdorf II vs. TV Unterdürrbach
DESCRIPTION:
URL:https://tv1881altdorf.de/event/damen-2-h-tv-altdorf-ii-vs-tv-unterduerrbach
LOCATION:Dreifachhalle der Mittelschule\, Schulstraße 6\, Altdorf\, 90518
CATEGORIES:Damen II,Heimspiel,Volleyball
END:VEVENT
BEGIN:VEVENT
DTSTART;TZID=Europe/Berlin:20230930T150000
DTEND;TZID=Europe/Berlin:20230930T190000
DTSTAMP:20260424T135455
CREATED:20231001T201543Z
LAST-MODIFIED:20231001T213110Z
UID:12072-1696086000-1696100400@tv1881altdorf.de
SUMMARY:Tennis Damen Nordliga 2  gg TC Neunkirchen Brand II
DESCRIPTION:Halle House of Sports Eckental
URL:https://tv1881altdorf.de/event/d-tc-neunkirchen-brand-ii
CATEGORIES:Damen,Tennis
END:VEVENT
BEGIN:VEVENT
DTSTART;TZID=Europe/Berlin:20230930T170000
DTEND;TZID=Europe/Berlin:20230930T210000
DTSTAMP:20260424T135455
CREATED:20230922T134552Z
LAST-MODIFIED:20231001T212612Z
UID:11849-1696093200-1696107600@tv1881altdorf.de
SUMMARY:Tennis H40_2 Nordliga 2 gg TSV Ochenbruck II
DESCRIPTION:Halle TSV Altenfurt
URL:https://tv1881altdorf.de/event/h40_2-tsv-ochenbruck-ii
CATEGORIES:Tennis
END:VEVENT
BEGIN:VEVENT
DTSTART;TZID=Europe/Berlin:20230930T180000
DTEND;TZID=Europe/Berlin:20230930T200000
DTSTAMP:20260424T135455
CREATED:20230919T112938Z
LAST-MODIFIED:20230920T121349Z
UID:11736-1696096800-1696104000@tv1881altdorf.de
SUMMARY:Volleyball (H) - TV SUSPA Altdorf vs. DJK Sportbund München-Ost
DESCRIPTION:Tick­ets: \n\n8\,50€ Erwach­sene (inkl. 1€ Verzehrgutschein)\n5\,00€ Ermäßigt (inkl. 1€ Verzehrgutschein)\n\nLivestream: https://www.sport1extra.de/en-int/page/2bundesliga-frauen-sud \nSpielplan: https://www.volleyball-bundesliga.de/cms/home/2_bundesliga_frauen/2_bundesliga_frauen_sued/tabellespielplan/spielplan.xhtml
URL:https://tv1881altdorf.de/event/damen-1-h-tv-suspa-altdorf-vs-djk-sportbund-muenchen-ost
LOCATION:Dreifachhalle der Mittelschule\, Schulstraße 6\, Altdorf\, 90518
CATEGORIES:Damen I,Heimspiel,Volleyball
END:VEVENT
END:VCALENDAR