BEGIN:VCALENDAR
VERSION:2.0
PRODID:-//TV 1881 Altdorf e.V. - ECPv6.15.20//NONSGML v1.0//EN
CALSCALE:GREGORIAN
METHOD:PUBLISH
X-WR-CALNAME:TV 1881 Altdorf e.V.
X-ORIGINAL-URL:https://tv1881altdorf.de
X-WR-CALDESC:Veranstaltungen für TV 1881 Altdorf e.V.
REFRESH-INTERVAL;VALUE=DURATION:PT1H
X-Robots-Tag:noindex
X-PUBLISHED-TTL:PT1H
BEGIN:VTIMEZONE
TZID:Europe/Berlin
BEGIN:DAYLIGHT
TZOFFSETFROM:+0100
TZOFFSETTO:+0200
TZNAME:CEST
DTSTART:20220327T010000
END:DAYLIGHT
BEGIN:STANDARD
TZOFFSETFROM:+0200
TZOFFSETTO:+0100
TZNAME:CET
DTSTART:20221030T010000
END:STANDARD
BEGIN:DAYLIGHT
TZOFFSETFROM:+0100
TZOFFSETTO:+0200
TZNAME:CEST
DTSTART:20230326T010000
END:DAYLIGHT
BEGIN:STANDARD
TZOFFSETFROM:+0200
TZOFFSETTO:+0100
TZNAME:CET
DTSTART:20231029T010000
END:STANDARD
BEGIN:DAYLIGHT
TZOFFSETFROM:+0100
TZOFFSETTO:+0200
TZNAME:CEST
DTSTART:20240331T010000
END:DAYLIGHT
BEGIN:STANDARD
TZOFFSETFROM:+0200
TZOFFSETTO:+0100
TZNAME:CET
DTSTART:20241027T010000
END:STANDARD
END:VTIMEZONE
BEGIN:VEVENT
DTSTART;VALUE=DATE:20231020
DTEND;VALUE=DATE:20231021
DTSTAMP:20260424T135309
CREATED:20231020T080532Z
LAST-MODIFIED:20231020T080843Z
UID:12336-1697760000-1697846399@tv1881altdorf.de
SUMMARY:Training der Freitagskicker am 20.10.2023 Halle Förderschule
DESCRIPTION:Hal­lo Freitagskicker\, \ndas Spiel / Train­ing Fuss­ball für den Fre­itag 20.10.2023 wurde abgesagt ! \nD.h. es find­et ab 18 Uhr das Train­ing am Fre­itag 20.10.2023\nin der Förder­schul Halle statt \nLG Ger­hard
URL:https://tv1881altdorf.de/event/training-der-freitagskicker-am-20-10-2023-halle-foerderschule
CATEGORIES:Freitagskicker,Öffentlich
ATTACH;FMTTYPE=image/jpeg:https://tv1881altdorf.de/wp-content/uploads/2023/10/Gruppenbild-fuer-Gerhard2018_1-scaled.jpg
END:VEVENT
END:VCALENDAR