BEGIN:VCALENDAR
VERSION:2.0
PRODID:-//TV 1881 Altdorf e.V. - ECPv6.15.20//NONSGML v1.0//EN
CALSCALE:GREGORIAN
METHOD:PUBLISH
X-WR-CALNAME:TV 1881 Altdorf e.V.
X-ORIGINAL-URL:https://tv1881altdorf.de
X-WR-CALDESC:Veranstaltungen für TV 1881 Altdorf e.V.
REFRESH-INTERVAL;VALUE=DURATION:PT1H
X-Robots-Tag:noindex
X-PUBLISHED-TTL:PT1H
BEGIN:VTIMEZONE
TZID:Europe/Berlin
BEGIN:DAYLIGHT
TZOFFSETFROM:+0100
TZOFFSETTO:+0200
TZNAME:CEST
DTSTART:20220327T010000
END:DAYLIGHT
BEGIN:STANDARD
TZOFFSETFROM:+0200
TZOFFSETTO:+0100
TZNAME:CET
DTSTART:20221030T010000
END:STANDARD
BEGIN:DAYLIGHT
TZOFFSETFROM:+0100
TZOFFSETTO:+0200
TZNAME:CEST
DTSTART:20230326T010000
END:DAYLIGHT
BEGIN:STANDARD
TZOFFSETFROM:+0200
TZOFFSETTO:+0100
TZNAME:CET
DTSTART:20231029T010000
END:STANDARD
BEGIN:DAYLIGHT
TZOFFSETFROM:+0100
TZOFFSETTO:+0200
TZNAME:CEST
DTSTART:20240331T010000
END:DAYLIGHT
BEGIN:STANDARD
TZOFFSETFROM:+0200
TZOFFSETTO:+0100
TZNAME:CET
DTSTART:20241027T010000
END:STANDARD
END:VTIMEZONE
BEGIN:VEVENT
DTSTART;TZID=Europe/Berlin:20231104T120000
DTEND;TZID=Europe/Berlin:20231104T133000
DTSTAMP:20260424T123506
CREATED:20230816T210029Z
LAST-MODIFIED:20231103T164006Z
UID:11335-1699099200-1699104600@tv1881altdorf.de
SUMMARY:Bezirksklasse Frauen Staffel West TV 1881 Altdorf II vs SG DJK Erlangen/Baiersdorf II (24024016)
DESCRIPTION:Bezirk­sklasse Frauen Staffel West\nBegeg­nungs-Nr: 24024016\nHeim: TV 1881 Alt­dorf II\nGast: SG DJK Erlangen/Baiersdorf II\nHalle: Alt­dorf\, Schul­turn­halle Grund­schule (neu) (240000)\nAdresse: Hagen­hausen­er Str. 5\, 90518 Altdorf
URL:https://tv1881altdorf.de/event/bezirksklasse-frauen-staffel-west-tv-1881-altdorf-ii-vs-sg-djk-erlangen-baiersdorf-ii-26
LOCATION:Altdorf\, Schulturnhalle Grundschule (neu) (240000): Hagenhausener Str. 5\, 90518 Altdorf
CATEGORIES:Handball
END:VEVENT
BEGIN:VEVENT
DTSTART;TZID=Europe/Berlin:20231104T140000
DTEND;TZID=Europe/Berlin:20231104T153000
DTSTAMP:20260424T123506
CREATED:20230928T073035Z
LAST-MODIFIED:20231103T164006Z
UID:11933-1699106400-1699111800@tv1881altdorf.de
SUMMARY:Bezirksklasse Männer Staffel West TV 1881 Altdorf II vs TS Herzogenaurach II (24014020)
DESCRIPTION:Bezirk­sklasse Män­ner Staffel West\nBegeg­nungs-Nr: 24014020\nHeim: TV 1881 Alt­dorf II\nGast: TS Her­zo­ge­nau­rach II\nHalle: Alt­dorf\, Schul­turn­halle Grund­schule (neu) (240000)\nAdresse: Hagen­hausen­er Str. 5\, 90518 Altdorf
URL:https://tv1881altdorf.de/event/bezirksklasse-maenner-staffel-west-tv-1881-altdorf-ii-vs-ts-herzogenaurach-ii-24014020
LOCATION:Altdorf\, Schulturnhalle Grundschule (neu) (240000): Hagenhausener Str. 5\, 90518 Altdorf
CATEGORIES:Handball
END:VEVENT
BEGIN:VEVENT
DTSTART;TZID=Europe/Berlin:20231104T150000
DTEND;TZID=Europe/Berlin:20231104T190000
DTSTAMP:20260424T123506
CREATED:20231001T201544Z
LAST-MODIFIED:20231001T213250Z
UID:12073-1699110000-1699124400@tv1881altdorf.de
SUMMARY:Tennis Damen Nordliga 2 gg SB Bayern 07 Nürnberg
DESCRIPTION:Halle House of Sports Eckental
URL:https://tv1881altdorf.de/event/d-sb-bayern-07-nuernberg
CATEGORIES:Damen,Tennis
END:VEVENT
BEGIN:VEVENT
DTSTART;TZID=Europe/Berlin:20231104T160000
DTEND;TZID=Europe/Berlin:20231104T173000
DTSTAMP:20260424T123506
CREATED:20230816T210030Z
LAST-MODIFIED:20231103T164006Z
UID:11336-1699113600-1699119000@tv1881altdorf.de
SUMMARY:Bezirksoberliga Frauen TV 1881 Altdorf vs SG Rohr/Pavelsbach (14)
DESCRIPTION:Bezirk­soberli­ga Frauen\nBegeg­nungs-Nr: 14\nHeim: TV 1881 Altdorf\nGast: SG Rohr/Pavelsbach\nHalle: Alt­dorf\, Schul­turn­halle Grund­schule (neu) (240000)\nAdresse: Hagen­hausen­er Str. 5\, 90518 Altdorf
URL:https://tv1881altdorf.de/event/bezirksoberliga-frauen-tv-1881-altdorf-vs-sg-rohr-pavelsbach-14
LOCATION:Altdorf\, Schulturnhalle Grundschule (neu) (240000): Hagenhausener Str. 5\, 90518 Altdorf
CATEGORIES:Handball
END:VEVENT
BEGIN:VEVENT
DTSTART;TZID=Europe/Berlin:20231104T180000
DTEND;TZID=Europe/Berlin:20231104T193000
DTSTAMP:20260424T123506
CREATED:20230724T171526Z
LAST-MODIFIED:20231104T165006Z
UID:10894-1699120800-1699126200@tv1881altdorf.de
SUMMARY:Bezirksliga Männer Staffel West TV 1881 Altdorf vs SG DJK Erlangen/Baiersdorf (26)
DESCRIPTION:Bezirk­sli­ga Män­ner Staffel West\nBegeg­nungs-Nr: 26\nHeim: TV 1881 Altdorf\nGast: SG DJK Erlangen/Baiersdorf\nHalle: Alt­dorf\, Schul­turn­halle Grund­schule (neu) (240000)\nAdresse: Hagen­hausen­er Str. 5\, 90518 Altdorf
URL:https://tv1881altdorf.de/event/bezirksliga-maenner-staffel-west-tv-1881-altdorf-vs-sg-djk-erlangen-baiersdorf-26
LOCATION:Altdorf\, Schulturnhalle Grundschule (neu) (240000): Hagenhausener Str. 5\, 90518 Altdorf
CATEGORIES:Handball
END:VEVENT
END:VCALENDAR