BEGIN:VCALENDAR
VERSION:2.0
PRODID:-//TV 1881 Altdorf e.V. - ECPv6.15.20//NONSGML v1.0//EN
CALSCALE:GREGORIAN
METHOD:PUBLISH
X-WR-CALNAME:TV 1881 Altdorf e.V.
X-ORIGINAL-URL:https://tv1881altdorf.de
X-WR-CALDESC:Veranstaltungen für TV 1881 Altdorf e.V.
REFRESH-INTERVAL;VALUE=DURATION:PT1H
X-Robots-Tag:noindex
X-PUBLISHED-TTL:PT1H
BEGIN:VTIMEZONE
TZID:Europe/Berlin
BEGIN:DAYLIGHT
TZOFFSETFROM:+0100
TZOFFSETTO:+0200
TZNAME:CEST
DTSTART:20220327T010000
END:DAYLIGHT
BEGIN:STANDARD
TZOFFSETFROM:+0200
TZOFFSETTO:+0100
TZNAME:CET
DTSTART:20221030T010000
END:STANDARD
BEGIN:DAYLIGHT
TZOFFSETFROM:+0100
TZOFFSETTO:+0200
TZNAME:CEST
DTSTART:20230326T010000
END:DAYLIGHT
BEGIN:STANDARD
TZOFFSETFROM:+0200
TZOFFSETTO:+0100
TZNAME:CET
DTSTART:20231029T010000
END:STANDARD
BEGIN:DAYLIGHT
TZOFFSETFROM:+0100
TZOFFSETTO:+0200
TZNAME:CEST
DTSTART:20240331T010000
END:DAYLIGHT
BEGIN:STANDARD
TZOFFSETFROM:+0200
TZOFFSETTO:+0100
TZNAME:CET
DTSTART:20241027T010000
END:STANDARD
END:VTIMEZONE
BEGIN:VEVENT
DTSTART;TZID=Europe/Berlin:20231201T180000
DTEND;TZID=Europe/Berlin:20231201T200000
DTSTAMP:20260424T111953
CREATED:20231201T104458Z
LAST-MODIFIED:20231201T104458Z
UID:12827-1701453600-1701460800@tv1881altdorf.de
SUMMARY:Freitagskicker Hallen Training 1.12.2023 entfällt
DESCRIPTION:Das Train­ing der Fre­itags­kick­er am Fre­itag 1.12.2023 ab 18 Uhr in der Förder­schul Halle entfällt. \nGrund: zahlre­iche Kranke und pri­vate Absagen \nGer­hard Schneider
URL:https://tv1881altdorf.de/event/freitagskicker-hallen-training-1-12-2023-entfaellt
LOCATION:Doppelturnhalle Altdorf\, Am Fallhaus 6\, Altdorf bei Nürnberg\, Bayern\, 90518\, Deutschland
ORGANIZER;CN="Schienhammer Walter":MAILTO:walter.schienhammer@t-online.de
END:VEVENT
END:VCALENDAR