BEGIN:VCALENDAR
VERSION:2.0
PRODID:-//TV 1881 Altdorf e.V. - ECPv6.15.20//NONSGML v1.0//EN
CALSCALE:GREGORIAN
METHOD:PUBLISH
X-WR-CALNAME:TV 1881 Altdorf e.V.
X-ORIGINAL-URL:https://tv1881altdorf.de
X-WR-CALDESC:Veranstaltungen für TV 1881 Altdorf e.V.
REFRESH-INTERVAL;VALUE=DURATION:PT1H
X-Robots-Tag:noindex
X-PUBLISHED-TTL:PT1H
BEGIN:VTIMEZONE
TZID:Europe/Berlin
BEGIN:DAYLIGHT
TZOFFSETFROM:+0100
TZOFFSETTO:+0200
TZNAME:CEST
DTSTART:20220327T010000
END:DAYLIGHT
BEGIN:STANDARD
TZOFFSETFROM:+0200
TZOFFSETTO:+0100
TZNAME:CET
DTSTART:20221030T010000
END:STANDARD
BEGIN:DAYLIGHT
TZOFFSETFROM:+0100
TZOFFSETTO:+0200
TZNAME:CEST
DTSTART:20230326T010000
END:DAYLIGHT
BEGIN:STANDARD
TZOFFSETFROM:+0200
TZOFFSETTO:+0100
TZNAME:CET
DTSTART:20231029T010000
END:STANDARD
BEGIN:DAYLIGHT
TZOFFSETFROM:+0100
TZOFFSETTO:+0200
TZNAME:CEST
DTSTART:20240331T010000
END:DAYLIGHT
BEGIN:STANDARD
TZOFFSETFROM:+0200
TZOFFSETTO:+0100
TZNAME:CET
DTSTART:20241027T010000
END:STANDARD
END:VTIMEZONE
BEGIN:VEVENT
DTSTART;TZID=Europe/Berlin:20231202T150000
DTEND;TZID=Europe/Berlin:20231202T190000
DTSTAMP:20260424T111855
CREATED:20231001T201544Z
LAST-MODIFIED:20231001T213351Z
UID:12074-1701529200-1701543600@tv1881altdorf.de
SUMMARY:Tennis Damen Nordliga 2 gg TC Baiersdorf
DESCRIPTION:Halle House of Sports Eckental
URL:https://tv1881altdorf.de/event/d-tc-baiersdorf
CATEGORIES:Damen,Tennis
END:VEVENT
BEGIN:VEVENT
DTSTART;TZID=Europe/Berlin:20231202T150000
DTEND;TZID=Europe/Berlin:20231203T200000
DTSTAMP:20260424T111855
CREATED:20231129T185900Z
LAST-MODIFIED:20231129T190041Z
UID:12799-1701529200-1701633600@tv1881altdorf.de
SUMMARY:Handballer Bude am Weihnachtsmarkt
DESCRIPTION:Alle Jahre wieder 🎄\nAm Sam­stag\, den 02.12 startet unser Alt­dor­fer Wei­h­nachts­markt ❄️\nFreut euch auf einen leck­eren Pun­sch\, eine fruchtige Rum­topf­bowle oder die ein oder andere heiße Glühbirne 💡\nNeugierig? Schaut vorbei!❤️
URL:https://tv1881altdorf.de/event/handballer-bude-am-weihnachtsmarkt-copy
CATEGORIES:Allgemein,Handball
ATTACH;FMTTYPE=image/png:https://tv1881altdorf.de/wp-content/uploads/2023/11/124.png
ORGANIZER;CN="Die Handballer":MAILTO:abteilungsleiter@diehandballer.de
END:VEVENT
BEGIN:VEVENT
DTSTART;TZID=Europe/Berlin:20231202T200000
DTEND;TZID=Europe/Berlin:20231202T213000
DTSTAMP:20260424T111855
CREATED:20230928T073051Z
LAST-MODIFIED:20231201T233506Z
UID:11938-1701547200-1701552600@tv1881altdorf.de
SUMMARY:Bezirksklasse Männer Staffel West SC Uttenreuth vs TV 1881 Altdorf II (24014038)
DESCRIPTION:Bezirk­sklasse Män­ner Staffel West\nBegeg­nungs-Nr: 24014038\nHeim: SC Uttenreuth\nGast: TV 1881 Alt­dorf II\nHalle: Erlan­gen\, Sporthalle am Europakanal (240083)\nAdresse: Schaller­shofer­straße 20\, 91056 Erlangen
URL:https://tv1881altdorf.de/event/bezirksklasse-maenner-staffel-west-sc-uttenreuth-vs-tv-1881-altdorf-ii-24014038
LOCATION:Erlangen\, Sporthalle am Europakanal (240083): Schallershoferstraße 20\, 91056 Erlangen
CATEGORIES:Handball
END:VEVENT
END:VCALENDAR