BEGIN:VCALENDAR
VERSION:2.0
PRODID:-//TV 1881 Altdorf e.V. - ECPv6.15.20//NONSGML v1.0//EN
CALSCALE:GREGORIAN
METHOD:PUBLISH
X-WR-CALNAME:TV 1881 Altdorf e.V.
X-ORIGINAL-URL:https://tv1881altdorf.de
X-WR-CALDESC:Veranstaltungen für TV 1881 Altdorf e.V.
REFRESH-INTERVAL;VALUE=DURATION:PT1H
X-Robots-Tag:noindex
X-PUBLISHED-TTL:PT1H
BEGIN:VTIMEZONE
TZID:Europe/Berlin
BEGIN:DAYLIGHT
TZOFFSETFROM:+0100
TZOFFSETTO:+0200
TZNAME:CEST
DTSTART:20220327T010000
END:DAYLIGHT
BEGIN:STANDARD
TZOFFSETFROM:+0200
TZOFFSETTO:+0100
TZNAME:CET
DTSTART:20221030T010000
END:STANDARD
BEGIN:DAYLIGHT
TZOFFSETFROM:+0100
TZOFFSETTO:+0200
TZNAME:CEST
DTSTART:20230326T010000
END:DAYLIGHT
BEGIN:STANDARD
TZOFFSETFROM:+0200
TZOFFSETTO:+0100
TZNAME:CET
DTSTART:20231029T010000
END:STANDARD
BEGIN:DAYLIGHT
TZOFFSETFROM:+0100
TZOFFSETTO:+0200
TZNAME:CEST
DTSTART:20240331T010000
END:DAYLIGHT
BEGIN:STANDARD
TZOFFSETFROM:+0200
TZOFFSETTO:+0100
TZNAME:CET
DTSTART:20241027T010000
END:STANDARD
END:VTIMEZONE
BEGIN:VEVENT
DTSTART;TZID=Europe/Berlin:20231202T150000
DTEND;TZID=Europe/Berlin:20231203T200000
DTSTAMP:20260424T112006
CREATED:20231129T185900Z
LAST-MODIFIED:20231129T190041Z
UID:12799-1701529200-1701633600@tv1881altdorf.de
SUMMARY:Handballer Bude am Weihnachtsmarkt
DESCRIPTION:Alle Jahre wieder 🎄\nAm Sam­stag\, den 02.12 startet unser Alt­dor­fer Wei­h­nachts­markt ❄️\nFreut euch auf einen leck­eren Pun­sch\, eine fruchtige Rum­topf­bowle oder die ein oder andere heiße Glühbirne 💡\nNeugierig? Schaut vorbei!❤️
URL:https://tv1881altdorf.de/event/handballer-bude-am-weihnachtsmarkt-copy
CATEGORIES:Allgemein,Handball
ATTACH;FMTTYPE=image/png:https://tv1881altdorf.de/wp-content/uploads/2023/11/124.png
ORGANIZER;CN="Die Handballer":MAILTO:abteilungsleiter@diehandballer.de
END:VEVENT
BEGIN:VEVENT
DTSTART;TZID=Europe/Berlin:20231203T140000
DTEND;TZID=Europe/Berlin:20231203T153000
DTSTAMP:20260424T112006
CREATED:20230816T210044Z
LAST-MODIFIED:20231202T235006Z
UID:11344-1701612000-1701617400@tv1881altdorf.de
SUMMARY:Bezirksklasse Frauen Staffel West SG Auerbach/Pegnitz vs TV 1881 Altdorf II (24024029)
DESCRIPTION:Bezirk­sklasse Frauen Staffel West\nBegeg­nungs-Nr: 24024029\nHeim: SG Auerbach/Pegnitz\nGast: TV 1881 Alt­dorf II\nHalle: Auer­bach\, Hel­mut-Ott-Halle (240005)\nAdresse: Place de Laneu­veville\, 91275 Auerbach
URL:https://tv1881altdorf.de/event/bezirksklasse-frauen-staffel-west-sg-auerbach-pegnitz-vs-tv-1881-altdorf-ii-40
LOCATION:Auerbach\, Helmut-Ott-Halle (240005): Place de Laneuveville\, 91275 Auerbach
CATEGORIES:Handball
END:VEVENT
BEGIN:VEVENT
DTSTART;TZID=Europe/Berlin:20231203T160000
DTEND;TZID=Europe/Berlin:20231203T173000
DTSTAMP:20260424T112006
CREATED:20230724T171527Z
LAST-MODIFIED:20231202T235006Z
UID:10900-1701619200-1701624600@tv1881altdorf.de
SUMMARY:Bezirksliga Männer Staffel West SG Auerbach/Pegnitz II vs TV 1881 Altdorf (40)
DESCRIPTION:Bezirk­sli­ga Män­ner Staffel West\nBegeg­nungs-Nr: 40\nHeim: SG Auerbach/Pegnitz II\nGast: TV 1881 Altdorf\nHalle: Auer­bach\, Hel­mut-Ott-Halle (240005)\nAdresse: Place de Laneu­veville\, 91275 Auerbach
URL:https://tv1881altdorf.de/event/bezirksliga-maenner-staffel-west-sg-auerbach-pegnitz-ii-vs-tv-1881-altdorf-40
LOCATION:Auerbach\, Helmut-Ott-Halle (240005): Place de Laneuveville\, 91275 Auerbach
CATEGORIES:Handball
END:VEVENT
BEGIN:VEVENT
DTSTART;TZID=Europe/Berlin:20231203T173000
DTEND;TZID=Europe/Berlin:20231203T190000
DTSTAMP:20260424T112006
CREATED:20230816T210057Z
LAST-MODIFIED:20231202T235006Z
UID:11346-1701624600-1701630000@tv1881altdorf.de
SUMMARY:Bezirksoberliga Frauen HV Oberviechtach vs TV 1881 Altdorf (59)
DESCRIPTION:Bezirk­soberli­ga Frauen\nBegeg­nungs-Nr: 59\nHeim: HV Oberviechtach\nGast: TV 1881 Altdorf\nHalle: Oberviech­tach\, Sporthalle Gym­na­si­um (240301)\nAdresse: Wolf­gruben­weg 1\, 92526 Oberviechtach
URL:https://tv1881altdorf.de/event/bezirksoberliga-frauen-hv-oberviechtach-vs-tv-1881-altdorf-59
LOCATION:Oberviechtach\, Sporthalle Gymnasium (240301): Wolfgrubenweg 1\, 92526 Oberviechtach
CATEGORIES:Handball
END:VEVENT
END:VCALENDAR