BEGIN:VCALENDAR
VERSION:2.0
PRODID:-//TV 1881 Altdorf e.V. - ECPv6.15.20//NONSGML v1.0//EN
CALSCALE:GREGORIAN
METHOD:PUBLISH
X-ORIGINAL-URL:https://tv1881altdorf.de
X-WR-CALDESC:Veranstaltungen für TV 1881 Altdorf e.V.
REFRESH-INTERVAL;VALUE=DURATION:PT1H
X-Robots-Tag:noindex
X-PUBLISHED-TTL:PT1H
BEGIN:VTIMEZONE
TZID:Europe/Berlin
BEGIN:DAYLIGHT
TZOFFSETFROM:+0100
TZOFFSETTO:+0200
TZNAME:CEST
DTSTART:20220327T010000
END:DAYLIGHT
BEGIN:STANDARD
TZOFFSETFROM:+0200
TZOFFSETTO:+0100
TZNAME:CET
DTSTART:20221030T010000
END:STANDARD
BEGIN:DAYLIGHT
TZOFFSETFROM:+0100
TZOFFSETTO:+0200
TZNAME:CEST
DTSTART:20230326T010000
END:DAYLIGHT
BEGIN:STANDARD
TZOFFSETFROM:+0200
TZOFFSETTO:+0100
TZNAME:CET
DTSTART:20231029T010000
END:STANDARD
BEGIN:DAYLIGHT
TZOFFSETFROM:+0100
TZOFFSETTO:+0200
TZNAME:CEST
DTSTART:20240331T010000
END:DAYLIGHT
BEGIN:STANDARD
TZOFFSETFROM:+0200
TZOFFSETTO:+0100
TZNAME:CET
DTSTART:20241027T010000
END:STANDARD
END:VTIMEZONE
BEGIN:VEVENT
DTSTART;TZID=Europe/Berlin:20231209T133000
DTEND;TZID=Europe/Berlin:20231209T153000
DTSTAMP:20260424T112049
CREATED:20230919T113902Z
LAST-MODIFIED:20230920T121121Z
UID:11750-1702128600-1702135800@tv1881altdorf.de
SUMMARY:Volleyball (H) - TV Altdorf II vs. TSV Ansbach II
DESCRIPTION:
URL:https://tv1881altdorf.de/event/damen-2-h-tv-altdorf-ii-vs-tsv-ansbach-ii
LOCATION:Dreifachhalle der Mittelschule\, Schulstraße 6\, Altdorf\, 90518
CATEGORIES:Damen II,Heimspiel,Volleyball
END:VEVENT
BEGIN:VEVENT
DTSTART;TZID=Europe/Berlin:20231209T150000
DTEND;TZID=Europe/Berlin:20231210T200000
DTSTAMP:20260424T112049
CREATED:20231129T190522Z
LAST-MODIFIED:20231129T190541Z
UID:12803-1702134000-1702238400@tv1881altdorf.de
SUMMARY:Handballer Bude am Weihnachtsmarkt
DESCRIPTION:Alle Jahre wieder 🎄\nAm Sam­stag\, den 02.12 startet unser Alt­dor­fer Wei­h­nachts­markt ❄️\nFreut euch auf einen leck­eren Pun­sch\, eine fruchtige Rum­topf­bowle oder die ein oder andere heiße Glühbirne 💡\nNeugierig? Schaut vorbei!❤️
URL:https://tv1881altdorf.de/event/handballer-bude-am-weihnachtsmarkt-copy-copy
CATEGORIES:Allgemein,Handball
ATTACH;FMTTYPE=image/png:https://tv1881altdorf.de/wp-content/uploads/2023/11/124.png
ORGANIZER;CN="Die Handballer":MAILTO:abteilungsleiter@diehandballer.de
END:VEVENT
BEGIN:VEVENT
DTSTART;TZID=Europe/Berlin:20231209T170000
DTEND;TZID=Europe/Berlin:20231209T190000
DTSTAMP:20260424T112049
CREATED:20230919T114401Z
LAST-MODIFIED:20230920T121110Z
UID:11752-1702141200-1702148400@tv1881altdorf.de
SUMMARY:Volleyball (H) - TV SUSPA Altdorf vs. TSV TB München
DESCRIPTION:Tick­ets: \n\n8\,50€ Erwach­sene (inkl. 1€ Verzehrgutschein)\n5\,00€ Ermäßigt (inkl. 1€ Verzehrgutschein)\n\nLivestream: https://www.sport1extra.de/en-int/page/2bundesliga-frauen-sud \nSpielplan: https://www.volleyball-bundesliga.de/cms/home/2_bundesliga_frauen/2_bundesliga_frauen_sued/tabellespielplan/spielplan.xhtml
URL:https://tv1881altdorf.de/event/damen-1-h-tv-suspa-altdorf-vs-tsv-tb-muenchen
LOCATION:Dreifachhalle der Mittelschule\, Schulstraße 6\, Altdorf\, 90518
CATEGORIES:Damen I,Heimspiel,Volleyball
END:VEVENT
BEGIN:VEVENT
DTSTART;TZID=Europe/Berlin:20231209T170000
DTEND;TZID=Europe/Berlin:20231209T210000
DTSTAMP:20260424T112049
CREATED:20231001T201506Z
LAST-MODIFIED:20231001T212832Z
UID:12069-1702141200-1702155600@tv1881altdorf.de
SUMMARY:Tennis D40 Landesliga 2 gg Weißenburger TC
DESCRIPTION:Halle Ten­nishalle Treuchtlingen
URL:https://tv1881altdorf.de/event/d40-weissenburger-tc
CATEGORIES:Damen 40,Tennis
END:VEVENT
END:VCALENDAR