BEGIN:VCALENDAR
VERSION:2.0
PRODID:-//TV 1881 Altdorf e.V. - ECPv6.15.20//NONSGML v1.0//EN
CALSCALE:GREGORIAN
METHOD:PUBLISH
X-ORIGINAL-URL:https://tv1881altdorf.de
X-WR-CALDESC:Veranstaltungen für TV 1881 Altdorf e.V.
REFRESH-INTERVAL;VALUE=DURATION:PT1H
X-Robots-Tag:noindex
X-PUBLISHED-TTL:PT1H
BEGIN:VTIMEZONE
TZID:Europe/Berlin
BEGIN:DAYLIGHT
TZOFFSETFROM:+0100
TZOFFSETTO:+0200
TZNAME:CEST
DTSTART:20220327T010000
END:DAYLIGHT
BEGIN:STANDARD
TZOFFSETFROM:+0200
TZOFFSETTO:+0100
TZNAME:CET
DTSTART:20221030T010000
END:STANDARD
BEGIN:DAYLIGHT
TZOFFSETFROM:+0100
TZOFFSETTO:+0200
TZNAME:CEST
DTSTART:20230326T010000
END:DAYLIGHT
BEGIN:STANDARD
TZOFFSETFROM:+0200
TZOFFSETTO:+0100
TZNAME:CET
DTSTART:20231029T010000
END:STANDARD
BEGIN:DAYLIGHT
TZOFFSETFROM:+0100
TZOFFSETTO:+0200
TZNAME:CEST
DTSTART:20240331T010000
END:DAYLIGHT
BEGIN:STANDARD
TZOFFSETFROM:+0200
TZOFFSETTO:+0100
TZNAME:CET
DTSTART:20241027T010000
END:STANDARD
END:VTIMEZONE
BEGIN:VEVENT
DTSTART;TZID=Europe/Berlin:20231216T150000
DTEND;TZID=Europe/Berlin:20231217T200000
DTSTAMP:20260424T112014
CREATED:20231129T185724Z
LAST-MODIFIED:20231129T185936Z
UID:12796-1702738800-1702843200@tv1881altdorf.de
SUMMARY:Handballer Bude am Weihnachtsmarkt
DESCRIPTION:Alle Jahre wieder 🎄\nAm Sam­stag\, den 02.12 startet unser Alt­dor­fer Wei­h­nachts­markt ❄️\nFreut euch auf einen leck­eren Pun­sch\, eine fruchtige Rum­topf­bowle oder die ein oder andere heiße Glühbirne 💡\nNeugierig? Schaut vorbei!❤️
URL:https://tv1881altdorf.de/event/handballer-bude-am-weihnachtsmarkt
CATEGORIES:Allgemein,Handball
ATTACH;FMTTYPE=image/png:https://tv1881altdorf.de/wp-content/uploads/2023/11/124.png
ORGANIZER;CN="Die Handballer":MAILTO:abteilungsleiter@diehandballer.de
END:VEVENT
BEGIN:VEVENT
DTSTART;TZID=Europe/Berlin:20231217T140000
DTEND;TZID=Europe/Berlin:20231217T153000
DTSTAMP:20260424T112014
CREATED:20230928T073105Z
LAST-MODIFIED:20231217T032006Z
UID:11942-1702821600-1702827000@tv1881altdorf.de
SUMMARY:Bezirksklasse Männer Staffel West TV 1881 Altdorf II vs SpVgg Diepersd. (24014045)
DESCRIPTION:Bezirk­sklasse Män­ner Staffel West\nBegeg­nungs-Nr: 24014045\nHeim: TV 1881 Alt­dorf II\nGast: SpVgg Diepersd.\nHalle: Alt­dorf\, Schul­turn­halle Grund­schule (neu) (240000)\nAdresse: Hagen­hausen­er Str. 5\, 90518 Altdorf
URL:https://tv1881altdorf.de/event/bezirksklasse-maenner-staffel-west-tv-1881-altdorf-ii-vs-spvgg-diepersd-24014045
LOCATION:Altdorf\, Schulturnhalle Grundschule (neu) (240000): Hagenhausener Str. 5\, 90518 Altdorf
CATEGORIES:Handball
END:VEVENT
END:VCALENDAR