BEGIN:VCALENDAR
VERSION:2.0
PRODID:-//TV 1881 Altdorf e.V. - ECPv6.15.20//NONSGML v1.0//EN
CALSCALE:GREGORIAN
METHOD:PUBLISH
X-ORIGINAL-URL:https://tv1881altdorf.de
X-WR-CALDESC:Veranstaltungen für TV 1881 Altdorf e.V.
REFRESH-INTERVAL;VALUE=DURATION:PT1H
X-Robots-Tag:noindex
X-PUBLISHED-TTL:PT1H
BEGIN:VTIMEZONE
TZID:Europe/Berlin
BEGIN:DAYLIGHT
TZOFFSETFROM:+0100
TZOFFSETTO:+0200
TZNAME:CEST
DTSTART:20230326T010000
END:DAYLIGHT
BEGIN:STANDARD
TZOFFSETFROM:+0200
TZOFFSETTO:+0100
TZNAME:CET
DTSTART:20231029T010000
END:STANDARD
BEGIN:DAYLIGHT
TZOFFSETFROM:+0100
TZOFFSETTO:+0200
TZNAME:CEST
DTSTART:20240331T010000
END:DAYLIGHT
BEGIN:STANDARD
TZOFFSETFROM:+0200
TZOFFSETTO:+0100
TZNAME:CET
DTSTART:20241027T010000
END:STANDARD
BEGIN:DAYLIGHT
TZOFFSETFROM:+0100
TZOFFSETTO:+0200
TZNAME:CEST
DTSTART:20250330T010000
END:DAYLIGHT
BEGIN:STANDARD
TZOFFSETFROM:+0200
TZOFFSETTO:+0100
TZNAME:CET
DTSTART:20251026T010000
END:STANDARD
END:VTIMEZONE
BEGIN:VEVENT
DTSTART;TZID=Europe/Berlin:20240203T180000
DTEND;TZID=Europe/Berlin:20240203T193000
DTSTAMP:20260424T082708
CREATED:20230816T210113Z
LAST-MODIFIED:20240203T172005Z
UID:11357-1706983200-1706988600@tv1881altdorf.de
SUMMARY:Bezirksoberliga Frauen HSG Weiden vs TV 1881 Altdorf (27)
DESCRIPTION:Bezirk­soberli­ga Frauen\nBegeg­nungs-Nr: 27\nHeim: HSG Weiden\nGast: TV 1881 Altdorf\nHalle: Wei­den\, Sporthalle Realschule (240462)\nAdresse: Kurt-Schu­mach­er-Allee 8\, 92637 Weiden
URL:https://tv1881altdorf.de/event/bezirksoberliga-frauen-hsg-weiden-vs-tv-1881-altdorf-27
LOCATION:Weiden\, Sporthalle Realschule (240462): Kurt-Schumacher-Allee 8\, 92637 Weiden
CATEGORIES:Handball
END:VEVENT
BEGIN:VEVENT
DTSTART;TZID=Europe/Berlin:20240203T180000
DTEND;TZID=Europe/Berlin:20240203T200000
DTSTAMP:20260424T082708
CREATED:20230919T115559Z
LAST-MODIFIED:20230920T120933Z
UID:11764-1706983200-1706990400@tv1881altdorf.de
SUMMARY:Volleyball (H) - TV SUSPA Altdorf vs. SV Karlsruhe-Beiertheim
DESCRIPTION:Tick­ets: \n\n8\,50€ Erwach­sene (inkl. 1€ Verzehrgutschein)\n5\,00€ Ermäßigt (inkl. 1€ Verzehrgutschein)\n\nLivestream: https://www.sport1extra.de/en-int/page/2bundesliga-frauen-sud \nSpielplan: https://www.volleyball-bundesliga.de/cms/home/2_bundesliga_frauen/2_bundesliga_frauen_sued/tabellespielplan/spielplan.xhtml
URL:https://tv1881altdorf.de/event/damen-1-h-tv-suspa-altdorf-vs-sv-karlsruhe-beiertheim
LOCATION:Dreifachhalle der Mittelschule\, Schulstraße 6\, Altdorf\, 90518
CATEGORIES:Damen I,Heimspiel,Volleyball
END:VEVENT
END:VCALENDAR