BEGIN:VCALENDAR
VERSION:2.0
PRODID:-//TV 1881 Altdorf e.V. - ECPv6.15.20//NONSGML v1.0//EN
CALSCALE:GREGORIAN
METHOD:PUBLISH
X-WR-CALNAME:TV 1881 Altdorf e.V.
X-ORIGINAL-URL:https://tv1881altdorf.de
X-WR-CALDESC:Veranstaltungen für TV 1881 Altdorf e.V.
REFRESH-INTERVAL;VALUE=DURATION:PT1H
X-Robots-Tag:noindex
X-PUBLISHED-TTL:PT1H
BEGIN:VTIMEZONE
TZID:Europe/Berlin
BEGIN:DAYLIGHT
TZOFFSETFROM:+0100
TZOFFSETTO:+0200
TZNAME:CEST
DTSTART:20230326T010000
END:DAYLIGHT
BEGIN:STANDARD
TZOFFSETFROM:+0200
TZOFFSETTO:+0100
TZNAME:CET
DTSTART:20231029T010000
END:STANDARD
BEGIN:DAYLIGHT
TZOFFSETFROM:+0100
TZOFFSETTO:+0200
TZNAME:CEST
DTSTART:20240331T010000
END:DAYLIGHT
BEGIN:STANDARD
TZOFFSETFROM:+0200
TZOFFSETTO:+0100
TZNAME:CET
DTSTART:20241027T010000
END:STANDARD
BEGIN:DAYLIGHT
TZOFFSETFROM:+0100
TZOFFSETTO:+0200
TZNAME:CEST
DTSTART:20250330T010000
END:DAYLIGHT
BEGIN:STANDARD
TZOFFSETFROM:+0200
TZOFFSETTO:+0100
TZNAME:CET
DTSTART:20251026T010000
END:STANDARD
END:VTIMEZONE
BEGIN:VEVENT
DTSTART;TZID=Europe/Berlin:20240210T110000
DTEND;TZID=Europe/Berlin:20240210T150000
DTSTAMP:20260424T082508
CREATED:20230922T134559Z
LAST-MODIFIED:20231001T211826Z
UID:11858-1707562800-1707577200@tv1881altdorf.de
SUMMARY:Tennis H40 Nordliga 1 gg TSV Ochenbruck
DESCRIPTION:Halle Ten­nishalle Feucht
URL:https://tv1881altdorf.de/event/h40-tsv-ochenbruck
CATEGORIES:Tennis
END:VEVENT
BEGIN:VEVENT
DTSTART;TZID=Europe/Berlin:20240210T150000
DTEND;TZID=Europe/Berlin:20240210T190000
DTSTAMP:20260424T082508
CREATED:20231001T201558Z
LAST-MODIFIED:20231001T213505Z
UID:12076-1707577200-1707591600@tv1881altdorf.de
SUMMARY:Tennis Damen Nordliga 2 ggTSV Ebermannstadt
DESCRIPTION:Halle House of Sports Eckental
URL:https://tv1881altdorf.de/event/d-tsv-ebermannstadt
CATEGORIES:Damen,Tennis
END:VEVENT
BEGIN:VEVENT
DTSTART;TZID=Europe/Berlin:20240210T160000
DTEND;TZID=Europe/Berlin:20240210T173000
DTSTAMP:20260424T082508
CREATED:20230928T073120Z
LAST-MODIFIED:20240209T185005Z
UID:11947-1707580800-1707586200@tv1881altdorf.de
SUMMARY:Bezirksklasse Männer Staffel West TV 1881 Altdorf II vs TS Herzogenaurach III (24014060)
DESCRIPTION:Bezirk­sklasse Män­ner Staffel West\nBegeg­nungs-Nr: 24014060\nHeim: TV 1881 Alt­dorf II\nGast: TS Her­zo­ge­nau­rach III\nHalle: Alt­dorf\, Schul­turn­halle Grund­schule (neu) (240000)\nAdresse: Hagen­hausen­er Str. 5\, 90518 Altdorf
URL:https://tv1881altdorf.de/event/bezirksklasse-maenner-staffel-west-tv-1881-altdorf-ii-vs-ts-herzogenaurach-iii-24014060
LOCATION:Altdorf\, Schulturnhalle Grundschule (neu) (240000): Hagenhausener Str. 5\, 90518 Altdorf
CATEGORIES:Handball
END:VEVENT
BEGIN:VEVENT
DTSTART;TZID=Europe/Berlin:20240210T160000
DTEND;TZID=Europe/Berlin:20240210T200000
DTSTAMP:20260424T082508
CREATED:20231001T201543Z
LAST-MODIFIED:20231001T212716Z
UID:12071-1707580800-1707595200@tv1881altdorf.de
SUMMARY:Tennis D40 Landesliga 2 gg ARSV Katzwang
DESCRIPTION:Halle Ten­nis Cen­ter Noris Nürnberg
URL:https://tv1881altdorf.de/event/d40-arsv-katzwang
CATEGORIES:Tennis
END:VEVENT
BEGIN:VEVENT
DTSTART;TZID=Europe/Berlin:20240210T180000
DTEND;TZID=Europe/Berlin:20240210T193000
DTSTAMP:20260424T082508
CREATED:20230724T171540Z
LAST-MODIFIED:20240209T185005Z
UID:10905-1707588000-1707593400@tv1881altdorf.de
SUMMARY:Bezirksliga Männer Staffel West TV 1881 Altdorf vs TS Herzogenaurach (4)
DESCRIPTION:Bezirk­sli­ga Män­ner Staffel West\nBegeg­nungs-Nr: 4\nHeim: TV 1881 Altdorf\nGast: TS Herzogenaurach\nHalle: Alt­dorf\, Schul­turn­halle Grund­schule (neu) (240000)\nAdresse: Hagen­hausen­er Str. 5\, 90518 Altdorf
URL:https://tv1881altdorf.de/event/bezirksliga-maenner-staffel-west-tv-1881-altdorf-vs-ts-herzogenaurach-4
LOCATION:Altdorf\, Schulturnhalle Grundschule (neu) (240000): Hagenhausener Str. 5\, 90518 Altdorf
CATEGORIES:Handball
END:VEVENT
END:VCALENDAR