BEGIN:VCALENDAR
VERSION:2.0
PRODID:-//TV 1881 Altdorf e.V. - ECPv6.15.20//NONSGML v1.0//EN
CALSCALE:GREGORIAN
METHOD:PUBLISH
X-ORIGINAL-URL:https://tv1881altdorf.de
X-WR-CALDESC:Veranstaltungen für TV 1881 Altdorf e.V.
REFRESH-INTERVAL;VALUE=DURATION:PT1H
X-Robots-Tag:noindex
X-PUBLISHED-TTL:PT1H
BEGIN:VTIMEZONE
TZID:Europe/Berlin
BEGIN:DAYLIGHT
TZOFFSETFROM:+0100
TZOFFSETTO:+0200
TZNAME:CEST
DTSTART:20230326T010000
END:DAYLIGHT
BEGIN:STANDARD
TZOFFSETFROM:+0200
TZOFFSETTO:+0100
TZNAME:CET
DTSTART:20231029T010000
END:STANDARD
BEGIN:DAYLIGHT
TZOFFSETFROM:+0100
TZOFFSETTO:+0200
TZNAME:CEST
DTSTART:20240331T010000
END:DAYLIGHT
BEGIN:STANDARD
TZOFFSETFROM:+0200
TZOFFSETTO:+0100
TZNAME:CET
DTSTART:20241027T010000
END:STANDARD
BEGIN:DAYLIGHT
TZOFFSETFROM:+0100
TZOFFSETTO:+0200
TZNAME:CEST
DTSTART:20250330T010000
END:DAYLIGHT
BEGIN:STANDARD
TZOFFSETFROM:+0200
TZOFFSETTO:+0100
TZNAME:CET
DTSTART:20251026T010000
END:STANDARD
END:VTIMEZONE
BEGIN:VEVENT
DTSTART;TZID=Europe/Berlin:20240224T140000
DTEND;TZID=Europe/Berlin:20240224T180000
DTSTAMP:20260424T082632
CREATED:20230919T115714Z
LAST-MODIFIED:20230920T120830Z
UID:11766-1708783200-1708797600@tv1881altdorf.de
SUMMARY:Volleyball (H) - TV Altdorf III vs. Rednitzhembach 2 & Feucht
DESCRIPTION:
URL:https://tv1881altdorf.de/event/damen-3-h-tv-altdorf-iii-vs-rednitzhembach-2-feucht
LOCATION:Dreifachhalle der Mittelschule\, Schulstraße 6\, Altdorf\, 90518
CATEGORIES:Damen III,Heimspiel,Volleyball
END:VEVENT
BEGIN:VEVENT
DTSTART;TZID=Europe/Berlin:20240224T150000
DTEND;TZID=Europe/Berlin:20240224T163000
DTSTAMP:20260424T082632
CREATED:20230816T210115Z
LAST-MODIFIED:20240217T205006Z
UID:11362-1708786800-1708792200@tv1881altdorf.de
SUMMARY:Bezirksklasse Frauen Staffel West TSV Winkelhaid II vs TV 1881 Altdorf II (24024049)
DESCRIPTION:Bezirk­sklasse Frauen Staffel West\nBegeg­nungs-Nr: 24024049\nHeim: TSV Winkel­haid II\nGast: TV 1881 Alt­dorf II\nHalle: Winkel­haid\, Dr. Diet­mar-Traut­mann-Sportan­lage (240465)\nAdresse: SportparkstraÃe 2\, 90610 Winkelhaid
URL:https://tv1881altdorf.de/event/bezirksklasse-frauen-staffel-west-tsv-winkelhaid-ii-vs-tv-1881-altdorf-ii-17
LOCATION:Winkelhaid\, Dr. Dietmar-Trautmann-Sportanlage (240465): SportparkstraÃe 2\, 90610 Winkelhaid
CATEGORIES:Handball
END:VEVENT
BEGIN:VEVENT
DTSTART;TZID=Europe/Berlin:20240224T171500
DTEND;TZID=Europe/Berlin:20240224T184500
DTSTAMP:20260424T082632
CREATED:20230724T171540Z
LAST-MODIFIED:20240223T222005Z
UID:10907-1708794900-1708800300@tv1881altdorf.de
SUMMARY:Bezirksliga Männer Staffel West TSV Winkelhaid vs TV 1881 Altdorf (17)
DESCRIPTION:Bezirk­sli­ga Män­ner Staffel West\nBegeg­nungs-Nr: 17\nHeim: TSV Winkelhaid\nGast: TV 1881 Altdorf\nHalle: Winkel­haid\, Dr. Diet­mar-Traut­mann-Sportan­lage (240465)\nAdresse: Sport­park­straße 2\, 90610 Winkelhaid
URL:https://tv1881altdorf.de/event/bezirksliga-maenner-staffel-west-tsv-winkelhaid-vs-tv-1881-altdorf-17
LOCATION:Winkelhaid\, Dr. Dietmar-Trautmann-Sportanlage (240465): Sportparkstraße 2\, 90610 Winkelhaid
CATEGORIES:Handball
END:VEVENT
END:VCALENDAR