BEGIN:VCALENDAR
VERSION:2.0
PRODID:-//TV 1881 Altdorf e.V. - ECPv6.15.20//NONSGML v1.0//EN
CALSCALE:GREGORIAN
METHOD:PUBLISH
X-WR-CALNAME:TV 1881 Altdorf e.V.
X-ORIGINAL-URL:https://tv1881altdorf.de
X-WR-CALDESC:Veranstaltungen für TV 1881 Altdorf e.V.
REFRESH-INTERVAL;VALUE=DURATION:PT1H
X-Robots-Tag:noindex
X-PUBLISHED-TTL:PT1H
BEGIN:VTIMEZONE
TZID:Europe/Berlin
BEGIN:DAYLIGHT
TZOFFSETFROM:+0100
TZOFFSETTO:+0200
TZNAME:CEST
DTSTART:20230326T010000
END:DAYLIGHT
BEGIN:STANDARD
TZOFFSETFROM:+0200
TZOFFSETTO:+0100
TZNAME:CET
DTSTART:20231029T010000
END:STANDARD
BEGIN:DAYLIGHT
TZOFFSETFROM:+0100
TZOFFSETTO:+0200
TZNAME:CEST
DTSTART:20240331T010000
END:DAYLIGHT
BEGIN:STANDARD
TZOFFSETFROM:+0200
TZOFFSETTO:+0100
TZNAME:CET
DTSTART:20241027T010000
END:STANDARD
BEGIN:DAYLIGHT
TZOFFSETFROM:+0100
TZOFFSETTO:+0200
TZNAME:CEST
DTSTART:20250330T010000
END:DAYLIGHT
BEGIN:STANDARD
TZOFFSETFROM:+0200
TZOFFSETTO:+0100
TZNAME:CET
DTSTART:20251026T010000
END:STANDARD
END:VTIMEZONE
BEGIN:VEVENT
DTSTART;TZID=Europe/Berlin:20240225T120000
DTEND;TZID=Europe/Berlin:20240225T133000
DTSTAMP:20260424T082507
CREATED:20230928T073133Z
LAST-MODIFIED:20240224T223505Z
UID:11951-1708862400-1708867800@tv1881altdorf.de
SUMMARY:Bezirksklasse Männer Staffel West HSG SGS Erl/HC Niederl II vs TV 1881 Altdorf II (24014064)
DESCRIPTION:Bezirk­sklasse Män­ner Staffel West\nBegeg­nungs-Nr: 24014064\nHeim: HSG SGS Erl/HC Niederl II\nGast: TV 1881 Alt­dorf II\nHalle: Hannberg\, See­bach­grund­halle (240148)\nAdresse: Schul­strasse\, 91093 Heßdorf-Hannberg
URL:https://tv1881altdorf.de/event/bezirksklasse-maenner-staffel-west-hsg-sgs-erl-hc-niederl-ii-vs-tv-1881-altdorf-ii-24014064
LOCATION:Hannberg\, Seebachgrundhalle (240148): Schulstrasse\, 91093 Heßdorf-Hannberg
CATEGORIES:Handball
END:VEVENT
BEGIN:VEVENT
DTSTART;TZID=Europe/Berlin:20240225T123000
DTEND;TZID=Europe/Berlin:20240225T143000
DTSTAMP:20260424T082507
CREATED:20230919T115846Z
LAST-MODIFIED:20230920T120816Z
UID:11768-1708864200-1708871400@tv1881altdorf.de
SUMMARY:Volleyball (H) - TV Altdorf II vs. TSV Eintr. Rottenberg
DESCRIPTION:
URL:https://tv1881altdorf.de/event/damen-2-h-tv-altdorf-ii-vs-tsv-eintr-rottenberg
LOCATION:Dreifachhalle der Mittelschule\, Schulstraße 6\, Altdorf\, 90518
CATEGORIES:Damen II,Heimspiel,Volleyball
END:VEVENT
BEGIN:VEVENT
DTSTART;TZID=Europe/Berlin:20240225T160000
DTEND;TZID=Europe/Berlin:20240225T180000
DTSTAMP:20260424T082507
CREATED:20230919T120113Z
LAST-MODIFIED:20230920T120855Z
UID:11770-1708876800-1708884000@tv1881altdorf.de
SUMMARY:Volleyball (H) - TV SUSPA Altdorf vs. TSV Unterhaching
DESCRIPTION:Tick­ets: \n\n8\,50€ Erwach­sene (inkl. 1€ Verzehrgutschein)\n5\,00€ Ermäßigt (inkl. 1€ Verzehrgutschein)\n\nLivestream: https://www.sport1extra.de/en-int/page/2bundesliga-frauen-sud \nSpielplan: https://www.volleyball-bundesliga.de/cms/home/2_bundesliga_frauen/2_bundesliga_frauen_sued/tabellespielplan/spielplan.xhtml
URL:https://tv1881altdorf.de/event/damen-1-h-tv-suspa-altdorf-vs-tsv-unterhaching
LOCATION:Dreifachhalle der Mittelschule\, Schulstraße 6\, Altdorf\, 90518
CATEGORIES:Damen I,Heimspiel,Volleyball
END:VEVENT
BEGIN:VEVENT
DTSTART;TZID=Europe/Berlin:20240225T160000
DTEND;TZID=Europe/Berlin:20240225T200000
DTSTAMP:20260424T082507
CREATED:20231001T201400Z
LAST-MODIFIED:20231001T211515Z
UID:12061-1708876800-1708891200@tv1881altdorf.de
SUMMARY:Tennis H40 Nordliga 1 gg 1.Regensburger Tennis-Klub II
DESCRIPTION:Halle TV Hemau
URL:https://tv1881altdorf.de/event/h40-1-regensburger-tennis-klub-ii-2
CATEGORIES:Tennis
END:VEVENT
END:VCALENDAR