BEGIN:VCALENDAR
VERSION:2.0
PRODID:-//TV 1881 Altdorf e.V. - ECPv6.15.20//NONSGML v1.0//EN
CALSCALE:GREGORIAN
METHOD:PUBLISH
X-ORIGINAL-URL:https://tv1881altdorf.de
X-WR-CALDESC:Veranstaltungen für TV 1881 Altdorf e.V.
REFRESH-INTERVAL;VALUE=DURATION:PT1H
X-Robots-Tag:noindex
X-PUBLISHED-TTL:PT1H
BEGIN:VTIMEZONE
TZID:Europe/Berlin
BEGIN:DAYLIGHT
TZOFFSETFROM:+0100
TZOFFSETTO:+0200
TZNAME:CEST
DTSTART:20230326T010000
END:DAYLIGHT
BEGIN:STANDARD
TZOFFSETFROM:+0200
TZOFFSETTO:+0100
TZNAME:CET
DTSTART:20231029T010000
END:STANDARD
BEGIN:DAYLIGHT
TZOFFSETFROM:+0100
TZOFFSETTO:+0200
TZNAME:CEST
DTSTART:20240331T010000
END:DAYLIGHT
BEGIN:STANDARD
TZOFFSETFROM:+0200
TZOFFSETTO:+0100
TZNAME:CET
DTSTART:20241027T010000
END:STANDARD
BEGIN:DAYLIGHT
TZOFFSETFROM:+0100
TZOFFSETTO:+0200
TZNAME:CEST
DTSTART:20250330T010000
END:DAYLIGHT
BEGIN:STANDARD
TZOFFSETFROM:+0200
TZOFFSETTO:+0100
TZNAME:CET
DTSTART:20251026T010000
END:STANDARD
END:VTIMEZONE
BEGIN:VEVENT
DTSTART;VALUE=DATE:20240310
DTEND;VALUE=DATE:20240311
DTSTAMP:20260424T070349
CREATED:20231208T215350Z
LAST-MODIFIED:20231208T215439Z
UID:12956-1710028800-1710115199@tv1881altdorf.de
SUMMARY:Hallenkreismeisterschaften Nürnberg-Land
DESCRIPTION:Ort: Lauf \nAlter­sklassen: ab U14 (ab 12 Jahre) \nAuss­chrei­bung: fol­gt noch \nZeit­plan: fol­gt noch
URL:https://tv1881altdorf.de/event/hallenkreismeisterschaften-2024
CATEGORIES:Leichtathletik
END:VEVENT
BEGIN:VEVENT
DTSTART;TZID=Europe/Berlin:20240310T160000
DTEND;TZID=Europe/Berlin:20240310T173000
DTSTAMP:20260424T070349
CREATED:20230816T210130Z
LAST-MODIFIED:20240310T035505Z
UID:11367-1710086400-1710091800@tv1881altdorf.de
SUMMARY:Bezirksoberliga Frauen TV 1881 Altdorf vs ESV 27 Regensbg. III (46)
DESCRIPTION:Bezirk­soberli­ga Frauen\nBegeg­nungs-Nr: 46\nHeim: TV 1881 Altdorf\nGast: ESV 27 Regens­bg. III\nHalle: Alt­dorf\, Schul­turn­halle Grund­schule (neu) (240000)\nAdresse: Hagen­hausen­er Str. 5\, 90518 Altdorf
URL:https://tv1881altdorf.de/event/bezirksoberliga-frauen-tv-1881-altdorf-vs-esv-27-regensbg-iii-46
LOCATION:Altdorf\, Schulturnhalle Grundschule (neu) (240000): Hagenhausener Str. 5\, 90518 Altdorf
CATEGORIES:Handball
END:VEVENT
BEGIN:VEVENT
DTSTART;TZID=Europe/Berlin:20240310T160000
DTEND;TZID=Europe/Berlin:20240310T173000
DTSTAMP:20260424T070349
CREATED:20230928T073146Z
LAST-MODIFIED:20240310T035505Z
UID:11955-1710086400-1710091800@tv1881altdorf.de
SUMMARY:Bezirksklasse Männer Staffel West TS Herzogenaurach II vs TV 1881 Altdorf II (24014074)
DESCRIPTION:Bezirk­sklasse Män­ner Staffel West\nBegeg­nungs-Nr: 24014074\nHeim: TS Her­zo­ge­nau­rach II\nGast: TV 1881 Alt­dorf II\nHalle: Her­zo­ge­nau­rach\, Sporthalle Gym­na­si­um (240145)\nAdresse: Burgstaller Weg 20\, 91074 Herzogenaurach
URL:https://tv1881altdorf.de/event/bezirksklasse-maenner-staffel-west-ts-herzogenaurach-ii-vs-tv-1881-altdorf-ii-24014074
LOCATION:Herzogenaurach\, Sporthalle Gymnasium (240145): Burgstaller Weg 20\, 91074 Herzogenaurach
CATEGORIES:Handball
END:VEVENT
END:VCALENDAR