BEGIN:VCALENDAR
VERSION:2.0
PRODID:-//TV 1881 Altdorf e.V. - ECPv6.15.20//NONSGML v1.0//EN
CALSCALE:GREGORIAN
METHOD:PUBLISH
X-WR-CALNAME:TV 1881 Altdorf e.V.
X-ORIGINAL-URL:https://tv1881altdorf.de
X-WR-CALDESC:Veranstaltungen für TV 1881 Altdorf e.V.
REFRESH-INTERVAL;VALUE=DURATION:PT1H
X-Robots-Tag:noindex
X-PUBLISHED-TTL:PT1H
BEGIN:VTIMEZONE
TZID:Europe/Berlin
BEGIN:DAYLIGHT
TZOFFSETFROM:+0100
TZOFFSETTO:+0200
TZNAME:CEST
DTSTART:20230326T010000
END:DAYLIGHT
BEGIN:STANDARD
TZOFFSETFROM:+0200
TZOFFSETTO:+0100
TZNAME:CET
DTSTART:20231029T010000
END:STANDARD
BEGIN:DAYLIGHT
TZOFFSETFROM:+0100
TZOFFSETTO:+0200
TZNAME:CEST
DTSTART:20240331T010000
END:DAYLIGHT
BEGIN:STANDARD
TZOFFSETFROM:+0200
TZOFFSETTO:+0100
TZNAME:CET
DTSTART:20241027T010000
END:STANDARD
BEGIN:DAYLIGHT
TZOFFSETFROM:+0100
TZOFFSETTO:+0200
TZNAME:CEST
DTSTART:20250330T010000
END:DAYLIGHT
BEGIN:STANDARD
TZOFFSETFROM:+0200
TZOFFSETTO:+0100
TZNAME:CET
DTSTART:20251026T010000
END:STANDARD
END:VTIMEZONE
BEGIN:VEVENT
DTSTART;TZID=Europe/Berlin:20240509T140000
DTEND;TZID=Europe/Berlin:20240509T163000
DTSTAMP:20260424T041045
CREATED:20240503T200740Z
LAST-MODIFIED:20240503T204235Z
UID:15481-1715263200-1715272200@tv1881altdorf.de
SUMMARY:Game 3 – Altdorf Icesharks vs. Unterwurmbach Redsox – Home
DESCRIPTION:Play Ball in Altdorf \nEndlich – das erste Mal in Alt­dorf! Auf diesen Tag haben wir lange hingear­beit­et. Im neuen Ball­park hin­ter der Mittelschule/Leibniz Gym­na­si­um emp­fan­gen wir ab 14.00 Uhr die Unter­wurm­bach Red­sox. Die Red­sox gel­ten als Favorit in der Liga und sind somit gle­ich beim ersten Heim­spiel eine große Herausforderung. \n9.5.2024 – Don­ner­stag ist Vatertag – Für diesen ganz beson­deren Tag haben wir alles was geht in Bewe­gung geset­zt\, um ein richtig gutes Event zu bieten. Mit dabei der leg­endäre und erste Foodtruck Deutsch­lands Rib­wich – unver­schämt leck­er. Und dazu alles\, was man am Vatertag so alles brauchen kön­nte. And Music and more… \nLinks: \nUnter­wurm­bach Redsox \nAktuelle Tabelle \nSpielplan 2024
URL:https://tv1881altdorf.de/event/game-3-altdorf-icesharks-vs-unterwurmbach-redsox-home
LOCATION:Altdorf Icesharks Ballpark hinter Mittelschule/Leibniz Gymnasium\, Schulstraße\, Altdorf\, Bayern\, 90518\, Deutschland
CATEGORIES:Landesklasse Baseball Nord
END:VEVENT
END:VCALENDAR