BEGIN:VCALENDAR
VERSION:2.0
PRODID:-//TV 1881 Altdorf e.V. - ECPv6.15.20//NONSGML v1.0//EN
CALSCALE:GREGORIAN
METHOD:PUBLISH
X-ORIGINAL-URL:https://tv1881altdorf.de
X-WR-CALDESC:Veranstaltungen für TV 1881 Altdorf e.V.
REFRESH-INTERVAL;VALUE=DURATION:PT1H
X-Robots-Tag:noindex
X-PUBLISHED-TTL:PT1H
BEGIN:VTIMEZONE
TZID:Europe/Berlin
BEGIN:DAYLIGHT
TZOFFSETFROM:+0100
TZOFFSETTO:+0200
TZNAME:CEST
DTSTART:20230326T010000
END:DAYLIGHT
BEGIN:STANDARD
TZOFFSETFROM:+0200
TZOFFSETTO:+0100
TZNAME:CET
DTSTART:20231029T010000
END:STANDARD
BEGIN:DAYLIGHT
TZOFFSETFROM:+0100
TZOFFSETTO:+0200
TZNAME:CEST
DTSTART:20240331T010000
END:DAYLIGHT
BEGIN:STANDARD
TZOFFSETFROM:+0200
TZOFFSETTO:+0100
TZNAME:CET
DTSTART:20241027T010000
END:STANDARD
BEGIN:DAYLIGHT
TZOFFSETFROM:+0100
TZOFFSETTO:+0200
TZNAME:CEST
DTSTART:20250330T010000
END:DAYLIGHT
BEGIN:STANDARD
TZOFFSETFROM:+0200
TZOFFSETTO:+0100
TZNAME:CET
DTSTART:20251026T010000
END:STANDARD
END:VTIMEZONE
BEGIN:VEVENT
DTSTART;VALUE=DATE:20240608
DTEND;VALUE=DATE:20240609
DTSTAMP:20260424T023708
CREATED:20231208T214728Z
LAST-MODIFIED:20231208T214803Z
UID:12945-1717804800-1717891199@tv1881altdorf.de
SUMMARY:Zirndorfer KiLa-Sportfest
DESCRIPTION:Ort: Zirndorf \nAlter­sklassen: ab U8-U12 (bis 11 Jahre; 2012 Jahrgang) \nAuss­chrei­bung: fol­gt noch \nZeit­plan: fol­gt noch
URL:https://tv1881altdorf.de/event/zirndorf-kila-2024
CATEGORIES:Leichtathletik
END:VEVENT
BEGIN:VEVENT
DTSTART;TZID=Europe/Berlin:20240608T130000
DTEND;TZID=Europe/Berlin:20240608T233000
DTSTAMP:20260424T023708
CREATED:20231201T111501Z
LAST-MODIFIED:20240116T174748Z
UID:12835-1717851600-1717889400@tv1881altdorf.de
SUMMARY:40ig jähriges Jubiläum der Freitagskicker
DESCRIPTION:25\, 30\, 35 und jet­zt 40 Jahre Fre­itags­kick­er im Jahr 2024. \nTer­min: Sam­stag 08.06.2024 \nDas Jubiläum wird auf der Aussen­sportan­lage mit sportlichen Aktivitäten\nund anschließend im gemütlichen Teil mit Gästen im Saal gefeiert \nGenaues Pro­gramm siehe Bild \nGer­hard Schneider
URL:https://tv1881altdorf.de/event/40ig-jaehriges-jubilaeum-der-freitagskicker-2
CATEGORIES:Allgemein,Freitagskicker
ATTACH;FMTTYPE=image/jpeg:https://tv1881altdorf.de/wp-content/uploads/2023/12/Bild-Jubilaeum-4ss-Jahre.jpg
END:VEVENT
END:VCALENDAR