BEGIN:VCALENDAR
VERSION:2.0
PRODID:-//TV 1881 Altdorf e.V. - ECPv6.15.20//NONSGML v1.0//EN
CALSCALE:GREGORIAN
METHOD:PUBLISH
X-ORIGINAL-URL:https://tv1881altdorf.de
X-WR-CALDESC:Veranstaltungen für TV 1881 Altdorf e.V.
REFRESH-INTERVAL;VALUE=DURATION:PT1H
X-Robots-Tag:noindex
X-PUBLISHED-TTL:PT1H
BEGIN:VTIMEZONE
TZID:Europe/Berlin
BEGIN:DAYLIGHT
TZOFFSETFROM:+0100
TZOFFSETTO:+0200
TZNAME:CEST
DTSTART:20230326T010000
END:DAYLIGHT
BEGIN:STANDARD
TZOFFSETFROM:+0200
TZOFFSETTO:+0100
TZNAME:CET
DTSTART:20231029T010000
END:STANDARD
BEGIN:DAYLIGHT
TZOFFSETFROM:+0100
TZOFFSETTO:+0200
TZNAME:CEST
DTSTART:20240331T010000
END:DAYLIGHT
BEGIN:STANDARD
TZOFFSETFROM:+0200
TZOFFSETTO:+0100
TZNAME:CET
DTSTART:20241027T010000
END:STANDARD
BEGIN:DAYLIGHT
TZOFFSETFROM:+0100
TZOFFSETTO:+0200
TZNAME:CEST
DTSTART:20250330T010000
END:DAYLIGHT
BEGIN:STANDARD
TZOFFSETFROM:+0200
TZOFFSETTO:+0100
TZNAME:CET
DTSTART:20251026T010000
END:STANDARD
END:VTIMEZONE
BEGIN:VEVENT
DTSTART;VALUE=DATE:20240622
DTEND;VALUE=DATE:20240623
DTSTAMP:20260424T023805
CREATED:20231208T214547Z
LAST-MODIFIED:20231208T214641Z
UID:12942-1719014400-1719100799@tv1881altdorf.de
SUMMARY:Mittelfränkische Meisterschaften (U18\,U20\,M/F)
DESCRIPTION:
URL:https://tv1881altdorf.de/event/mittelfraenkische-meisterschaften-u18u20m-f-2024
CATEGORIES:Leichtathletik
END:VEVENT
BEGIN:VEVENT
DTSTART;TZID=Europe/Berlin:20240622T180000
DTEND;TZID=Europe/Berlin:20240622T233000
DTSTAMP:20260424T023805
CREATED:20240430T124126Z
LAST-MODIFIED:20240430T124142Z
UID:15432-1719079200-1719099000@tv1881altdorf.de
SUMMARY:Bauhof Beatz
DESCRIPTION:Schaut vor­bei beim diesjähri­gen Bauhof Beatz! \nAb 18 Uhr ist für gute Musik aus den 90er und 2000er gesorgt. Euch erwarten neben Chill & Grill\, leckere und küh­le Getränke an der Bar. \nTick­ets erhal­tet ihr auf eventim.de! \nSeid dabei!
URL:https://tv1881altdorf.de/event/bauhof-beatz
LOCATION:Altdorf bei Nürnberg
CATEGORIES:Allgemein,Handball
ATTACH;FMTTYPE=image/png:https://tv1881altdorf.de/wp-content/uploads/2024/04/111-e1714480867794.png
END:VEVENT
END:VCALENDAR