BEGIN:VCALENDAR
VERSION:2.0
PRODID:-//TV 1881 Altdorf e.V. - ECPv6.15.20//NONSGML v1.0//EN
CALSCALE:GREGORIAN
METHOD:PUBLISH
X-ORIGINAL-URL:https://tv1881altdorf.de
X-WR-CALDESC:Veranstaltungen für TV 1881 Altdorf e.V.
REFRESH-INTERVAL;VALUE=DURATION:PT1H
X-Robots-Tag:noindex
X-PUBLISHED-TTL:PT1H
BEGIN:VTIMEZONE
TZID:Europe/Berlin
BEGIN:DAYLIGHT
TZOFFSETFROM:+0100
TZOFFSETTO:+0200
TZNAME:CEST
DTSTART:20230326T010000
END:DAYLIGHT
BEGIN:STANDARD
TZOFFSETFROM:+0200
TZOFFSETTO:+0100
TZNAME:CET
DTSTART:20231029T010000
END:STANDARD
BEGIN:DAYLIGHT
TZOFFSETFROM:+0100
TZOFFSETTO:+0200
TZNAME:CEST
DTSTART:20240331T010000
END:DAYLIGHT
BEGIN:STANDARD
TZOFFSETFROM:+0200
TZOFFSETTO:+0100
TZNAME:CET
DTSTART:20241027T010000
END:STANDARD
BEGIN:DAYLIGHT
TZOFFSETFROM:+0100
TZOFFSETTO:+0200
TZNAME:CEST
DTSTART:20250330T010000
END:DAYLIGHT
BEGIN:STANDARD
TZOFFSETFROM:+0200
TZOFFSETTO:+0100
TZNAME:CET
DTSTART:20251026T010000
END:STANDARD
END:VTIMEZONE
BEGIN:VEVENT
DTSTART;TZID=Europe/Berlin:20240623T130000
DTEND;TZID=Europe/Berlin:20240623T160000
DTSTAMP:20260424T023728
CREATED:20240519T153355Z
LAST-MODIFIED:20240520T092745Z
UID:15742-1719147600-1719158400@tv1881altdorf.de
SUMMARY:Jugend Baseball – Altdorf Icesharks vs. Guggenberger Legionäre 2 Regensburg – Homegame in Altdorf
DESCRIPTION:Play Ball – im Sportpark! \nAm Son­ntag\, den 23. Juni ab 13.00 Uhr emp­fan­gen die Alt­dorf Ice­sharks die Guggen­berg­er Legionäre 2 aus Regens­burg. In der Jugend Base­ball Lan­desli­ga wer­den Dou­ble Head­er gespielt – zwei Spiele hin­tere­inan­der. Ein Spiel wird über 5 Innings gespielt oder mit max­i­malem Zeitlim­it von 1\,5 Stunden. \n  \nMehr Infos
URL:https://tv1881altdorf.de/event/jugend-baseball-altdorf-icesharks-vs-sg-oberfranken-copy-2
LOCATION:Sportpark Altdorf
CATEGORIES:Baseball,Jugend Baseball Landesliga Nord (U15)
ATTACH;FMTTYPE=image/jpeg:https://tv1881altdorf.de/wp-content/uploads/2024/05/Baseball_Icesharks_2024-05-04_Gamepost_02_2000px.jpg
END:VEVENT
END:VCALENDAR