BEGIN:VCALENDAR
VERSION:2.0
PRODID:-//TV 1881 Altdorf e.V. - ECPv6.15.20//NONSGML v1.0//EN
CALSCALE:GREGORIAN
METHOD:PUBLISH
X-ORIGINAL-URL:https://tv1881altdorf.de
X-WR-CALDESC:Veranstaltungen für TV 1881 Altdorf e.V.
REFRESH-INTERVAL;VALUE=DURATION:PT1H
X-Robots-Tag:noindex
X-PUBLISHED-TTL:PT1H
BEGIN:VTIMEZONE
TZID:Europe/Berlin
BEGIN:DAYLIGHT
TZOFFSETFROM:+0100
TZOFFSETTO:+0200
TZNAME:CEST
DTSTART:20230326T010000
END:DAYLIGHT
BEGIN:STANDARD
TZOFFSETFROM:+0200
TZOFFSETTO:+0100
TZNAME:CET
DTSTART:20231029T010000
END:STANDARD
BEGIN:DAYLIGHT
TZOFFSETFROM:+0100
TZOFFSETTO:+0200
TZNAME:CEST
DTSTART:20240331T010000
END:DAYLIGHT
BEGIN:STANDARD
TZOFFSETFROM:+0200
TZOFFSETTO:+0100
TZNAME:CET
DTSTART:20241027T010000
END:STANDARD
BEGIN:DAYLIGHT
TZOFFSETFROM:+0100
TZOFFSETTO:+0200
TZNAME:CEST
DTSTART:20250330T010000
END:DAYLIGHT
BEGIN:STANDARD
TZOFFSETFROM:+0200
TZOFFSETTO:+0100
TZNAME:CET
DTSTART:20251026T010000
END:STANDARD
END:VTIMEZONE
BEGIN:VEVENT
DTSTART;VALUE=DATE:20240908
DTEND;VALUE=DATE:20240909
DTSTAMP:20260423T223755
CREATED:20240203T171550Z
LAST-MODIFIED:20240213T195010Z
UID:14053-1725753600-1725839999@tv1881altdorf.de
SUMMARY:Saisoneröffnungsfeier Jugend
DESCRIPTION:
URL:https://tv1881altdorf.de/event/saisoneroeffnungsfeier-jugend
CATEGORIES:Handball
END:VEVENT
BEGIN:VEVENT
DTSTART;TZID=Europe/Berlin:20240908T140000
DTEND;TZID=Europe/Berlin:20240908T163000
DTSTAMP:20260423T223755
CREATED:20240519T181912Z
LAST-MODIFIED:20240520T093709Z
UID:15824-1725804000-1725813000@tv1881altdorf.de
SUMMARY:Baseball – Game 10 – Franken Rebels vs. Altdorf Icesharks – On the Road
DESCRIPTION:Play Ball in Küps/Burkersdorf (Land­kreis Kronach)\n \nAm Son­ntag\, den 8. Sep­tem­ber ab 14.00 Uhr sind die Alt­dorf Ice­sharks bei den Franken Rebels zu Gast. In der Lan­desklasse Base­ball Nord wer­den Sin­glegames über 7 Innings  (oder mit max­i­malem Zeitlim­it von 2\,5 Stun­den) gespielt. \n  \nLinks: \nAktuelle Tabelle \nSpielplan 2024 \nFranken Rebels \n \n  \n  \n 
URL:https://tv1881altdorf.de/event/game-3-altdorf-icesharks-vs-unterwurmbach-redsox-home-copy-copy-2-copy-copy
LOCATION:Franken Rebels Ballpark\, Küps\, 96328
CATEGORIES:Baseball,Landesklasse Baseball Nord,Landesklasse Baseball Nord
ATTACH;FMTTYPE=image/jpeg:https://tv1881altdorf.de/wp-content/uploads/2024/05/IMG_8369_1000px_Termine.jpg
END:VEVENT
END:VCALENDAR