BEGIN:VCALENDAR
VERSION:2.0
PRODID:-//TV 1881 Altdorf e.V. - ECPv6.15.20//NONSGML v1.0//EN
CALSCALE:GREGORIAN
METHOD:PUBLISH
X-WR-CALNAME:TV 1881 Altdorf e.V.
X-ORIGINAL-URL:https://tv1881altdorf.de
X-WR-CALDESC:Veranstaltungen für TV 1881 Altdorf e.V.
REFRESH-INTERVAL;VALUE=DURATION:PT1H
X-Robots-Tag:noindex
X-PUBLISHED-TTL:PT1H
BEGIN:VTIMEZONE
TZID:Europe/Berlin
BEGIN:DAYLIGHT
TZOFFSETFROM:+0100
TZOFFSETTO:+0200
TZNAME:CEST
DTSTART:20230326T010000
END:DAYLIGHT
BEGIN:STANDARD
TZOFFSETFROM:+0200
TZOFFSETTO:+0100
TZNAME:CET
DTSTART:20231029T010000
END:STANDARD
BEGIN:DAYLIGHT
TZOFFSETFROM:+0100
TZOFFSETTO:+0200
TZNAME:CEST
DTSTART:20240331T010000
END:DAYLIGHT
BEGIN:STANDARD
TZOFFSETFROM:+0200
TZOFFSETTO:+0100
TZNAME:CET
DTSTART:20241027T010000
END:STANDARD
BEGIN:DAYLIGHT
TZOFFSETFROM:+0100
TZOFFSETTO:+0200
TZNAME:CEST
DTSTART:20250330T010000
END:DAYLIGHT
BEGIN:STANDARD
TZOFFSETFROM:+0200
TZOFFSETTO:+0100
TZNAME:CET
DTSTART:20251026T010000
END:STANDARD
END:VTIMEZONE
BEGIN:VEVENT
DTSTART;TZID=Europe/Berlin:20241006T090000
DTEND;TZID=Europe/Berlin:20241006T140000
DTSTAMP:20260423T211710
CREATED:20240927T112707Z
LAST-MODIFIED:20241005T235008Z
UID:17617-1728205200-1728223200@tv1881altdorf.de
SUMMARY:Heimtunier SpoPis
DESCRIPTION:
URL:https://tv1881altdorf.de/event/heimtunier-spopis
LOCATION:Turnhalle Altdorf
CATEGORIES:Handball
END:VEVENT
BEGIN:VEVENT
DTSTART;TZID=Europe/Berlin:20241006T130000
DTEND;TZID=Europe/Berlin:20241006T143000
DTSTAMP:20260423T211710
CREATED:20240927T112707Z
LAST-MODIFIED:20241005T235008Z
UID:17614-1728219600-1728225000@tv1881altdorf.de
SUMMARY:Bezirksklasse Staffel West SV Buckenhofen II vs TV 1881 Altdorf II (12)
DESCRIPTION:Bezirk­sklasse Frauen Staffel West\nBegeg­nungs-Nr: 12\nHeim: SV Buck­en­hofen II\nGast: TV 1881 Alt­dorf II\nHalle: Forch­heim\, Sporthalle Realschule (240102)\nAdresse: PestalozzistraÃe 2\, 91301 Forchheim
URL:https://tv1881altdorf.de/event/bezirksklasse-staffel-west-sv-buckenhofen-ii-vs-tv-1881-altdorf-ii-12
LOCATION:Forchheim\, Sporthalle Realschule (240102): PestalozzistraÃe 2\, 91301 Forchheim
CATEGORIES:Handball
END:VEVENT
BEGIN:VEVENT
DTSTART;TZID=Europe/Berlin:20241006T140000
DTEND;TZID=Europe/Berlin:20241006T190000
DTSTAMP:20260423T211710
CREATED:20240927T112708Z
LAST-MODIFIED:20241005T235007Z
UID:17619-1728223200-1728241200@tv1881altdorf.de
SUMMARY:Heimturnier E-Jugend
DESCRIPTION:
URL:https://tv1881altdorf.de/event/heimturnier-e-jugend
CATEGORIES:Handball
END:VEVENT
END:VCALENDAR