BEGIN:VCALENDAR
VERSION:2.0
PRODID:-//TV 1881 Altdorf e.V. - ECPv6.15.20//NONSGML v1.0//EN
CALSCALE:GREGORIAN
METHOD:PUBLISH
X-WR-CALNAME:TV 1881 Altdorf e.V.
X-ORIGINAL-URL:https://tv1881altdorf.de
X-WR-CALDESC:Veranstaltungen für TV 1881 Altdorf e.V.
REFRESH-INTERVAL;VALUE=DURATION:PT1H
X-Robots-Tag:noindex
X-PUBLISHED-TTL:PT1H
BEGIN:VTIMEZONE
TZID:Europe/Berlin
BEGIN:DAYLIGHT
TZOFFSETFROM:+0100
TZOFFSETTO:+0200
TZNAME:CEST
DTSTART:20230326T010000
END:DAYLIGHT
BEGIN:STANDARD
TZOFFSETFROM:+0200
TZOFFSETTO:+0100
TZNAME:CET
DTSTART:20231029T010000
END:STANDARD
BEGIN:DAYLIGHT
TZOFFSETFROM:+0100
TZOFFSETTO:+0200
TZNAME:CEST
DTSTART:20240331T010000
END:DAYLIGHT
BEGIN:STANDARD
TZOFFSETFROM:+0200
TZOFFSETTO:+0100
TZNAME:CET
DTSTART:20241027T010000
END:STANDARD
BEGIN:DAYLIGHT
TZOFFSETFROM:+0100
TZOFFSETTO:+0200
TZNAME:CEST
DTSTART:20250330T010000
END:DAYLIGHT
BEGIN:STANDARD
TZOFFSETFROM:+0200
TZOFFSETTO:+0100
TZNAME:CET
DTSTART:20251026T010000
END:STANDARD
END:VTIMEZONE
BEGIN:VEVENT
DTSTART;TZID=Europe/Berlin:20241020T150000
DTEND;TZID=Europe/Berlin:20241020T170000
DTSTAMP:20260423T211718
CREATED:20241002T123846Z
LAST-MODIFIED:20241019T173507Z
UID:17978-1729436400-1729443600@tv1881altdorf.de
SUMMARY:Volleyball D2 (A) - TB/ASV Regenstauf
DESCRIPTION:
URL:https://tv1881altdorf.de/event/volleyball-d2-a-tb-asv-regenstauf
CATEGORIES:Volleyball
END:VEVENT
BEGIN:VEVENT
DTSTART;TZID=Europe/Berlin:20241020T160000
DTEND;TZID=Europe/Berlin:20241020T173000
DTSTAMP:20260423T211718
CREATED:20240927T114152Z
LAST-MODIFIED:20241020T032007Z
UID:17644-1729440000-1729445400@tv1881altdorf.de
SUMMARY:Bezirksklasse Staffel West HSG Pyrbaum/Seligenporten II vs TV 1881 Altdorf II (19)
DESCRIPTION:Bezirk­sklasse Frauen Staffel West\nBegeg­nungs-Nr: 19\nHeim: HSG Pyrbaum/Seligenporten II\nGast: TV 1881 Alt­dorf II\nHalle: Post­bauer-Heng\, Schul­sporthalle (240320)\nAdresse: Im Cen­trum 5\, 92353 Postbauer-Heng
URL:https://tv1881altdorf.de/event/bezirksklasse-staffel-west-hsg-pyrbaum-seligenporten-ii-vs-tv-1881-altdorf-ii-19
LOCATION:Postbauer-Heng\, Schulsporthalle (240320): Im Centrum 5\, 92353 Postbauer-Heng
CATEGORIES:Handball
END:VEVENT
BEGIN:VEVENT
DTSTART;TZID=Europe/Berlin:20241020T180000
DTEND;TZID=Europe/Berlin:20241020T193000
DTSTAMP:20260423T211718
CREATED:20240927T114152Z
LAST-MODIFIED:20241020T032008Z
UID:17645-1729447200-1729452600@tv1881altdorf.de
SUMMARY:Bezirksliga Staffel West HSG SGS Erl/HC Niederl vs TV 1881 Altdorf II (19)
DESCRIPTION:Bezirk­sli­ga Män­ner Staffel West\nBegeg­nungs-Nr: 19\nHeim: HSG SGS Erl/HC Niederl\nGast: TV 1881 Alt­dorf II\nHalle: Hannberg\, See­bach­grund­halle (240148)\nAdresse: Schul­strasse\, 91093 Heßdorf-Hannberg
URL:https://tv1881altdorf.de/event/bezirksliga-staffel-west-hsg-sgs-erl-hc-niederl-vs-tv-1881-altdorf-ii-19
LOCATION:Hannberg\, Seebachgrundhalle (240148): Schulstrasse\, 91093 Heßdorf-Hannberg
CATEGORIES:Handball
END:VEVENT
END:VCALENDAR