BEGIN:VCALENDAR
VERSION:2.0
PRODID:-//TV 1881 Altdorf e.V. - ECPv6.15.20//NONSGML v1.0//EN
CALSCALE:GREGORIAN
METHOD:PUBLISH
X-ORIGINAL-URL:https://tv1881altdorf.de
X-WR-CALDESC:Veranstaltungen für TV 1881 Altdorf e.V.
REFRESH-INTERVAL;VALUE=DURATION:PT1H
X-Robots-Tag:noindex
X-PUBLISHED-TTL:PT1H
BEGIN:VTIMEZONE
TZID:Europe/Berlin
BEGIN:DAYLIGHT
TZOFFSETFROM:+0100
TZOFFSETTO:+0200
TZNAME:CEST
DTSTART:20230326T010000
END:DAYLIGHT
BEGIN:STANDARD
TZOFFSETFROM:+0200
TZOFFSETTO:+0100
TZNAME:CET
DTSTART:20231029T010000
END:STANDARD
BEGIN:DAYLIGHT
TZOFFSETFROM:+0100
TZOFFSETTO:+0200
TZNAME:CEST
DTSTART:20240331T010000
END:DAYLIGHT
BEGIN:STANDARD
TZOFFSETFROM:+0200
TZOFFSETTO:+0100
TZNAME:CET
DTSTART:20241027T010000
END:STANDARD
BEGIN:DAYLIGHT
TZOFFSETFROM:+0100
TZOFFSETTO:+0200
TZNAME:CEST
DTSTART:20250330T010000
END:DAYLIGHT
BEGIN:STANDARD
TZOFFSETFROM:+0200
TZOFFSETTO:+0100
TZNAME:CET
DTSTART:20251026T010000
END:STANDARD
END:VTIMEZONE
BEGIN:VEVENT
DTSTART;TZID=Europe/Berlin:20241026T183000
DTEND;TZID=Europe/Berlin:20241026T200000
DTSTAMP:20260423T211910
CREATED:20240927T114205Z
LAST-MODIFIED:20241026T045008Z
UID:17647-1729967400-1729972800@tv1881altdorf.de
SUMMARY:Bezirksoberliga HC Sulzb.Rosenb. vs TV 1881 Altdorf (39)
DESCRIPTION:Bezirk­soberli­ga Männer\nBegeg­nungs-Nr: 39\nHeim: HC Sulzb.Rosenb.\nGast: TV 1881 Altdorf\nHalle: Sulzbach-Rosenb\, Krötensee-Halle (240365)\nAdresse: Diesel­str. 29\, 92237  Sulzbach-Rosenberg
URL:https://tv1881altdorf.de/event/bezirksoberliga-hc-sulzb-rosenb-vs-tv-1881-altdorf-39
LOCATION:Sulzbach-Rosenb\, Krötensee-Halle (240365): Dieselstr. 29\, 92237  Sulzbach-Rosenberg
CATEGORIES:Handball
END:VEVENT
END:VCALENDAR