BEGIN:VCALENDAR
VERSION:2.0
PRODID:-//TV 1881 Altdorf e.V. - ECPv6.15.20//NONSGML v1.0//EN
CALSCALE:GREGORIAN
METHOD:PUBLISH
X-ORIGINAL-URL:https://tv1881altdorf.de
X-WR-CALDESC:Veranstaltungen für TV 1881 Altdorf e.V.
REFRESH-INTERVAL;VALUE=DURATION:PT1H
X-Robots-Tag:noindex
X-PUBLISHED-TTL:PT1H
BEGIN:VTIMEZONE
TZID:Europe/Berlin
BEGIN:DAYLIGHT
TZOFFSETFROM:+0100
TZOFFSETTO:+0200
TZNAME:CEST
DTSTART:20230326T010000
END:DAYLIGHT
BEGIN:STANDARD
TZOFFSETFROM:+0200
TZOFFSETTO:+0100
TZNAME:CET
DTSTART:20231029T010000
END:STANDARD
BEGIN:DAYLIGHT
TZOFFSETFROM:+0100
TZOFFSETTO:+0200
TZNAME:CEST
DTSTART:20240331T010000
END:DAYLIGHT
BEGIN:STANDARD
TZOFFSETFROM:+0200
TZOFFSETTO:+0100
TZNAME:CET
DTSTART:20241027T010000
END:STANDARD
BEGIN:DAYLIGHT
TZOFFSETFROM:+0100
TZOFFSETTO:+0200
TZNAME:CEST
DTSTART:20250330T010000
END:DAYLIGHT
BEGIN:STANDARD
TZOFFSETFROM:+0200
TZOFFSETTO:+0100
TZNAME:CET
DTSTART:20251026T010000
END:STANDARD
END:VTIMEZONE
BEGIN:VEVENT
DTSTART;TZID=Europe/Berlin:20241116T120000
DTEND;TZID=Europe/Berlin:20241116T133000
DTSTAMP:20260423T200404
CREATED:20240927T114207Z
LAST-MODIFIED:20241116T100508Z
UID:17655-1731758400-1731763800@tv1881altdorf.de
SUMMARY:Bezirksoberliga TV 1881 Altdorf vs HG Amberg  (44)
DESCRIPTION:Bezirk­soberli­ga Frauen\nBegeg­nungs-Nr: 44\nHeim: TV 1881 Altdorf\nGast: HG Amberg\nHalle: Alt­dorf\, Schul­turn­halle Grund­schule (neu) (240000)\nAdresse: Hagen­hausen­er Str. 5\, 90518 Altdorf
URL:https://tv1881altdorf.de/event/bezirksoberliga-tv-1881-altdorf-vs-hg-amberg-44
LOCATION:Altdorf\, Schulturnhalle Grundschule (neu) (240000): Hagenhausener Str. 5\, 90518 Altdorf
CATEGORIES:Handball
END:VEVENT
BEGIN:VEVENT
DTSTART;TZID=Europe/Berlin:20241116T140000
DTEND;TZID=Europe/Berlin:20241116T153000
DTSTAMP:20260423T200404
CREATED:20240927T114207Z
LAST-MODIFIED:20241116T100508Z
UID:17656-1731765600-1731771000@tv1881altdorf.de
SUMMARY:Bezirksoberliga TV 1881 Altdorf vs HG Amberg  (44)
DESCRIPTION:Bezirk­soberli­ga Männer\nBegeg­nungs-Nr: 44\nHeim: TV 1881 Altdorf\nGast: HG Amberg\nHalle: Alt­dorf\, Schul­turn­halle Grund­schule (neu) (240000)\nAdresse: Hagen­hausen­er Str. 5\, 90518 Altdorf
URL:https://tv1881altdorf.de/event/bezirksoberliga-tv-1881-altdorf-vs-hg-amberg-44-2
LOCATION:Altdorf\, Schulturnhalle Grundschule (neu) (240000): Hagenhausener Str. 5\, 90518 Altdorf
CATEGORIES:Handball
END:VEVENT
BEGIN:VEVENT
DTSTART;TZID=Europe/Berlin:20241116T143000
DTEND;TZID=Europe/Berlin:20241116T163000
DTSTAMP:20260423T200404
CREATED:20241002T123847Z
LAST-MODIFIED:20241116T102008Z
UID:17981-1731767400-1731774600@tv1881altdorf.de
SUMMARY:Volleyball D2 (H) - TSV Ansbach
DESCRIPTION:
URL:https://tv1881altdorf.de/event/volleyball-d2-h-tsv-ansbach
CATEGORIES:Volleyball
END:VEVENT
BEGIN:VEVENT
DTSTART;TZID=Europe/Berlin:20241116T180000
DTEND;TZID=Europe/Berlin:20241116T200000
DTSTAMP:20260423T200404
CREATED:20240903T120732Z
LAST-MODIFIED:20241116T182008Z
UID:16971-1731780000-1731787200@tv1881altdorf.de
SUMMARY:Volleyball D1 (H) - TSV Unterhaching
DESCRIPTION:
URL:https://tv1881altdorf.de/event/volleyball-d1-h-tsv-unterhaching
CATEGORIES:Volleyball
END:VEVENT
END:VCALENDAR