BEGIN:VCALENDAR
VERSION:2.0
PRODID:-//TV 1881 Altdorf e.V. - ECPv6.15.20//NONSGML v1.0//EN
CALSCALE:GREGORIAN
METHOD:PUBLISH
X-WR-CALNAME:TV 1881 Altdorf e.V.
X-ORIGINAL-URL:https://tv1881altdorf.de
X-WR-CALDESC:Veranstaltungen für TV 1881 Altdorf e.V.
REFRESH-INTERVAL;VALUE=DURATION:PT1H
X-Robots-Tag:noindex
X-PUBLISHED-TTL:PT1H
BEGIN:VTIMEZONE
TZID:Europe/Berlin
BEGIN:DAYLIGHT
TZOFFSETFROM:+0100
TZOFFSETTO:+0200
TZNAME:CEST
DTSTART:20240331T010000
END:DAYLIGHT
BEGIN:STANDARD
TZOFFSETFROM:+0200
TZOFFSETTO:+0100
TZNAME:CET
DTSTART:20241027T010000
END:STANDARD
BEGIN:DAYLIGHT
TZOFFSETFROM:+0100
TZOFFSETTO:+0200
TZNAME:CEST
DTSTART:20250330T010000
END:DAYLIGHT
BEGIN:STANDARD
TZOFFSETFROM:+0200
TZOFFSETTO:+0100
TZNAME:CET
DTSTART:20251026T010000
END:STANDARD
BEGIN:DAYLIGHT
TZOFFSETFROM:+0100
TZOFFSETTO:+0200
TZNAME:CEST
DTSTART:20260329T010000
END:DAYLIGHT
BEGIN:STANDARD
TZOFFSETFROM:+0200
TZOFFSETTO:+0100
TZNAME:CET
DTSTART:20261025T010000
END:STANDARD
END:VTIMEZONE
BEGIN:VEVENT
DTSTART;TZID=Europe/Berlin:20250216T100000
DTEND;TZID=Europe/Berlin:20250216T113000
DTSTAMP:20260423T153125
CREATED:20240927T114310Z
LAST-MODIFIED:20250216T010509Z
UID:17709-1739700000-1739705400@tv1881altdorf.de
SUMMARY:Bezirksklasse Staffel West TV 1881 Altdorf II vs HSG Pyrbaum/Seligenporten II (19)
DESCRIPTION:Bezirk­sklasse Frauen Staffel West\nBegeg­nungs-Nr: 19\nHeim: TV 1881 Alt­dorf II\nGast: HSG Pyrbaum/Seligenporten II\nHalle: Alt­dorf\, Schul­turn­halle Grund­schule (neu) (240000)\nAdresse: Hagen­hausen­er Str. 5\, 90518 Altdorf
URL:https://tv1881altdorf.de/event/bezirksklasse-staffel-west-tv-1881-altdorf-ii-vs-hsg-pyrbaum-seligenporten-ii-19
LOCATION:Altdorf\, Schulturnhalle Grundschule (neu) (240000): Hagenhausener Str. 5\, 90518 Altdorf
CATEGORIES:Handball
END:VEVENT
BEGIN:VEVENT
DTSTART;TZID=Europe/Berlin:20250216T120000
DTEND;TZID=Europe/Berlin:20250216T133000
DTSTAMP:20260423T153125
CREATED:20240927T114322Z
LAST-MODIFIED:20250216T010510Z
UID:17710-1739707200-1739712600@tv1881altdorf.de
SUMMARY:Bezirksliga Staffel West TV 1881 Altdorf II vs HSG SGS Erl/HC Niederl (19)
DESCRIPTION:Bezirk­sli­ga Män­ner Staffel West\nBegeg­nungs-Nr: 19\nHeim: TV 1881 Alt­dorf II\nGast: HSG SGS Erl/HC Niederl\nHalle: Alt­dorf\, Schul­turn­halle Grund­schule (neu) (240000)\nAdresse: Hagen­hausen­er Str. 5\, 90518 Altdorf
URL:https://tv1881altdorf.de/event/bezirksliga-staffel-west-tv-1881-altdorf-ii-vs-hsg-sgs-erl-hc-niederl-19
LOCATION:Altdorf\, Schulturnhalle Grundschule (neu) (240000): Hagenhausener Str. 5\, 90518 Altdorf
CATEGORIES:Handball
END:VEVENT
BEGIN:VEVENT
DTSTART;TZID=Europe/Berlin:20250216T140000
DTEND;TZID=Europe/Berlin:20250216T153000
DTSTAMP:20260423T153125
CREATED:20240927T114322Z
LAST-MODIFIED:20250216T010511Z
UID:17711-1739714400-1739719800@tv1881altdorf.de
SUMMARY:Bezirksoberliga TV 1881 Altdorf vs Mintraching/Neutraubling II (28)
DESCRIPTION:Bezirk­soberli­ga Frauen\nBegeg­nungs-Nr: 28\nHeim: TV 1881 Altdorf\nGast: Mintraching/Neutraubling II\nHalle: Alt­dorf\, Schul­turn­halle Grund­schule (neu) (240000)\nAdresse: Hagen­hausen­er Str. 5\, 90518 Altdorf
URL:https://tv1881altdorf.de/event/bezirksoberliga-tv-1881-altdorf-vs-mintraching-neutraubling-ii-28
LOCATION:Altdorf\, Schulturnhalle Grundschule (neu) (240000): Hagenhausener Str. 5\, 90518 Altdorf
CATEGORIES:Handball
END:VEVENT
BEGIN:VEVENT
DTSTART;TZID=Europe/Berlin:20250216T160000
DTEND;TZID=Europe/Berlin:20250216T173000
DTSTAMP:20260423T153125
CREATED:20240927T114323Z
LAST-MODIFIED:20250216T010511Z
UID:17712-1739721600-1739727000@tv1881altdorf.de
SUMMARY:Bezirksoberliga TV 1881 Altdorf vs Nabburg/Schwarzenfeld (28)
DESCRIPTION:Bezirk­soberli­ga Männer\nBegeg­nungs-Nr: 28\nHeim: TV 1881 Altdorf\nGast: Nabburg/Schwarzenfeld\nHalle: Alt­dorf\, Schul­turn­halle Grund­schule (neu) (240000)\nAdresse: Hagen­hausen­er Str. 5\, 90518 Altdorf
URL:https://tv1881altdorf.de/event/bezirksoberliga-tv-1881-altdorf-vs-nabburg-schwarzenfeld-28
LOCATION:Altdorf\, Schulturnhalle Grundschule (neu) (240000): Hagenhausener Str. 5\, 90518 Altdorf
CATEGORIES:Handball
END:VEVENT
BEGIN:VEVENT
DTSTART;TZID=Europe/Berlin:20250216T160000
DTEND;TZID=Europe/Berlin:20250216T180000
DTSTAMP:20260423T153125
CREATED:20240925T204529Z
LAST-MODIFIED:20250216T130508Z
UID:17545-1739721600-1739728800@tv1881altdorf.de
SUMMARY:Volleyball D1 (A) - TSV Unterhaching
DESCRIPTION:
URL:https://tv1881altdorf.de/event/volleyball-d1-a-tsv-unterhaching
CATEGORIES:Volleyball
END:VEVENT
END:VCALENDAR