BEGIN:VCALENDAR
VERSION:2.0
PRODID:-//TV 1881 Altdorf e.V. - ECPv6.15.20//NONSGML v1.0//EN
CALSCALE:GREGORIAN
METHOD:PUBLISH
X-ORIGINAL-URL:https://tv1881altdorf.de
X-WR-CALDESC:Veranstaltungen für TV 1881 Altdorf e.V.
REFRESH-INTERVAL;VALUE=DURATION:PT1H
X-Robots-Tag:noindex
X-PUBLISHED-TTL:PT1H
BEGIN:VTIMEZONE
TZID:Europe/Berlin
BEGIN:DAYLIGHT
TZOFFSETFROM:+0100
TZOFFSETTO:+0200
TZNAME:CEST
DTSTART:20240331T010000
END:DAYLIGHT
BEGIN:STANDARD
TZOFFSETFROM:+0200
TZOFFSETTO:+0100
TZNAME:CET
DTSTART:20241027T010000
END:STANDARD
BEGIN:DAYLIGHT
TZOFFSETFROM:+0100
TZOFFSETTO:+0200
TZNAME:CEST
DTSTART:20250330T010000
END:DAYLIGHT
BEGIN:STANDARD
TZOFFSETFROM:+0200
TZOFFSETTO:+0100
TZNAME:CET
DTSTART:20251026T010000
END:STANDARD
BEGIN:DAYLIGHT
TZOFFSETFROM:+0100
TZOFFSETTO:+0200
TZNAME:CEST
DTSTART:20260329T010000
END:DAYLIGHT
BEGIN:STANDARD
TZOFFSETFROM:+0200
TZOFFSETTO:+0100
TZNAME:CET
DTSTART:20261025T010000
END:STANDARD
END:VTIMEZONE
BEGIN:VEVENT
DTSTART;TZID=Europe/Berlin:20250301T183000
DTEND;TZID=Europe/Berlin:20250301T200000
DTSTAMP:20260423T141004
CREATED:20240927T114337Z
LAST-MODIFIED:20250301T042009Z
UID:17722-1740853800-1740859200@tv1881altdorf.de
SUMMARY:Bezirksliga Staffel West HC Hersbruck vs TV 1881 Altdorf II (8)
DESCRIPTION:Bezirk­sli­ga Män­ner Staffel West\nBegeg­nungs-Nr: 8\nHeim: HC Hersbruck\nGast: TV 1881 Alt­dorf II\nHalle: Hers­bruck\, Sportzen­trum (240143)\nAdresse: Hap­purg­er Str. 9\, 91217 Hersbruck
URL:https://tv1881altdorf.de/event/bezirksliga-staffel-west-hc-hersbruck-vs-tv-1881-altdorf-ii-8
LOCATION:Hersbruck\, Sportzentrum (240143): Happurger Str. 9\, 91217 Hersbruck
CATEGORIES:Handball
END:VEVENT
END:VCALENDAR