BEGIN:VCALENDAR
VERSION:2.0
PRODID:-//TV 1881 Altdorf e.V. - ECPv6.15.20//NONSGML v1.0//EN
CALSCALE:GREGORIAN
METHOD:PUBLISH
X-WR-CALNAME:TV 1881 Altdorf e.V.
X-ORIGINAL-URL:https://tv1881altdorf.de
X-WR-CALDESC:Veranstaltungen für TV 1881 Altdorf e.V.
REFRESH-INTERVAL;VALUE=DURATION:PT1H
X-Robots-Tag:noindex
X-PUBLISHED-TTL:PT1H
BEGIN:VTIMEZONE
TZID:Europe/Berlin
BEGIN:DAYLIGHT
TZOFFSETFROM:+0100
TZOFFSETTO:+0200
TZNAME:CEST
DTSTART:20240331T010000
END:DAYLIGHT
BEGIN:STANDARD
TZOFFSETFROM:+0200
TZOFFSETTO:+0100
TZNAME:CET
DTSTART:20241027T010000
END:STANDARD
BEGIN:DAYLIGHT
TZOFFSETFROM:+0100
TZOFFSETTO:+0200
TZNAME:CEST
DTSTART:20250330T010000
END:DAYLIGHT
BEGIN:STANDARD
TZOFFSETFROM:+0200
TZOFFSETTO:+0100
TZNAME:CET
DTSTART:20251026T010000
END:STANDARD
BEGIN:DAYLIGHT
TZOFFSETFROM:+0100
TZOFFSETTO:+0200
TZNAME:CEST
DTSTART:20260329T010000
END:DAYLIGHT
BEGIN:STANDARD
TZOFFSETFROM:+0200
TZOFFSETTO:+0100
TZNAME:CET
DTSTART:20261025T010000
END:STANDARD
END:VTIMEZONE
BEGIN:VEVENT
DTSTART;TZID=Europe/Berlin:20250316T123000
DTEND;TZID=Europe/Berlin:20250316T143000
DTSTAMP:20260423T140844
CREATED:20241002T123901Z
LAST-MODIFIED:20250316T115018Z
UID:17999-1742128200-1742135400@tv1881altdorf.de
SUMMARY:Volleyball D2 (H) - SG SGS/TV Erlangen
DESCRIPTION:
URL:https://tv1881altdorf.de/event/volleyball-d2-h-sg-sgs-tv-erlangen
CATEGORIES:Volleyball
END:VEVENT
BEGIN:VEVENT
DTSTART;TZID=Europe/Berlin:20250316T160000
DTEND;TZID=Europe/Berlin:20250316T180000
DTSTAMP:20260423T140844
CREATED:20240925T204530Z
LAST-MODIFIED:20250315T195009Z
UID:17549-1742140800-1742148000@tv1881altdorf.de
SUMMARY:Volleyball D1 (H) - TSV TB München
DESCRIPTION:
URL:https://tv1881altdorf.de/event/volleyball-d1-h-tsv-tb-muenchen
CATEGORIES:Volleyball
END:VEVENT
END:VCALENDAR