BEGIN:VCALENDAR
VERSION:2.0
PRODID:-//TV 1881 Altdorf e.V. - ECPv6.15.20//NONSGML v1.0//EN
CALSCALE:GREGORIAN
METHOD:PUBLISH
X-ORIGINAL-URL:https://tv1881altdorf.de
X-WR-CALDESC:Veranstaltungen für TV 1881 Altdorf e.V.
REFRESH-INTERVAL;VALUE=DURATION:PT1H
X-Robots-Tag:noindex
X-PUBLISHED-TTL:PT1H
BEGIN:VTIMEZONE
TZID:Europe/Berlin
BEGIN:DAYLIGHT
TZOFFSETFROM:+0100
TZOFFSETTO:+0200
TZNAME:CEST
DTSTART:20240331T010000
END:DAYLIGHT
BEGIN:STANDARD
TZOFFSETFROM:+0200
TZOFFSETTO:+0100
TZNAME:CET
DTSTART:20241027T010000
END:STANDARD
BEGIN:DAYLIGHT
TZOFFSETFROM:+0100
TZOFFSETTO:+0200
TZNAME:CEST
DTSTART:20250330T010000
END:DAYLIGHT
BEGIN:STANDARD
TZOFFSETFROM:+0200
TZOFFSETTO:+0100
TZNAME:CET
DTSTART:20251026T010000
END:STANDARD
BEGIN:DAYLIGHT
TZOFFSETFROM:+0100
TZOFFSETTO:+0200
TZNAME:CEST
DTSTART:20260329T010000
END:DAYLIGHT
BEGIN:STANDARD
TZOFFSETFROM:+0200
TZOFFSETTO:+0100
TZNAME:CET
DTSTART:20261025T010000
END:STANDARD
END:VTIMEZONE
BEGIN:VEVENT
DTSTART;TZID=Europe/Berlin:20250321T180000
DTEND;TZID=Europe/Berlin:20250321T210000
DTSTAMP:20260423T140915
CREATED:20250206T093314Z
LAST-MODIFIED:20250206T093314Z
UID:19909-1742580000-1742590800@tv1881altdorf.de
SUMMARY:Abteilungsversammlung Triathlon 21. März 2025
DESCRIPTION:Ein­ladung zur Abteilungsver­samm­lung Triathlon\nWir tre­f­fen uns um 18:00 in der Pizze­ria da Lui­gi\, Alt­dorf\, Unter­er Markt 4 \nAgen­da:\n— kurz­er Rück­blick auf das let­zte Jahr\n— wie kön­nen wir unsere Abteilung attrak­tiv­er gestalten\n— Neuwahl Abteilungsleitung
URL:https://tv1881altdorf.de/event/abteilungsversammlung-triathlon-21-maerz-2025
CATEGORIES:Allgemein,Triathlon
END:VEVENT
END:VCALENDAR