BEGIN:VCALENDAR
VERSION:2.0
PRODID:-//TV 1881 Altdorf e.V. - ECPv6.15.20//NONSGML v1.0//EN
CALSCALE:GREGORIAN
METHOD:PUBLISH
X-ORIGINAL-URL:https://tv1881altdorf.de
X-WR-CALDESC:Veranstaltungen für TV 1881 Altdorf e.V.
REFRESH-INTERVAL;VALUE=DURATION:PT1H
X-Robots-Tag:noindex
X-PUBLISHED-TTL:PT1H
BEGIN:VTIMEZONE
TZID:Europe/Berlin
BEGIN:DAYLIGHT
TZOFFSETFROM:+0100
TZOFFSETTO:+0200
TZNAME:CEST
DTSTART:20240331T010000
END:DAYLIGHT
BEGIN:STANDARD
TZOFFSETFROM:+0200
TZOFFSETTO:+0100
TZNAME:CET
DTSTART:20241027T010000
END:STANDARD
BEGIN:DAYLIGHT
TZOFFSETFROM:+0100
TZOFFSETTO:+0200
TZNAME:CEST
DTSTART:20250330T010000
END:DAYLIGHT
BEGIN:STANDARD
TZOFFSETFROM:+0200
TZOFFSETTO:+0100
TZNAME:CET
DTSTART:20251026T010000
END:STANDARD
BEGIN:DAYLIGHT
TZOFFSETFROM:+0100
TZOFFSETTO:+0200
TZNAME:CEST
DTSTART:20260329T010000
END:DAYLIGHT
BEGIN:STANDARD
TZOFFSETFROM:+0200
TZOFFSETTO:+0100
TZNAME:CET
DTSTART:20261025T010000
END:STANDARD
END:VTIMEZONE
BEGIN:VEVENT
DTSTART;TZID=Europe/Berlin:20250329T170000
DTEND;TZID=Europe/Berlin:20250329T183000
DTSTAMP:20260423T140913
CREATED:20240927T114354Z
LAST-MODIFIED:20250329T112009Z
UID:17735-1743267600-1743273000@tv1881altdorf.de
SUMMARY:Bezirksoberliga HSG Weiden vs TV 1881 Altdorf (55)
DESCRIPTION:Bezirk­soberli­ga Frauen\nBegeg­nungs-Nr: 55\nHeim: HSG Weiden\nGast: TV 1881 Altdorf\nHalle: Wei­den\, Sporthalle Realschule (240462)\nAdresse: Kurt-Schu­mach­er-Allee 8\, 92637 Weiden
URL:https://tv1881altdorf.de/event/bezirksoberliga-hsg-weiden-vs-tv-1881-altdorf-55
LOCATION:Weiden\, Sporthalle Realschule (240462): Kurt-Schumacher-Allee 8\, 92637 Weiden
CATEGORIES:Handball
END:VEVENT
BEGIN:VEVENT
DTSTART;TZID=Europe/Berlin:20250329T180000
DTEND;TZID=Europe/Berlin:20250329T193000
DTSTAMP:20260423T140913
CREATED:20240927T114355Z
LAST-MODIFIED:20250329T112010Z
UID:17737-1743271200-1743276600@tv1881altdorf.de
SUMMARY:Bezirksoberliga HV Oberviechtach vs TV 1881 Altdorf (55)
DESCRIPTION:Bezirk­soberli­ga Männer\nBegeg­nungs-Nr: 55\nHeim: HV Oberviechtach\nGast: TV 1881 Altdorf\nHalle: Oberviech­tach\, Sporthalle Gym­na­si­um (240301)\nAdresse: Wolf­s­gruben­weg 25\, 92526 Oberviechtach
URL:https://tv1881altdorf.de/event/bezirksoberliga-hv-oberviechtach-vs-tv-1881-altdorf-55
LOCATION:Oberviechtach\, Sporthalle Gymnasium (240301): Wolfsgrubenweg 25\, 92526 Oberviechtach
CATEGORIES:Handball
END:VEVENT
BEGIN:VEVENT
DTSTART;TZID=Europe/Berlin:20250329T190000
DTEND;TZID=Europe/Berlin:20250329T210000
DTSTAMP:20260423T140913
CREATED:20240925T204543Z
LAST-MODIFIED:20250328T230509Z
UID:17550-1743274800-1743282000@tv1881altdorf.de
SUMMARY:Volleyball D1 (A) - TV Planegg-Krailling
DESCRIPTION:
URL:https://tv1881altdorf.de/event/volleyball-d1-a-tv-planegg-krailling
CATEGORIES:Volleyball
END:VEVENT
END:VCALENDAR