BEGIN:VCALENDAR
VERSION:2.0
PRODID:-//TV 1881 Altdorf e.V. - ECPv6.15.20//NONSGML v1.0//EN
CALSCALE:GREGORIAN
METHOD:PUBLISH
X-ORIGINAL-URL:https://tv1881altdorf.de
X-WR-CALDESC:Veranstaltungen für TV 1881 Altdorf e.V.
REFRESH-INTERVAL;VALUE=DURATION:PT1H
X-Robots-Tag:noindex
X-PUBLISHED-TTL:PT1H
BEGIN:VTIMEZONE
TZID:Europe/Berlin
BEGIN:DAYLIGHT
TZOFFSETFROM:+0100
TZOFFSETTO:+0200
TZNAME:CEST
DTSTART:20240331T010000
END:DAYLIGHT
BEGIN:STANDARD
TZOFFSETFROM:+0200
TZOFFSETTO:+0100
TZNAME:CET
DTSTART:20241027T010000
END:STANDARD
BEGIN:DAYLIGHT
TZOFFSETFROM:+0100
TZOFFSETTO:+0200
TZNAME:CEST
DTSTART:20250330T010000
END:DAYLIGHT
BEGIN:STANDARD
TZOFFSETFROM:+0200
TZOFFSETTO:+0100
TZNAME:CET
DTSTART:20251026T010000
END:STANDARD
BEGIN:DAYLIGHT
TZOFFSETFROM:+0100
TZOFFSETTO:+0200
TZNAME:CEST
DTSTART:20260329T010000
END:DAYLIGHT
BEGIN:STANDARD
TZOFFSETFROM:+0200
TZOFFSETTO:+0100
TZNAME:CET
DTSTART:20261025T010000
END:STANDARD
END:VTIMEZONE
BEGIN:VEVENT
DTSTART;TZID=Europe/Berlin:20250330T114000
DTEND;TZID=Europe/Berlin:20250330T124000
DTSTAMP:20260423T141722
CREATED:20240927T114355Z
LAST-MODIFIED:20250329T112011Z
UID:17739-1743334800-1743338400@tv1881altdorf.de
SUMMARY:ÜBK AH HSG Lauf/Heroldsberg vs TV 1881 Altdorf (24081140)
DESCRIPTION:ÜBK AH (Ofr\,Mfr\,Ostbay)\nBegeg­nungs-Nr: 24081140\nHeim: HSG Lauf/Heroldsberg\nGast: TV 1881 Altdorf\nHalle: Lauf\, Halle im Sport­park Haber­loh (240201)\nAdresse: Am Haber­loh 6\, 91207 Lauf
URL:https://tv1881altdorf.de/event/uebk-ah-hsg-lauf-heroldsberg-vs-tv-1881-altdorf-24081140
LOCATION:Lauf\, Halle im Sportpark Haberloh (240201): Am Haberloh 6\, 91207 Lauf
CATEGORIES:Handball
END:VEVENT
BEGIN:VEVENT
DTSTART;TZID=Europe/Berlin:20250330T132000
DTEND;TZID=Europe/Berlin:20250330T142000
DTSTAMP:20260423T141722
CREATED:20240927T114356Z
LAST-MODIFIED:20250330T113509Z
UID:17741-1743340800-1743344400@tv1881altdorf.de
SUMMARY:ÜBK AH HaSpo Bayreuth vs TV 1881 Altdorf (24081142)
DESCRIPTION:ÜBK AH (Ofr\,Mfr\,Ostbay)\nBegeg­nungs-Nr: 24081142\nHeim: HaSpo Bayreuth\nGast: TV 1881 Altdorf\nHalle: Lauf\, Halle im Sport­park Haber­loh (240201)\nAdresse: Am Haber­loh 6\, 91207 Lauf
URL:https://tv1881altdorf.de/event/uebk-ah-haspo-bayreuth-vs-tv-1881-altdorf-24081142
LOCATION:Lauf\, Halle im Sportpark Haberloh (240201): Am Haberloh 6\, 91207 Lauf
CATEGORIES:Handball
END:VEVENT
END:VCALENDAR