BEGIN:VCALENDAR
VERSION:2.0
PRODID:-//TV 1881 Altdorf e.V. - ECPv6.15.20//NONSGML v1.0//EN
CALSCALE:GREGORIAN
METHOD:PUBLISH
X-WR-CALNAME:TV 1881 Altdorf e.V.
X-ORIGINAL-URL:https://tv1881altdorf.de
X-WR-CALDESC:Veranstaltungen für TV 1881 Altdorf e.V.
REFRESH-INTERVAL;VALUE=DURATION:PT1H
X-Robots-Tag:noindex
X-PUBLISHED-TTL:PT1H
BEGIN:VTIMEZONE
TZID:Europe/Berlin
BEGIN:DAYLIGHT
TZOFFSETFROM:+0100
TZOFFSETTO:+0200
TZNAME:CEST
DTSTART:20240331T010000
END:DAYLIGHT
BEGIN:STANDARD
TZOFFSETFROM:+0200
TZOFFSETTO:+0100
TZNAME:CET
DTSTART:20241027T010000
END:STANDARD
BEGIN:DAYLIGHT
TZOFFSETFROM:+0100
TZOFFSETTO:+0200
TZNAME:CEST
DTSTART:20250330T010000
END:DAYLIGHT
BEGIN:STANDARD
TZOFFSETFROM:+0200
TZOFFSETTO:+0100
TZNAME:CET
DTSTART:20251026T010000
END:STANDARD
BEGIN:DAYLIGHT
TZOFFSETFROM:+0100
TZOFFSETTO:+0200
TZNAME:CEST
DTSTART:20260329T010000
END:DAYLIGHT
BEGIN:STANDARD
TZOFFSETFROM:+0200
TZOFFSETTO:+0100
TZNAME:CET
DTSTART:20261025T010000
END:STANDARD
END:VTIMEZONE
BEGIN:VEVENT
DTSTART;VALUE=DATE:20250503
DTEND;VALUE=DATE:20250504
DTSTAMP:20260423T113449
CREATED:20250407T094847Z
LAST-MODIFIED:20250407T095553Z
UID:20895-1746230400-1746316799@tv1881altdorf.de
SUMMARY:Kreismeisterschaften Nürnberg-Land
DESCRIPTION:Ort: Röthenbach \nAlter­sklassen: ab U12 (ab 10 Jahre) \nWeit­ere Infos: ladv.de
URL:https://tv1881altdorf.de/event/kreismeisterschaften-2025
CATEGORIES:Leichtathletik
END:VEVENT
BEGIN:VEVENT
DTSTART;TZID=Europe/Berlin:20250503T090000
DTEND;TZID=Europe/Berlin:20250503T150000
DTSTAMP:20260423T113449
CREATED:20250517T100611Z
LAST-MODIFIED:20250517T101328Z
UID:21860-1746262800-1746284400@tv1881altdorf.de
SUMMARY:Tennis Nordliga 3 Junioren 18 Heimspiel gegen TV Altdorf (#2025.1)
DESCRIPTION:
URL:https://tv1881altdorf.de/event/tennis-nordliga-3-junioren-18-heimspiel-gegen-tv-altdorf-2025-1
CATEGORIES:Tennis
END:VEVENT
BEGIN:VEVENT
DTSTART;TZID=Europe/Berlin:20250503T130000
DTEND;TZID=Europe/Berlin:20250503T190000
DTSTAMP:20260423T113449
CREATED:20250517T100612Z
LAST-MODIFIED:20250517T101327Z
UID:21861-1746277200-1746298800@tv1881altdorf.de
SUMMARY:Tennis Nordliga 2 Herren 50 Heimspiel TV Altdorf II (#2025.2)
DESCRIPTION:
URL:https://tv1881altdorf.de/event/tennis-nordliga-2-herren-50-heimspiel-tv-altdorf-ii-2025-2
CATEGORIES:Tennis
END:VEVENT
BEGIN:VEVENT
DTSTART;TZID=Europe/Berlin:20250503T140000
DTEND;TZID=Europe/Berlin:20250503T163000
DTSTAMP:20260423T113449
CREATED:20250208T203541Z
LAST-MODIFIED:20250428T164711Z
UID:19952-1746280800-1746289800@tv1881altdorf.de
SUMMARY:Baseball – Game 2 – +++ CANCELED +++ Niederlamitz Greens vs. Altdorf Icesharks – On the Road
DESCRIPTION:+++ CANCELED +++ CANCELED +++ CANCELED +++ \nSpielab­sage von Nieder­lamitz wegen Spiel­er­man­gel. Somit geht Game 2 mit 7:0 an die Alt­dorf Ice­sharks in der Wertung. \n  \nPlay Ball in Niederlamitz \nAm Sam­stag\, den 3. Mai ab 14.00 Uhr sind die Alt­dorf Ice­sharks bei den Nieder­lamitz Greens zu Gast. In der Lan­desklasse Base­ball Nord wer­den Sin­glegames über 7 Innings  (oder mit max­i­malem Zeitlim­it von 2\,5 Stun­den) gespielt. \n  \nLinks: \nAktuelle Tabelle \nSpielplan 2025 \nNieder­lamitz Greens Instagram
URL:https://tv1881altdorf.de/event/game-2
LOCATION:Niederlamitz Greens Ballpark\, Am Schwimmbad 1\, Kirchenlamitz\, Bayern\, 95158\, Germany
CATEGORIES:Baseball,Landesklasse Baseball Nord
ATTACH;FMTTYPE=image/jpeg:https://tv1881altdorf.de/wp-content/uploads/2024/05/11_DSC05879_1000px_Termine.jpg
END:VEVENT
END:VCALENDAR