BEGIN:VCALENDAR
VERSION:2.0
PRODID:-//TV 1881 Altdorf e.V. - ECPv6.15.20//NONSGML v1.0//EN
CALSCALE:GREGORIAN
METHOD:PUBLISH
X-WR-CALNAME:TV 1881 Altdorf e.V.
X-ORIGINAL-URL:https://tv1881altdorf.de
X-WR-CALDESC:Veranstaltungen für TV 1881 Altdorf e.V.
REFRESH-INTERVAL;VALUE=DURATION:PT1H
X-Robots-Tag:noindex
X-PUBLISHED-TTL:PT1H
BEGIN:VTIMEZONE
TZID:Europe/Berlin
BEGIN:DAYLIGHT
TZOFFSETFROM:+0100
TZOFFSETTO:+0200
TZNAME:CEST
DTSTART:20240331T010000
END:DAYLIGHT
BEGIN:STANDARD
TZOFFSETFROM:+0200
TZOFFSETTO:+0100
TZNAME:CET
DTSTART:20241027T010000
END:STANDARD
BEGIN:DAYLIGHT
TZOFFSETFROM:+0100
TZOFFSETTO:+0200
TZNAME:CEST
DTSTART:20250330T010000
END:DAYLIGHT
BEGIN:STANDARD
TZOFFSETFROM:+0200
TZOFFSETTO:+0100
TZNAME:CET
DTSTART:20251026T010000
END:STANDARD
BEGIN:DAYLIGHT
TZOFFSETFROM:+0100
TZOFFSETTO:+0200
TZNAME:CEST
DTSTART:20260329T010000
END:DAYLIGHT
BEGIN:STANDARD
TZOFFSETFROM:+0200
TZOFFSETTO:+0100
TZNAME:CET
DTSTART:20261025T010000
END:STANDARD
END:VTIMEZONE
BEGIN:VEVENT
DTSTART;TZID=Europe/Berlin:20250511T090000
DTEND;TZID=Europe/Berlin:20250511T150000
DTSTAMP:20260423T113401
CREATED:20250517T100619Z
LAST-MODIFIED:20250517T101326Z
UID:21866-1746954000-1746975600@tv1881altdorf.de
SUMMARY:Tennis Nordliga 4 Damen Auswärtsspiel SG Stadtpark Schwabach (#2025.7)
DESCRIPTION:
URL:https://tv1881altdorf.de/event/tennis-nordliga-4-damen-auswaertsspiel-sg-stadtpark-schwabach-2025-7
CATEGORIES:Tennis
END:VEVENT
BEGIN:VEVENT
DTSTART;TZID=Europe/Berlin:20250511T100000
DTEND;TZID=Europe/Berlin:20250511T160000
DTSTAMP:20260423T113401
CREATED:20250517T100619Z
LAST-MODIFIED:20250517T101326Z
UID:21867-1746957600-1746979200@tv1881altdorf.de
SUMMARY:Tennis Nordliga 2 Herren 50 Auswärtsspiel TC GW Greding (#2025.8)
DESCRIPTION:
URL:https://tv1881altdorf.de/event/tennis-nordliga-2-herren-50-auswaertsspiel-tc-gw-greding-2025-8
CATEGORIES:Tennis
END:VEVENT
BEGIN:VEVENT
DTSTART;TZID=Europe/Berlin:20250511T100000
DTEND;TZID=Europe/Berlin:20250511T160000
DTSTAMP:20260423T113401
CREATED:20250517T100620Z
LAST-MODIFIED:20250517T101326Z
UID:21868-1746957600-1746979200@tv1881altdorf.de
SUMMARY:Tennis Nordliga 2 Damen Auswärtsspiel SpVgg Diepersdorf (#2025.9)
DESCRIPTION:
URL:https://tv1881altdorf.de/event/tennis-nordliga-2-damen-auswaertsspiel-spvgg-diepersdorf-2025-9
CATEGORIES:Tennis
END:VEVENT
END:VCALENDAR