BEGIN:VCALENDAR
VERSION:2.0
PRODID:-//TV 1881 Altdorf e.V. - ECPv6.15.20//NONSGML v1.0//EN
CALSCALE:GREGORIAN
METHOD:PUBLISH
X-ORIGINAL-URL:https://tv1881altdorf.de
X-WR-CALDESC:Veranstaltungen für TV 1881 Altdorf e.V.
REFRESH-INTERVAL;VALUE=DURATION:PT1H
X-Robots-Tag:noindex
X-PUBLISHED-TTL:PT1H
BEGIN:VTIMEZONE
TZID:Europe/Berlin
BEGIN:DAYLIGHT
TZOFFSETFROM:+0100
TZOFFSETTO:+0200
TZNAME:CEST
DTSTART:20240331T010000
END:DAYLIGHT
BEGIN:STANDARD
TZOFFSETFROM:+0200
TZOFFSETTO:+0100
TZNAME:CET
DTSTART:20241027T010000
END:STANDARD
BEGIN:DAYLIGHT
TZOFFSETFROM:+0100
TZOFFSETTO:+0200
TZNAME:CEST
DTSTART:20250330T010000
END:DAYLIGHT
BEGIN:STANDARD
TZOFFSETFROM:+0200
TZOFFSETTO:+0100
TZNAME:CET
DTSTART:20251026T010000
END:STANDARD
BEGIN:DAYLIGHT
TZOFFSETFROM:+0100
TZOFFSETTO:+0200
TZNAME:CEST
DTSTART:20260329T010000
END:DAYLIGHT
BEGIN:STANDARD
TZOFFSETFROM:+0200
TZOFFSETTO:+0100
TZNAME:CET
DTSTART:20261025T010000
END:STANDARD
END:VTIMEZONE
BEGIN:VEVENT
DTSTART;VALUE=DATE:20250517
DTEND;VALUE=DATE:20250518
DTSTAMP:20260423T113448
CREATED:20250407T095048Z
LAST-MODIFIED:20250407T095616Z
UID:20897-1747440000-1747526399@tv1881altdorf.de
SUMMARY:Mittelfränkische Staffel Meisterschaften
DESCRIPTION:Ort: Leutershausen \nAlter­sklassen: ab U14 (ab 12 Jahre) \nWeit­ere Infos: ladv.de
URL:https://tv1881altdorf.de/event/mittelfraenkische-staffel-meisterschaften-2025
CATEGORIES:Leichtathletik
END:VEVENT
BEGIN:VEVENT
DTSTART;VALUE=DATE:20250517
DTEND;VALUE=DATE:20250518
DTSTAMP:20260423T113448
CREATED:20250407T100507Z
LAST-MODIFIED:20250407T100654Z
UID:20912-1747440000-1747526399@tv1881altdorf.de
SUMMARY:Neuendettelsauer KiLa-Sportfest
DESCRIPTION:Ort: Neuendettelsau \nAlter­sklassen: ab U8-U12 (von 6 bis 11 Jahre) \nWeit­ere Infos: ladv.de
URL:https://tv1881altdorf.de/event/neuendettelsau-kila-2025
CATEGORIES:Leichtathletik
END:VEVENT
BEGIN:VEVENT
DTSTART;TZID=Europe/Berlin:20250517T090000
DTEND;TZID=Europe/Berlin:20250517T150000
DTSTAMP:20260423T113448
CREATED:20250517T100620Z
LAST-MODIFIED:20250517T101326Z
UID:21869-1747472400-1747494000@tv1881altdorf.de
SUMMARY:Tennis Nordliga 3 Junioren 18 Auswärtsspiel TV Hilpoltstein (#2025.10)
DESCRIPTION:
URL:https://tv1881altdorf.de/event/tennis-nordliga-3-junioren-18-auswaertsspiel-tv-hilpoltstein-2025-10
CATEGORIES:Tennis
END:VEVENT
BEGIN:VEVENT
DTSTART;TZID=Europe/Berlin:20250517T090000
DTEND;TZID=Europe/Berlin:20250517T150000
DTSTAMP:20260423T113448
CREATED:20250517T100633Z
LAST-MODIFIED:20250517T101326Z
UID:21870-1747472400-1747494000@tv1881altdorf.de
SUMMARY:Tennis Nordliga 3 Juniorinnen 18 Auswärtsspiel SC Worzeldorf
DESCRIPTION:
URL:https://tv1881altdorf.de/event/tennis-nordliga-3-juniorinnen-18-auswaertsspiel-sc-worzeldorf-2
CATEGORIES:Tennis
END:VEVENT
BEGIN:VEVENT
DTSTART;TZID=Europe/Berlin:20250517T130000
DTEND;TZID=Europe/Berlin:20250517T160000
DTSTAMP:20260423T113448
CREATED:20240519T151131Z
LAST-MODIFIED:20250503T105404Z
UID:15735-1747486800-1747497600@tv1881altdorf.de
SUMMARY:Jugend Baseball Landesliga Mitte (U15)  – Ingolstadt Schanzer vs. Altdorf Icesharks – On the Road
DESCRIPTION:Am Sam­stag\, den 17. Mai ab 13.00 Uhr sind die Alt­dorf Ice­sharks bei der Ingol­stadt Schanz­er zu Gast. In der Jugend Base­ball Lan­desli­ga wer­den Dou­ble Head­er gespielt – zwei Spiele hin­tere­inan­der. Ein Spiel wird über 5 Innings gespielt oder mit max­i­malem Zeitlim­it von 1\,5 Stunden. \n  \nMehr Infos
URL:https://tv1881altdorf.de/event/jugend-baseball-altdorf-icesharks-vs-ingolstadt-schanzer
LOCATION:Ingolstadt Schanzer Ballpark\, Neuburger Straße 85\, Ingolstadt\, Bayern\, 85057\, Germany
CATEGORIES:Baseball,Jugend Baseball Landesliga Mitte (U15)
ATTACH;FMTTYPE=image/jpeg:https://tv1881altdorf.de/wp-content/uploads/2024/05/Baseball_Icesharks_2024-05-04_Gamepost_03_2000px.jpg
END:VEVENT
BEGIN:VEVENT
DTSTART;TZID=Europe/Berlin:20250517T130000
DTEND;TZID=Europe/Berlin:20250517T190000
DTSTAMP:20260423T113448
CREATED:20250517T100633Z
LAST-MODIFIED:20250517T101326Z
UID:21871-1747486800-1747508400@tv1881altdorf.de
SUMMARY:Tennis Nordliga 2 Herren 50 Auswärtsspiel TC Rothaurach (#2025.12)
DESCRIPTION:
URL:https://tv1881altdorf.de/event/tennis-nordliga-2-herren-50-auswaertsspiel-tc-rothaurach-2025-12
CATEGORIES:Tennis
END:VEVENT
BEGIN:VEVENT
DTSTART;TZID=Europe/Berlin:20250517T130000
DTEND;TZID=Europe/Berlin:20250517T190000
DTSTAMP:20260423T113448
CREATED:20250517T100634Z
LAST-MODIFIED:20250517T101326Z
UID:21872-1747486800-1747508400@tv1881altdorf.de
SUMMARY:Tennis Landesliga 2 Herren 50 Heimspiel TV Altdorf (#2025.13)
DESCRIPTION:
URL:https://tv1881altdorf.de/event/tennis-landesliga-2-herren-50-heimspiel-tv-altdorf-2025-13
CATEGORIES:Tennis
END:VEVENT
BEGIN:VEVENT
DTSTART;TZID=Europe/Berlin:20250517T130000
DTEND;TZID=Europe/Berlin:20250517T190000
DTSTAMP:20260423T113448
CREATED:20250517T100635Z
LAST-MODIFIED:20250517T101325Z
UID:21873-1747486800-1747508400@tv1881altdorf.de
SUMMARY:Tennis Nordliga 3 Damen 40 Auswärtsspiel DJK Berg (#2025.14)
DESCRIPTION:
URL:https://tv1881altdorf.de/event/tennis-nordliga-3-damen-40-auswaertsspiel-djk-berg-2025-14
CATEGORIES:Tennis
END:VEVENT
BEGIN:VEVENT
DTSTART;TZID=Europe/Berlin:20250517T140000
DTEND;TZID=Europe/Berlin:20250517T163000
DTSTAMP:20260423T113448
CREATED:20250208T210217Z
LAST-MODIFIED:20250209T184720Z
UID:19963-1747490400-1747499400@tv1881altdorf.de
SUMMARY:Baseball – Game 4 – Ingolstadt Schanzer 2 vs. Altdorf Icesharks – On the Road
DESCRIPTION:Play Ball in Ingolstadt \nAm Sam­stag\, den 17. Mai ab 14.00 Uhr sind die Alt­dorf Ice­sharks zum ersten Mal bei den Ingol­stadt Schanz­er zu Gast. In der Lan­desklasse Base­ball Nord wer­den Sin­glegames über 7 Innings  (oder mit max­i­malem Zeitlim­it von 2\,5 Stun­den) gespielt. \n  \nLinks: \nAktuelle Tabelle \nSpielplan 2025 \nIngol­stadt Schanz­er Instagram
URL:https://tv1881altdorf.de/event/game-4
LOCATION:Ingolstadt Schanzer Ballpark\, Neuburger Straße 85\, Ingolstadt\, Bayern\, 85057\, Germany
CATEGORIES:Baseball,Landesklasse Baseball Nord
ATTACH;FMTTYPE=image/jpeg:https://tv1881altdorf.de/wp-content/uploads/2024/06/DSC07420_2000px.jpg
END:VEVENT
END:VCALENDAR