BEGIN:VCALENDAR
VERSION:2.0
PRODID:-//TV 1881 Altdorf e.V. - ECPv6.15.20//NONSGML v1.0//EN
CALSCALE:GREGORIAN
METHOD:PUBLISH
X-WR-CALNAME:TV 1881 Altdorf e.V.
X-ORIGINAL-URL:https://tv1881altdorf.de
X-WR-CALDESC:Veranstaltungen für TV 1881 Altdorf e.V.
REFRESH-INTERVAL;VALUE=DURATION:PT1H
X-Robots-Tag:noindex
X-PUBLISHED-TTL:PT1H
BEGIN:VTIMEZONE
TZID:Europe/Berlin
BEGIN:DAYLIGHT
TZOFFSETFROM:+0100
TZOFFSETTO:+0200
TZNAME:CEST
DTSTART:20240331T010000
END:DAYLIGHT
BEGIN:STANDARD
TZOFFSETFROM:+0200
TZOFFSETTO:+0100
TZNAME:CET
DTSTART:20241027T010000
END:STANDARD
BEGIN:DAYLIGHT
TZOFFSETFROM:+0100
TZOFFSETTO:+0200
TZNAME:CEST
DTSTART:20250330T010000
END:DAYLIGHT
BEGIN:STANDARD
TZOFFSETFROM:+0200
TZOFFSETTO:+0100
TZNAME:CET
DTSTART:20251026T010000
END:STANDARD
BEGIN:DAYLIGHT
TZOFFSETFROM:+0100
TZOFFSETTO:+0200
TZNAME:CEST
DTSTART:20260329T010000
END:DAYLIGHT
BEGIN:STANDARD
TZOFFSETFROM:+0200
TZOFFSETTO:+0100
TZNAME:CET
DTSTART:20261025T010000
END:STANDARD
END:VTIMEZONE
BEGIN:VEVENT
DTSTART;VALUE=DATE:20250525
DTEND;VALUE=DATE:20250526
DTSTAMP:20260423T113402
CREATED:20250407T095420Z
LAST-MODIFIED:20250407T095544Z
UID:20901-1748131200-1748217599@tv1881altdorf.de
SUMMARY:Kreismeisterschaften Neustadt a. d. Aisch
DESCRIPTION:Ort: Ipsheim \nAlter­sklassen: ab U12 (ab 10 Jahre) \nWeit­ere Infos: ladv.de
URL:https://tv1881altdorf.de/event/kreismeisterschaften-neustadt-2025
CATEGORIES:Leichtathletik
END:VEVENT
BEGIN:VEVENT
DTSTART;TZID=Europe/Berlin:20250525T100000
DTEND;TZID=Europe/Berlin:20250525T160000
DTSTAMP:20260423T113402
CREATED:20250517T100850Z
LAST-MODIFIED:20250517T101324Z
UID:21880-1748167200-1748188800@tv1881altdorf.de
SUMMARY:Tennis Nordliga 4 Damen Auswärtsspiel SC Worzeldorf(#2025.21)
DESCRIPTION:
URL:https://tv1881altdorf.de/event/tennis-nordliga-4-damen-auswaertsspiel-sc-worzeldorf2025-21
CATEGORIES:Tennis
END:VEVENT
BEGIN:VEVENT
DTSTART;TZID=Europe/Berlin:20250525T100000
DTEND;TZID=Europe/Berlin:20250525T160000
DTSTAMP:20260423T113402
CREATED:20250517T100850Z
LAST-MODIFIED:20250517T101324Z
UID:21881-1748167200-1748188800@tv1881altdorf.de
SUMMARY:Tennis Landesliga 2 Herren 50 Heimspiel TV Altdorf (#2025.22)
DESCRIPTION:
URL:https://tv1881altdorf.de/event/tennis-landesliga-2-herren-50-heimspiel-tv-altdorf-2025-22
CATEGORIES:Tennis
END:VEVENT
BEGIN:VEVENT
DTSTART;TZID=Europe/Berlin:20250525T140000
DTEND;TZID=Europe/Berlin:20250525T163000
DTSTAMP:20260423T113402
CREATED:20250208T211506Z
LAST-MODIFIED:20250522T211759Z
UID:19968-1748181600-1748190600@tv1881altdorf.de
SUMMARY:Baseball – Game 5 +++ CANCELED +++ Altdorf Icesharks vs. Michelbach Angels – Homegame in Altdorf
DESCRIPTION:+++ CANCELED +++ CANCELED +++ CANCELED +++ \nSpielab­sage von Michel­bach wegen Spiel­er­man­gel. Somit geht Game 5 mit 7:0 an die Alt­dorf Ice­sharks in der Wertung. \n  \nHome­game Event im Alt­dorf Ice­sharks Ball­park hin­ter der Mit­telschule/Leib­niz-Gym­na­si­um\n \nAm Son­ntag\, den 25. Mai ab 14.00 Uhr emp­fan­gen die Alt­dorf Ice­sharks die Michel­bach Angels. In der Lan­desklasse Base­ball Nord wer­den Sin­glegames über 7 Innings  (oder mit max­i­malem Zeitlim­it von 2\,5 Stun­den) gespielt. \n  \nLinks: \nAktuelle Tabelle \nSpielplan 2025 \nMichel­bach Angels Instagram \n  \n \n  \n  \n  \n 
URL:https://tv1881altdorf.de/event/game-5
LOCATION:Altdorf Icesharks Ballpark hinter Mittelschule/Leibniz Gymnasium\, Schulstraße\, Altdorf\, Bayern\, 90518\, Deutschland
CATEGORIES:Baseball,Landesklasse Baseball Nord
ATTACH;FMTTYPE=image/jpeg:https://tv1881altdorf.de/wp-content/uploads/2024/05/19_DSC05699_1000px_Termine.jpg
END:VEVENT
END:VCALENDAR