BEGIN:VCALENDAR
VERSION:2.0
PRODID:-//TV 1881 Altdorf e.V. - ECPv6.15.20//NONSGML v1.0//EN
CALSCALE:GREGORIAN
METHOD:PUBLISH
X-ORIGINAL-URL:https://tv1881altdorf.de
X-WR-CALDESC:Veranstaltungen für TV 1881 Altdorf e.V.
REFRESH-INTERVAL;VALUE=DURATION:PT1H
X-Robots-Tag:noindex
X-PUBLISHED-TTL:PT1H
BEGIN:VTIMEZONE
TZID:Europe/Berlin
BEGIN:DAYLIGHT
TZOFFSETFROM:+0100
TZOFFSETTO:+0200
TZNAME:CEST
DTSTART:20240331T010000
END:DAYLIGHT
BEGIN:STANDARD
TZOFFSETFROM:+0200
TZOFFSETTO:+0100
TZNAME:CET
DTSTART:20241027T010000
END:STANDARD
BEGIN:DAYLIGHT
TZOFFSETFROM:+0100
TZOFFSETTO:+0200
TZNAME:CEST
DTSTART:20250330T010000
END:DAYLIGHT
BEGIN:STANDARD
TZOFFSETFROM:+0200
TZOFFSETTO:+0100
TZNAME:CET
DTSTART:20251026T010000
END:STANDARD
BEGIN:DAYLIGHT
TZOFFSETFROM:+0100
TZOFFSETTO:+0200
TZNAME:CEST
DTSTART:20260329T010000
END:DAYLIGHT
BEGIN:STANDARD
TZOFFSETFROM:+0200
TZOFFSETTO:+0100
TZNAME:CET
DTSTART:20261025T010000
END:STANDARD
END:VTIMEZONE
BEGIN:VEVENT
DTSTART;TZID=Europe/Berlin:20250727T140000
DTEND;TZID=Europe/Berlin:20250727T163000
DTSTAMP:20260423T083505
CREATED:20250208T221855Z
LAST-MODIFIED:20250721T142634Z
UID:19988-1753624800-1753633800@tv1881altdorf.de
SUMMARY:Baseball – Game 10 – Altdorf Icesharks vs. Unterwurmbach Red Sox – Homegame in Altdorf
DESCRIPTION:Home­game Event im Alt­dorf Ice­sharks Ball­park hin­ter der Mit­telschule/Leib­niz-Gym­na­si­um\n \nAm Son­ntag\, den 27. Juli ab 14.00 Uhr emp­fan­gen die Alt­dorf Ice­sharks die Red Sox aus Unter­wurm­bach. In der Lan­desklasse Base­ball Nord wer­den Sin­glegames über 7 Innings  (oder mit max­i­malem Zeitlim­it von 2\,5 Stun­den) gespielt. \n  \nLinks: \nAktuelle Tabelle \nSpielplan 2025 \nUnter­wurm­bach Red Sox Instagram \n  \n \n \n  \n  \n  \n 
URL:https://tv1881altdorf.de/event/game-10
LOCATION:Altdorf Icesharks Ballpark hinter Mittelschule/Leibniz Gymnasium\, Schulstraße\, Altdorf\, Bayern\, 90518\, Deutschland
CATEGORIES:Baseball,Landesklasse Baseball Nord
ATTACH;FMTTYPE=image/jpeg:https://tv1881altdorf.de/wp-content/uploads/2024/05/image00004_small.jpg
END:VEVENT
BEGIN:VEVENT
DTSTART;TZID=Europe/Berlin:20250727T140000
DTEND;TZID=Europe/Berlin:20250727T170000
DTSTAMP:20260423T083505
CREATED:20250503T103545Z
LAST-MODIFIED:20250503T105257Z
UID:21361-1753624800-1753635600@tv1881altdorf.de
SUMMARY:Jugend Baseball Landesliga Mitte (U15) – Freising Grizzlies 2 vs. Altdorf Icesharks – On the Road
DESCRIPTION:Am Sam­stag\, den 27. Juli ab 14.00 Uhr sind die Alt­dorf Ice­sharks bei Erlan­gen White Sox zu Gast. In der Jugend Base­ball Lan­desli­ga wer­den Dou­ble Head­er gespielt – zwei Spiele hin­tere­inan­der. Ein Spiel wird über 5 Innings gespielt oder mit max­i­malem Zeitlim­it von 1\,5 Stunden. \n  \nMehr Infos
URL:https://tv1881altdorf.de/event/jugend-baseball-altdorf-icesharks-vs-freising-grizzlies2-road
LOCATION:Freising Grizzlies Ballpark\, Am Sportplatz 3\, Freising\, Bayern\, 85356\, Germany
CATEGORIES:Baseball,Jugend Baseball Landesliga Mitte (U15)
ATTACH;FMTTYPE=image/jpeg:https://tv1881altdorf.de/wp-content/uploads/2024/05/Baseball_Icesharks_2024-05-04_Gamepost_07_2000px.jpg
END:VEVENT
END:VCALENDAR