BEGIN:VCALENDAR
VERSION:2.0
PRODID:-//TV 1881 Altdorf e.V. - ECPv6.15.20//NONSGML v1.0//EN
CALSCALE:GREGORIAN
METHOD:PUBLISH
X-ORIGINAL-URL:https://tv1881altdorf.de
X-WR-CALDESC:Veranstaltungen für TV 1881 Altdorf e.V.
REFRESH-INTERVAL;VALUE=DURATION:PT1H
X-Robots-Tag:noindex
X-PUBLISHED-TTL:PT1H
BEGIN:VTIMEZONE
TZID:Europe/Berlin
BEGIN:DAYLIGHT
TZOFFSETFROM:+0100
TZOFFSETTO:+0200
TZNAME:CEST
DTSTART:20240331T010000
END:DAYLIGHT
BEGIN:STANDARD
TZOFFSETFROM:+0200
TZOFFSETTO:+0100
TZNAME:CET
DTSTART:20241027T010000
END:STANDARD
BEGIN:DAYLIGHT
TZOFFSETFROM:+0100
TZOFFSETTO:+0200
TZNAME:CEST
DTSTART:20250330T010000
END:DAYLIGHT
BEGIN:STANDARD
TZOFFSETFROM:+0200
TZOFFSETTO:+0100
TZNAME:CET
DTSTART:20251026T010000
END:STANDARD
BEGIN:DAYLIGHT
TZOFFSETFROM:+0100
TZOFFSETTO:+0200
TZNAME:CEST
DTSTART:20260329T010000
END:DAYLIGHT
BEGIN:STANDARD
TZOFFSETFROM:+0200
TZOFFSETTO:+0100
TZNAME:CET
DTSTART:20261025T010000
END:STANDARD
END:VTIMEZONE
BEGIN:VEVENT
DTSTART;TZID=Europe/Berlin:20250912T180000
DTEND;TZID=Europe/Berlin:20250912T200000
DTSTAMP:20260423T051403
CREATED:20250804T170536Z
LAST-MODIFIED:20250908T143952Z
UID:23424-1757700000-1757707200@tv1881altdorf.de
SUMMARY:Eröffnung des Mixed Fun Softballteams des TV Altdorf
DESCRIPTION:Eröff­nung des Mixed Fun Soft­ball­teams des TV Altdorf \nKomm vor­bei und pro­bier es aus! \nLei­h­hand­schuhe und ‑schläger sind vorhan­den. Von 16 bis 116 Jahren. Für alle offen. Keine Vorken­nt­nisse erforderlich.\nTVA Sport­park\, Heumannstraße Altdorf
URL:https://tv1881altdorf.de/event/eroeffnung-des-mixed-fun-softballteams-des-tva
LOCATION:Sportpark Altdorf
CATEGORIES:Baseball,Mixed Fun Softballteam
ATTACH;FMTTYPE=image/jpeg:https://tv1881altdorf.de/wp-content/uploads/2025/08/softball-2024-11-25-22-02-51-utc-scaled.jpg
END:VEVENT
END:VCALENDAR