BEGIN:VCALENDAR
VERSION:2.0
PRODID:-//TV 1881 Altdorf e.V. - ECPv6.15.20//NONSGML v1.0//EN
CALSCALE:GREGORIAN
METHOD:PUBLISH
X-ORIGINAL-URL:https://tv1881altdorf.de
X-WR-CALDESC:Veranstaltungen für TV 1881 Altdorf e.V.
REFRESH-INTERVAL;VALUE=DURATION:PT1H
X-Robots-Tag:noindex
X-PUBLISHED-TTL:PT1H
BEGIN:VTIMEZONE
TZID:Europe/Berlin
BEGIN:DAYLIGHT
TZOFFSETFROM:+0100
TZOFFSETTO:+0200
TZNAME:CEST
DTSTART:20240331T010000
END:DAYLIGHT
BEGIN:STANDARD
TZOFFSETFROM:+0200
TZOFFSETTO:+0100
TZNAME:CET
DTSTART:20241027T010000
END:STANDARD
BEGIN:DAYLIGHT
TZOFFSETFROM:+0100
TZOFFSETTO:+0200
TZNAME:CEST
DTSTART:20250330T010000
END:DAYLIGHT
BEGIN:STANDARD
TZOFFSETFROM:+0200
TZOFFSETTO:+0100
TZNAME:CET
DTSTART:20251026T010000
END:STANDARD
BEGIN:DAYLIGHT
TZOFFSETFROM:+0100
TZOFFSETTO:+0200
TZNAME:CEST
DTSTART:20260329T010000
END:DAYLIGHT
BEGIN:STANDARD
TZOFFSETFROM:+0200
TZOFFSETTO:+0100
TZNAME:CET
DTSTART:20261025T010000
END:STANDARD
END:VTIMEZONE
BEGIN:VEVENT
DTSTART;VALUE=DATE:20250920
DTEND;VALUE=DATE:20250921
DTSTAMP:20260423T051323
CREATED:20250119T162008Z
LAST-MODIFIED:20250119T162008Z
UID:19584-1758326400-1758412799@tv1881altdorf.de
SUMMARY:Fürst Carl Seenlandmarathon
DESCRIPTION:
URL:https://tv1881altdorf.de/event/fuerst-carl-seenlandmarathon
END:VEVENT
BEGIN:VEVENT
DTSTART;TZID=Europe/Berlin:20250920T103000
DTEND;TZID=Europe/Berlin:20250920T140000
DTSTAMP:20260423T051323
CREATED:20250818T080735Z
LAST-MODIFIED:20250818T102307Z
UID:23715-1758364200-1758376800@tv1881altdorf.de
SUMMARY:Jugend Baseball Landesliga Nord (U15) – Altdorf Icesharks vs. Dachau Tigers – Homegame in Altdorf
DESCRIPTION:Play Ball – im Sportpark! \nAm Sam­stag\, den 12. Sep­tem­ber ab 10.30 Uhr emp­fan­gen die Alt­dorf Ice­sharks die Dachau Tigers. Start der Rück­runde. In der Jugend Base­ball Lan­desli­ga wer­den Dou­ble Head­er gespielt – zwei Spiele hin­tere­inan­der. Ein Spiel wird über 5 Innings gespielt oder mit max­i­malem Zeitlim­it von 1\,5 Stunden. \nSpielplan 2025 Rückrunde \naktuelle Tabelle \nMehr Infos
URL:https://tv1881altdorf.de/event/jugend-baseball-altdorf-icesharks-vs-freising-grizzlies-homegame-duplikat
LOCATION:Sportpark Altdorf
CATEGORIES:Baseball,Jugend Baseball Landesliga Nord (U15)
ATTACH;FMTTYPE=image/jpeg:https://tv1881altdorf.de/wp-content/uploads/2025/08/Bildschirmfoto-2025-08-18-um-10.54.01-scaled.jpg
END:VEVENT
BEGIN:VEVENT
DTSTART;TZID=Europe/Berlin:20250920T140000
DTEND;TZID=Europe/Berlin:20250920T153000
DTSTAMP:20260423T051323
CREATED:20250825T210511Z
LAST-MODIFIED:20250920T033510Z
UID:23905-1758376800-1758382200@tv1881altdorf.de
SUMMARY:Bezirksklasse Staffel West TV 1881 Altdorf II vs HSG Pyrbaum/Seligenporten III (24024001)
DESCRIPTION:Bezirk­sklasse Frauen Staffel West\nBegeg­nungs-Nr: 24024001\nHeim: TV 1881 Alt­dorf II\nGast: HSG Pyrbaum/Seligenporten III\nHalle: Alt­dorf\, Schul­turn­halle Grund­schule (neu) (240000)\nAdresse: Hagen­hausen­er Str. 5\, 90518 Altdorf
URL:https://tv1881altdorf.de/event/bezirksklasse-staffel-west-tv-1881-altdorf-ii-vs-hsg-pyrbaum-seligenporten-iii-24024001
LOCATION:Altdorf\, Schulturnhalle Grundschule (neu) (240000): Hagenhausener Str. 5\, 90518 Altdorf
CATEGORIES:Handball
END:VEVENT
BEGIN:VEVENT
DTSTART;TZID=Europe/Berlin:20250920T150000
DTEND;TZID=Europe/Berlin:20250920T173000
DTSTAMP:20260423T051323
CREATED:20250818T085743Z
LAST-MODIFIED:20250818T093200Z
UID:23743-1758380400-1758389400@tv1881altdorf.de
SUMMARY:Schüler Coach Pitch Nord (U10) – Altdorf Little Icesharks vs. Laufer Wölfe – Homegame in Altdorf
DESCRIPTION:Play Ball – im Sportpark! \nAm Sam­stag\, den 20. Sep­tem­ber ab 15.00 Uhr emp­fan­gen die Alt­dorf Lit­tle Ice­sharks die Laufer Wölfe. In der Schüler Coach Pitch Liga wer­den 5 Innings gespielt oder mit max­i­malem Zeitlim­it von 1 Stunde. Eine Tabelle wird bei den Kids nicht geführt. Spaß für alle garantiert – auf und neben dem Platz. \nSpielplan 2025 \nMehr Infos
URL:https://tv1881altdorf.de/event/jugend-baseball-altdorf-icesharks-vs-freising-grizzlies-homegame-duplikat-duplikat-duplikat-duplikat
LOCATION:Sportpark Altdorf
CATEGORIES:Baseball,Schüler Coach Pitch Nord (U10)
ATTACH;FMTTYPE=image/jpeg:https://tv1881altdorf.de/wp-content/uploads/2025/08/IMG_5348_mod02_Website-scaled.jpg
END:VEVENT
BEGIN:VEVENT
DTSTART;TZID=Europe/Berlin:20250920T160000
DTEND;TZID=Europe/Berlin:20250920T173000
DTSTAMP:20260423T051323
CREATED:20250825T210512Z
LAST-MODIFIED:20250925T085937Z
UID:23906-1758384000-1758389400@tv1881altdorf.de
SUMMARY:Handball: Bezirksoberliga TV 1881 Altdorf vs HV Oberviechtach (24022001)
DESCRIPTION:Bezirk­soberli­ga Frauen\nBegeg­nungs-Nr: 24022001\nHeim: TV 1881 Altdorf\nGast: HV Oberviechtach\nHalle: Alt­dorf\, Schul­turn­halle Grund­schule (neu) (240000)\nAdresse: Hagen­hausen­er Str. 5\, 90518 Altdorf
URL:https://tv1881altdorf.de/event/bezirksoberliga-tv-1881-altdorf-vs-hv-oberviechtach-24022001
LOCATION:Altdorf\, Schulturnhalle Grundschule (neu) (240000): Hagenhausener Str. 5\, 90518 Altdorf
CATEGORIES:Handball
END:VEVENT
BEGIN:VEVENT
DTSTART;TZID=Europe/Berlin:20250920T180000
DTEND;TZID=Europe/Berlin:20250920T193000
DTSTAMP:20260423T051323
CREATED:20250825T210512Z
LAST-MODIFIED:20250925T085934Z
UID:23907-1758391200-1758396600@tv1881altdorf.de
SUMMARY:Handball: Bezirksoberliga TV 1881 Altdorf vs HV Oberviechtach (24012002)
DESCRIPTION:Bezirk­soberli­ga Männer\nBegeg­nungs-Nr: 24012002\nHeim: TV 1881 Altdorf\nGast: HV Oberviechtach\nHalle: Alt­dorf\, Schul­turn­halle Grund­schule (neu) (240000)\nAdresse: Hagen­hausen­er Str. 5\, 90518 Altdorf
URL:https://tv1881altdorf.de/event/bezirksoberliga-tv-1881-altdorf-vs-hv-oberviechtach-24012002
LOCATION:Altdorf\, Schulturnhalle Grundschule (neu) (240000): Hagenhausener Str. 5\, 90518 Altdorf
CATEGORIES:Handball
END:VEVENT
END:VCALENDAR