BEGIN:VCALENDAR
VERSION:2.0
PRODID:-//TV 1881 Altdorf e.V. - ECPv6.15.20//NONSGML v1.0//EN
CALSCALE:GREGORIAN
METHOD:PUBLISH
X-ORIGINAL-URL:https://tv1881altdorf.de
X-WR-CALDESC:Veranstaltungen für TV 1881 Altdorf e.V.
REFRESH-INTERVAL;VALUE=DURATION:PT1H
X-Robots-Tag:noindex
X-PUBLISHED-TTL:PT1H
BEGIN:VTIMEZONE
TZID:Europe/Berlin
BEGIN:DAYLIGHT
TZOFFSETFROM:+0100
TZOFFSETTO:+0200
TZNAME:CEST
DTSTART:20240331T010000
END:DAYLIGHT
BEGIN:STANDARD
TZOFFSETFROM:+0200
TZOFFSETTO:+0100
TZNAME:CET
DTSTART:20241027T010000
END:STANDARD
BEGIN:DAYLIGHT
TZOFFSETFROM:+0100
TZOFFSETTO:+0200
TZNAME:CEST
DTSTART:20250330T010000
END:DAYLIGHT
BEGIN:STANDARD
TZOFFSETFROM:+0200
TZOFFSETTO:+0100
TZNAME:CET
DTSTART:20251026T010000
END:STANDARD
BEGIN:DAYLIGHT
TZOFFSETFROM:+0100
TZOFFSETTO:+0200
TZNAME:CEST
DTSTART:20260329T010000
END:DAYLIGHT
BEGIN:STANDARD
TZOFFSETFROM:+0200
TZOFFSETTO:+0100
TZNAME:CET
DTSTART:20261025T010000
END:STANDARD
END:VTIMEZONE
BEGIN:VEVENT
DTSTART;TZID=Europe/Berlin:20251025T000000
DTEND;TZID=Europe/Berlin:20251025T020000
DTSTAMP:20260423T034032
CREATED:20250915T100147Z
LAST-MODIFIED:20250915T100457Z
UID:24483-1761350400-1761357600@tv1881altdorf.de
SUMMARY:TSV 1946 Altenberg 2-TV 1881 Altdorf H2
DESCRIPTION:
URL:https://tv1881altdorf.de/event/tsv-1946-altenberg-2-tv-1881-altdorf-h2
LOCATION:Schulstr. 2\, 90522\, Oberasbach
CATEGORIES:Basketball,BB - Kreisliga Herren 2
END:VEVENT
BEGIN:VEVENT
DTSTART;TZID=Europe/Berlin:20251025T093000
DTEND;TZID=Europe/Berlin:20251025T130000
DTSTAMP:20260423T034032
CREATED:20250926T110043Z
LAST-MODIFIED:20250926T110043Z
UID:25097-1761384600-1761397200@tv1881altdorf.de
SUMMARY:Arbeitsdienst
DESCRIPTION:Laubent­fer­nung\nHecke schnei­den\nGrü­nar­beit­en\nEntrüm­pelung
URL:https://tv1881altdorf.de/event/arbeitsdienst
CATEGORIES:Allgemein,Öffentlich
END:VEVENT
BEGIN:VEVENT
DTSTART;TZID=Europe/Berlin:20251025T103000
DTEND;TZID=Europe/Berlin:20251025T140000
DTSTAMP:20260423T034032
CREATED:20250818T084836Z
LAST-MODIFIED:20250821T105641Z
UID:23736-1761388200-1761400800@tv1881altdorf.de
SUMMARY:Jugend Baseball Landesliga Nord (U15) – Altdorf Icesharks vs. Fürth Pirates – Homegame in Altdorf
DESCRIPTION:Play Ball – im Sportpark! \nAm Sam­stag\, den 25. Okto­ber ab 10.30 Uhr emp­fan­gen die Alt­dorf Ice­sharks die Fürth Pirates. In der Jugend Base­ball Lan­desli­ga wer­den Dou­ble Head­er gespielt – zwei Spiele hin­tere­inan­der. Ein Spiel wird über 5 Innings gespielt oder mit max­i­malem Zeitlim­it von 1\,5 Stunden. \nSpielplan 2025 Rückrunde \naktuelle Tabelle \nMehr Infos
URL:https://tv1881altdorf.de/event/jugend-baseball-altdorf-icesharks-vs-freising-grizzlies-homegame-duplikat-duplikat-duplikat
LOCATION:Sportpark Altdorf
CATEGORIES:Baseball,Jugend Baseball Landesliga Nord (U15)
ATTACH;FMTTYPE=image/jpeg:https://tv1881altdorf.de/wp-content/uploads/2025/08/Bildschirmfoto-2025-08-18-um-10.31.57-scaled.jpg
END:VEVENT
BEGIN:VEVENT
DTSTART;TZID=Europe/Berlin:20251025T110000
DTEND;TZID=Europe/Berlin:20251025T120000
DTSTAMP:20260423T034032
CREATED:20250926T115027Z
LAST-MODIFIED:20251024T190513Z
UID:25143-1761390000-1761393600@tv1881altdorf.de
SUMMARY:Volleyball D3 (A) - TS Herzogenaurach & VC Katzwang-Schwabach
DESCRIPTION:
URL:https://tv1881altdorf.de/event/volleyball-d3-a-ts-herzogenaurach-vc-katzwang-schwabach
CATEGORIES:Volleyball
END:VEVENT
BEGIN:VEVENT
DTSTART;TZID=Europe/Berlin:20251025T120000
DTEND;TZID=Europe/Berlin:20251025T140000
DTSTAMP:20260423T034032
CREATED:20250915T115528Z
LAST-MODIFIED:20250915T115746Z
UID:24602-1761393600-1761400800@tv1881altdorf.de
SUMMARY:TuSpo Noris Baskets-TV 1881 Altdorf U12
DESCRIPTION:
URL:https://tv1881altdorf.de/event/tuspo-noris-baskets-tv-1881-altdorf-u12
LOCATION:Hufelandstr. 2\, 90419\, Nürnberg
CATEGORIES:Basketball,BB - U12 mix Bezirksliga Süd
END:VEVENT
BEGIN:VEVENT
DTSTART;TZID=Europe/Berlin:20251025T140000
DTEND;TZID=Europe/Berlin:20251025T153000
DTSTAMP:20260423T034032
CREATED:20250825T210525Z
LAST-MODIFIED:20251025T122012Z
UID:23926-1761400800-1761406200@tv1881altdorf.de
SUMMARY:Bezirksklasse Staffel West TV 1881 Altdorf II vs DJK SV Berg (24024014)
DESCRIPTION:Bezirk­sklasse Frauen Staffel West\nBegeg­nungs-Nr: 24024014\nHeim: TV 1881 Alt­dorf II\nGast: DJK SV Berg\nHalle: Alt­dorf\, Schul­turn­halle Grund­schule (neu) (240000)\nAdresse: Hagen­hausen­er Str. 5\, 90518 Altdorf
URL:https://tv1881altdorf.de/event/bezirksklasse-staffel-west-tv-1881-altdorf-ii-vs-djk-sv-berg-24024014
LOCATION:Altdorf\, Schulturnhalle Grundschule (neu) (240000): Hagenhausener Str. 5\, 90518 Altdorf
CATEGORIES:Handball
END:VEVENT
BEGIN:VEVENT
DTSTART;TZID=Europe/Berlin:20251025T160000
DTEND;TZID=Europe/Berlin:20251025T173000
DTSTAMP:20260423T034032
CREATED:20250825T210526Z
LAST-MODIFIED:20251025T122013Z
UID:23927-1761408000-1761413400@tv1881altdorf.de
SUMMARY:Bezirksoberliga TV 1881 Altdorf vs HSG SGS Erl/HC Niederl (24012032)
DESCRIPTION:Bezirk­soberli­ga Männer\nBegeg­nungs-Nr: 24012032\nHeim: TV 1881 Altdorf\nGast: HSG SGS Erl/HC Niederl\nHalle: Alt­dorf\, Schul­turn­halle Grund­schule (neu) (240000)\nAdresse: Hagen­hausen­er Str. 5\, 90518 Altdorf
URL:https://tv1881altdorf.de/event/bezirksoberliga-tv-1881-altdorf-vs-hsg-sgs-erl-hc-niederl-24012032
LOCATION:Altdorf\, Schulturnhalle Grundschule (neu) (240000): Hagenhausener Str. 5\, 90518 Altdorf
CATEGORIES:Handball
END:VEVENT
BEGIN:VEVENT
DTSTART;TZID=Europe/Berlin:20251025T180000
DTEND;TZID=Europe/Berlin:20251025T193000
DTSTAMP:20260423T034032
CREATED:20250825T210527Z
LAST-MODIFIED:20251025T122015Z
UID:23928-1761415200-1761420600@tv1881altdorf.de
SUMMARY:Bezirksliga Staffel West TV 1881 Altdorf II vs TV 1861 Erlangen-Bruck III (24013015)
DESCRIPTION:Bezirk­sli­ga Män­ner Staffel West\nBegeg­nungs-Nr: 24013015\nHeim: TV 1881 Alt­dorf II\nGast: TV 1861 Erlan­gen-Bruck III\nHalle: Alt­dorf\, Schul­turn­halle Grund­schule (neu) (240000)\nAdresse: Hagen­hausen­er Str. 5\, 90518 Altdorf
URL:https://tv1881altdorf.de/event/bezirksliga-staffel-west-tv-1881-altdorf-ii-vs-tv-1861-erlangen-bruck-iii-24013015
LOCATION:Altdorf\, Schulturnhalle Grundschule (neu) (240000): Hagenhausener Str. 5\, 90518 Altdorf
CATEGORIES:Handball
END:VEVENT
BEGIN:VEVENT
DTSTART;TZID=Europe/Berlin:20251025T193000
DTEND;TZID=Europe/Berlin:20251025T213000
DTSTAMP:20260423T034032
CREATED:20250915T093535Z
LAST-MODIFIED:20250915T100025Z
UID:24441-1761420600-1761427800@tv1881altdorf.de
SUMMARY:TV 1877 Lauf-TV 1881 Altdorf H1
DESCRIPTION:
URL:https://tv1881altdorf.de/event/tv-1877-lauf-tv-1881-altdorf-h1
LOCATION:Am Haberloh\, 91207\, Lauf a.d.Pegnitz
CATEGORIES:Basketball,BB - Bezirksoberliga Herren
END:VEVENT
END:VCALENDAR